PDS_VERSION_ID = PDS3
/* FILE DATA ELEMENTS */
RECORD_TYPE = UNDEFINED
/* POINTERS TO DATA OBJECTS */
^IMAGE = ("H9323_0000_P24.TIF")
/* IDENTIFICATION DATA ELEMENTS */
DATA_SET_ID = "MEX-M-HRSC-4-REFDR-MAPPROJECT-EXT3-V4.0"
DATA_SET_NAME = "MARS EXPRESS HRSC MAP PROJECTED REFDR EXTENSION3 V4.0"
DETECTOR_ID = MEX_HRSC_P2
EVENT_TYPE = "MARS-REGIONAL-MAPPING-Vo-Te-Im"
INSTRUMENT_HOST_ID = MEX
INSTRUMENT_HOST_NAME = "MARS EXPRESS"
INSTRUMENT_ID = HRSC
INSTRUMENT_NAME = "HIGH RESOLUTION STEREO CAMERA"
MISSION_NAME = "MARS EXPRESS"
MISSION_PHASE_NAME = ME_Phase_23
PROCESSING_LEVEL_ID = 4
PRODUCT_CREATION_TIME = 2023-02-04T05:05:37.000Z
PRODUCT_ID = "H9323_0000_P24.TIF"
RELEASE_ID = 0006
REVISION_ID = 0000
/* QUALITY DATA ELEMENTS */
DATA_QUALITY_ID = 1
DATA_QUALITY_DESC = "Data calculated based on original SPICE kernels"
/* TIME DATA ELEMENTS */
SPACECRAFT_CLOCK_START_COUNT = "1/0251445438.09071"
SPACECRAFT_CLOCK_STOP_COUNT = "1/0251445666.41271"
START_TIME = 2011-04-21T05:58:12.987Z
STOP_TIME = 2011-04-21T06:00:54.354Z
/* ORBITAL DATA ELEMENTS */
ASCENDING_NODE_LONGITUDE = 39.25
MAXIMUM_RESOLUTION = 0.0578
FOOTPRINT_POINT_LATITUDE = (6.86755,6.87723,6.88739,6.90148, 6.90182,6.89828,6.70823,6.51812,6.32802 ,6.13812,5.94844,5.75889,5.56942, 5.38008,5.09619,4.9072,4.718,4.52912, 4.15192,3.77532,3.58665,3.39716,3.20819 ,3.01954,2.6429,2.26681,1.89219,1.5884, 1.36572,1.14338,0.811301,0.589579, 0.366423,0.145758,-0.0757848,-0.297011, -0.627254,-0.847394,-1.06746,-1.28724, -1.50672,-1.83453,-2.05508,-2.27405, -2.49262,-2.71085,-2.9288,-3.14125, -3.24257,-3.25615,-3.26688,-3.26989, -3.28467,-3.28432,-3.28464,-3.285, -3.08095,-2.87016,-2.65208,-2.43352, -2.2147,-1.99537,-1.77661,-1.55739, -1.22817,-1.00839,-0.677698,-0.457115, -0.23647,-0.0154602,0.205388,0.428094, 0.760534,0.982762,1.20516,1.42813,1.752 ,2.12701,2.50269,2.8799,3.25689,3.44551 ,3.63468,3.82375,4.20078,4.38955, 4.57828,4.76717,4.95624,5.14557,5.33492 ,5.52424,5.80864,5.99836,6.18812, 6.37802,6.56796,6.75802,6.85307, 6.86755)
FOOTPRINT_POINT_LONGITUDE = (288.231,287.864,287.494,287.0,286.988, 286.987,286.985,286.984,286.982,286.981 ,286.979,286.977,286.975,286.973, 286.971,286.969,286.967,286.965,286.96, 286.956,286.954,286.953,286.951,286.949 ,286.945,286.941,286.936,286.932, 286.929,286.925,286.919,286.915,286.913 ,286.908,286.905,286.901,286.895,286.89 ,286.886,286.882,286.878,286.87,286.867 ,286.863,286.858,286.854,286.849,286.84 ,286.832,286.832,287.201,287.54,287.828 ,288.216,288.229,288.233,288.23,288.229 ,288.228,288.227,288.227,288.226, 288.226,288.225,288.225,288.224,288.224 ,288.223,288.223,288.223,288.223, 288.222,288.222,288.222,288.222,288.222 ,288.222,288.222,288.223,288.223, 288.224,288.224,288.224,288.224,288.225 ,288.225,288.226,288.226,288.226, 288.227,288.227,288.227,288.228,288.229 ,288.229,288.23,288.23,288.231,288.231, 288.231)
ORBIT_NUMBER = 9323
ORBITAL_ECCENTRICITY = 0.578
ORBITAL_INCLINATION = 86.85
ORBITAL_SEMIMAJOR_AXIS = 8858.6
PERIAPSIS_ALTITUDE = 344.98
PERIAPSIS_ARGUMENT_ANGLE = 168.81
PERIAPSIS_TIME = 2011-04-21T05:56:45.000Z
SPACECRAFT_ORIENTATION = (0.0,-1.0,0.0)
^MEX_ORIENTATION_DESC = "MEX_ORIENTATION_DESC.TXT"
SPACECRAFT_POINTING_MODE = ACROSSTRACK
^MEX_POINTING_DESC = "MEX_POINTING_DESC.TXT"
RIGHT_ASCENSION = -1e+32
DECLINATION = -1e+32
OFFSET_ANGLE = -0.5
SPACECRAFT_SOLAR_DISTANCE = 2.08581e+08
TARGET_NAME = MARS
/* CAMERA DATA ELEMENTS */
DETECTOR_TEMPERATURE = 18.5744
FOCAL_PLANE_TEMPERATURE = 8.3794
INST_CMPRS_NAME = "DISCRETE COSINE TRANSFORMATION (DCT)"
INST_CMPRS_RATIO = 8.72709
INST_CMPRS_QUALITY = 0
INST_CMPRS_QUANTZ_TBL_ID = 0
INSTRUMENT_TEMPERATURE = 11.234
LENS_TEMPERATURE = 8.9911
MACROPIXEL_SIZE = 4
MISSING_FRAMES = 0
PIXEL_SUBSAMPLING_FLAG = N
SIGNAL_CHAIN_ID = 3
/* RADIOMETRIC DATA ELEMENTS */
BANDWIDTH = 177.0
CENTER_FILTER_WAVELENGTH = 676.5
RADIANCE_OFFSET = 2.23637
RADIANCE_SCALING_FACTOR = 0.0142747
REFLECTANCE_SCALING_FACTOR = 0.000329288
MEX:REFLECTANCE_OFFSET = 0.0515885
/* IMAGE OBJECT DEFINITIONS */
OBJECT = IMAGE
  INTERCHANGE_FORMAT = BINARY
  LINES = 12050
  LINE_SAMPLES = 1639
  SAMPLE_TYPE = UNSIGNED_INTEGER
  SAMPLE_BITS = 8
  BANDS = 1
  BAND_STORAGE_TYPE = BAND_SEQUENTIAL
  MAXIMUM = 255
  MEAN = 64.135
  MINIMUM = 1
  STANDARD_DEVIATION = 24.9267
END_OBJECT = IMAGE
/* MAP OBJECT DEFINITIONS */
OBJECT = IMAGE_MAP_PROJECTION
  ^DATA_SET_MAP_PROJECTION_CATALOG= "DSMAP.CAT"
  A_AXIS_RADIUS = 3396.0
  B_AXIS_RADIUS = 3396.0
  C_AXIS_RADIUS = 3396.0
  CENTER_LATITUDE = 0.0
  CENTER_LONGITUDE = 288.0
  COORDINATE_SYSTEM_NAME = PLANETOGRAPHIC
  COORDINATE_SYSTEM_TYPE = "BODY-FIXED ROTATING"
  EASTERNMOST_LONGITUDE = 288.233
  FIRST_STANDARD_PARALLEL = "N/A"
  LINE_FIRST_PIXEL = 1
  LINE_LAST_PIXEL = 12050
  LINE_PROJECTION_OFFSET = 8171.625
  MAP_PROJECTION_ROTATION = 0.0
  MAP_PROJECTION_TYPE = SINUSOIDAL
  MAP_RESOLUTION = 1185.42760773333
  MAP_SCALE = 0.05
  MAXIMUM_LATITUDE = 6.90182
  MINIMUM_LATITUDE = -3.285
  POSITIVE_LONGITUDE_DIRECTION = EAST
  REFERENCE_LATITUDE = "N/A"
  REFERENCE_LONGITUDE = "N/A"
  SAMPLE_FIRST_PIXEL = 1
  SAMPLE_LAST_PIXEL = 1639
  SAMPLE_PROJECTION_OFFSET = 1372.375
  SECOND_STANDARD_PARALLEL = "N/A"
  WESTERNMOST_LONGITUDE = 286.832
END_OBJECT = IMAGE_MAP_PROJECTION
END
