PDS_VERSION_ID = PDS3
/* FILE DATA ELEMENTS */
RECORD_TYPE = UNDEFINED
/* POINTERS TO DATA OBJECTS */
^IMAGE = ("H9323_0000_BL4.TIF")
/* IDENTIFICATION DATA ELEMENTS */
DATA_SET_ID = "MEX-M-HRSC-4-REFDR-MAPPROJECT-EXT3-V4.0"
DATA_SET_NAME = "MARS EXPRESS HRSC MAP PROJECTED REFDR EXTENSION3 V4.0"
DETECTOR_ID = MEX_HRSC_BLUE
EVENT_TYPE = "MARS-REGIONAL-MAPPING-Vo-Te-Im"
INSTRUMENT_HOST_ID = MEX
INSTRUMENT_HOST_NAME = "MARS EXPRESS"
INSTRUMENT_ID = HRSC
INSTRUMENT_NAME = "HIGH RESOLUTION STEREO CAMERA"
MISSION_NAME = "MARS EXPRESS"
MISSION_PHASE_NAME = ME_Phase_23
PROCESSING_LEVEL_ID = 4
PRODUCT_CREATION_TIME = 2023-02-04T05:05:37.000Z
PRODUCT_ID = "H9323_0000_BL4.TIF"
RELEASE_ID = 0006
REVISION_ID = 0000
/* QUALITY DATA ELEMENTS */
DATA_QUALITY_ID = 1
DATA_QUALITY_DESC = "Data calculated based on original SPICE kernels"
/* TIME DATA ELEMENTS */
SPACECRAFT_CLOCK_START_COUNT = "1/0251445438.09071"
SPACECRAFT_CLOCK_STOP_COUNT = "1/0251445666.41271"
START_TIME = 2011-04-21T05:57:57.319Z
STOP_TIME = 2011-04-21T06:00:36.144Z
/* ORBITAL DATA ELEMENTS */
ASCENDING_NODE_LONGITUDE = 39.25
MAXIMUM_RESOLUTION = 0.1116
FOOTPRINT_POINT_LATITUDE = (6.88581,6.89034,6.89474,6.90018, 6.90032,6.898,6.70624,6.51464,6.32306, 6.13153,5.94012,5.74874,5.55744,5.36619 ,5.17498,4.9839,4.69729,4.50636,4.3155, 4.12473,3.93403,3.7434,3.55254,3.36182, 3.17114,2.98061,2.59981,2.31451,1.93456 ,1.55513,1.17624,0.798183,0.595922, 0.369571,0.144342,-0.0809147,-0.306134, -0.530932,-0.755643,-0.980246,-1.20468, -1.42895,-1.76472,-1.98897,-2.21272, -2.43623,-2.65954,-2.88266,-3.10521, -3.21335,-3.25632,-3.26094,-3.26877, -3.27365,-3.27383,-3.27262,-3.0547, -2.83225,-2.60897,-2.38546,-2.16165, -1.93786,-1.71395,-1.48984,-1.26555, -1.04108,-0.816368,-0.591509,-0.366499, -0.0287285,0.309266,0.534969,0.744474, 1.12321,1.50241,1.88215,2.26223,2.5477, 2.9286,3.11916,3.3099,3.5959,3.78688, 3.97778,4.16861,4.35951,4.55049,4.74153 ,4.93265,5.12386,5.31514,5.50647, 5.79359,5.98507,6.17662,6.36822,6.55986 ,6.75155,6.84743,6.88581)
FOOTPRINT_POINT_LONGITUDE = (288.227,287.865,287.499,287.022, 287.011,287.007,287.006,287.004,287.003 ,287.001,287.0,286.998,286.996,286.995, 286.993,286.991,286.989,286.987,286.985 ,286.983,286.981,286.978,286.977, 286.976,286.974,286.973,286.969,286.966 ,286.962,286.957,286.951,286.944, 286.941,286.939,286.935,286.932,286.928 ,286.924,286.92,286.916,286.912,286.908 ,286.901,286.898,286.894,286.89,286.885 ,286.881,286.875,286.864,286.861, 287.169,287.718,288.199,288.211,288.219 ,288.217,288.216,288.216,288.215, 288.215,288.215,288.214,288.214,288.214 ,288.213,288.213,288.213,288.213, 288.213,288.213,288.213,288.213,288.213 ,288.214,288.214,288.215,288.215, 288.216,288.216,288.217,288.217,288.218 ,288.218,288.219,288.219,288.22,288.22, 288.221,288.221,288.222,288.222,288.223 ,288.224,288.224,288.225,288.226, 288.226,288.227,288.227)
ORBIT_NUMBER = 9323
ORBITAL_ECCENTRICITY = 0.578
ORBITAL_INCLINATION = 86.85
ORBITAL_SEMIMAJOR_AXIS = 8858.6
PERIAPSIS_ALTITUDE = 344.98
PERIAPSIS_ARGUMENT_ANGLE = 168.81
PERIAPSIS_TIME = 2011-04-21T05:56:45.000Z
SPACECRAFT_ORIENTATION = (0.0,-1.0,0.0)
^MEX_ORIENTATION_DESC = "MEX_ORIENTATION_DESC.TXT"
SPACECRAFT_POINTING_MODE = ACROSSTRACK
^MEX_POINTING_DESC = "MEX_POINTING_DESC.TXT"
RIGHT_ASCENSION = -1e+32
DECLINATION = -1e+32
OFFSET_ANGLE = -0.5
SPACECRAFT_SOLAR_DISTANCE = 2.08581e+08
TARGET_NAME = MARS
/* CAMERA DATA ELEMENTS */
DETECTOR_TEMPERATURE = 18.3705
FOCAL_PLANE_TEMPERATURE = 8.3794
INST_CMPRS_NAME = "DISCRETE COSINE TRANSFORMATION (DCT)"
INST_CMPRS_RATIO = 12.7235
INST_CMPRS_QUALITY = 0
INST_CMPRS_QUANTZ_TBL_ID = 0
INSTRUMENT_TEMPERATURE = 11.234
LENS_TEMPERATURE = 8.9911
MACROPIXEL_SIZE = 8
MISSING_FRAMES = 0
PIXEL_SUBSAMPLING_FLAG = N
SIGNAL_CHAIN_ID = 2
/* RADIOMETRIC DATA ELEMENTS */
BANDWIDTH = 76.0
CENTER_FILTER_WAVELENGTH = 444.0
RADIANCE_OFFSET = 0.355012
RADIANCE_SCALING_FACTOR = 0.00153142
REFLECTANCE_SCALING_FACTOR = 6.84548e-05
MEX:REFLECTANCE_OFFSET = 0.0158691
/* IMAGE OBJECT DEFINITIONS */
OBJECT = IMAGE
  INTERCHANGE_FORMAT = BINARY
  LINES = 6025
  LINE_SAMPLES = 820
  SAMPLE_TYPE = UNSIGNED_INTEGER
  SAMPLE_BITS = 8
  BANDS = 1
  BAND_STORAGE_TYPE = BAND_SEQUENTIAL
  MAXIMUM = 255
  MEAN = 73.4335
  MINIMUM = 1
  STANDARD_DEVIATION = 25.9284
END_OBJECT = IMAGE
/* MAP OBJECT DEFINITIONS */
OBJECT = IMAGE_MAP_PROJECTION
  ^DATA_SET_MAP_PROJECTION_CATALOG= "DSMAP.CAT"
  A_AXIS_RADIUS = 3396.0
  B_AXIS_RADIUS = 3396.0
  C_AXIS_RADIUS = 3396.0
  CENTER_LATITUDE = 0.0
  CENTER_LONGITUDE = 288.0
  COORDINATE_SYSTEM_NAME = PLANETOGRAPHIC
  COORDINATE_SYSTEM_TYPE = "BODY-FIXED ROTATING"
  EASTERNMOST_LONGITUDE = 288.227
  FIRST_STANDARD_PARALLEL = "N/A"
  LINE_FIRST_PIXEL = 1
  LINE_LAST_PIXEL = 6025
  LINE_PROJECTION_OFFSET = 4085.5625
  MAP_PROJECTION_ROTATION = 0.0
  MAP_PROJECTION_TYPE = SINUSOIDAL
  MAP_RESOLUTION = 592.713803866667
  MAP_SCALE = 0.1
  MAXIMUM_LATITUDE = 6.90032
  MINIMUM_LATITUDE = -3.27383
  POSITIVE_LONGITUDE_DIRECTION = EAST
  REFERENCE_LATITUDE = "N/A"
  REFERENCE_LONGITUDE = "N/A"
  SAMPLE_FIRST_PIXEL = 1
  SAMPLE_LAST_PIXEL = 820
  SAMPLE_PROJECTION_OFFSET = 685.9375
  SECOND_STANDARD_PARALLEL = "N/A"
  WESTERNMOST_LONGITUDE = 286.861
END_OBJECT = IMAGE_MAP_PROJECTION
END
