PDS_VERSION_ID = PDS3
/* FILE DATA ELEMENTS */
RECORD_TYPE = UNDEFINED
/* POINTERS TO DATA OBJECTS */
^IMAGE = ("H9319_0000_IR4.TIF")
/* IDENTIFICATION DATA ELEMENTS */
DATA_SET_ID = "MEX-M-HRSC-4-REFDR-MAPPROJECT-EXT3-V4.0"
DATA_SET_NAME = "MARS EXPRESS HRSC MAP PROJECTED REFDR EXTENSION3 V4.0"
DETECTOR_ID = MEX_HRSC_IR
EVENT_TYPE = "MARS-REGIONAL-MAPPING-Im-Fl"
INSTRUMENT_HOST_ID = MEX
INSTRUMENT_HOST_NAME = "MARS EXPRESS"
INSTRUMENT_ID = HRSC
INSTRUMENT_NAME = "HIGH RESOLUTION STEREO CAMERA"
MISSION_NAME = "MARS EXPRESS"
MISSION_PHASE_NAME = ME_Phase_23
PROCESSING_LEVEL_ID = 4
PRODUCT_CREATION_TIME = 2023-02-04T05:05:37.000Z
PRODUCT_ID = "H9319_0000_IR4.TIF"
RELEASE_ID = 0006
REVISION_ID = 0000
/* QUALITY DATA ELEMENTS */
DATA_QUALITY_ID = 1
DATA_QUALITY_DESC = "Data calculated based on original SPICE kernels"
/* TIME DATA ELEMENTS */
SPACECRAFT_CLOCK_START_COUNT = "1/0251345058.09044"
SPACECRAFT_CLOCK_STOP_COUNT = "1/0251345465.36729"
START_TIME = 2011-04-20T02:04:28.319Z
STOP_TIME = 2011-04-20T02:08:31.766Z
/* ORBITAL DATA ELEMENTS */
ASCENDING_NODE_LONGITUDE = 39.33
MAXIMUM_RESOLUTION = 0.0792
FOOTPRINT_POINT_LATITUDE = (-16.0282,-16.0225,-16.0157,-16.0111, -16.011,-16.0274,-16.8019,-17.3273, -17.8546,-18.2588,-18.7955,-19.0701, -19.344,-19.7589,-20.0385,-20.3168, -20.7404,-21.1687,-21.4591,-21.7436, -22.0326,-22.4731,-22.7666,-23.0662, -23.3642,-23.8169,-24.2726,-24.5791, -24.888,-25.2005,-25.5209,-25.8309, -26.1478,-26.4695,-26.9534,-27.2792, -27.6146,-27.9393,-28.275,-28.6095, -28.9486,-29.2891,-29.6336,-29.9812, -30.5073,-30.8609,-31.0394,-31.1156, -31.1197,-31.124,-31.1261,-31.1278, -31.1279,-31.1277,-31.1259,-30.5938, -30.242,-29.8937,-29.3749,-29.0378, -28.6939,-28.3604,-28.023,-27.6927, -27.3626,-27.0375,-26.712,-26.3907, -26.0702,-25.7547,-25.4368,-25.1244, -24.6593,-24.3514,-24.0452,-23.7423, -23.2901,-22.9923,-22.6951,-22.4013, -22.1069,-21.8211,-21.5331,-21.2448, -20.9606,-20.6776,-20.3945,-20.1159, -19.8369,-19.4214,-19.011,-18.7376, -18.4719,-18.201,-17.6662,-17.1384, -16.6186,-16.2304,-16.1011,-16.0282)
FOOTPRINT_POINT_LONGITUDE = (338.015,337.457,336.787,336.325, 336.309,336.299,336.276,336.259,336.242 ,336.228,336.211,336.201,336.192, 336.177,336.167,336.158,336.143,336.126 ,336.115,336.106,336.095,336.079, 336.068,336.056,336.044,336.027,336.009 ,335.998,335.985,335.972,335.956, 335.946,335.933,335.919,335.899,335.885 ,335.868,335.856,335.84,335.826,335.81, 335.795,335.779,335.763,335.737,335.72, 335.711,335.708,336.143,336.682,337.092 ,337.864,338.43,338.456,338.464,338.439 ,338.423,338.408,338.385,338.372, 338.357,338.344,338.33,338.317,338.305, 338.293,338.281,338.27,338.259,338.249, 338.238,338.228,338.213,338.204,338.195 ,338.186,338.173,338.165,338.157, 338.149,338.142,338.136,338.129,338.123 ,338.116,338.11,338.103,338.097,338.091 ,338.082,338.074,338.069,338.065, 338.059,338.049,338.04,338.031,338.025, 338.023,338.015)
ORBIT_NUMBER = 9319
ORBITAL_ECCENTRICITY = 0.577
ORBITAL_INCLINATION = 86.86
ORBITAL_SEMIMAJOR_AXIS = 8850.67
PERIAPSIS_ALTITUDE = 345.03
PERIAPSIS_ARGUMENT_ANGLE = 169.47
PERIAPSIS_TIME = 2011-04-20T01:58:06.000Z
SPACECRAFT_ORIENTATION = (0.0,-1.0,0.0)
^MEX_ORIENTATION_DESC = "MEX_ORIENTATION_DESC.TXT"
SPACECRAFT_POINTING_MODE = ACROSSTRACK
^MEX_POINTING_DESC = "MEX_POINTING_DESC.TXT"
RIGHT_ASCENSION = -1e+32
DECLINATION = -1e+32
OFFSET_ANGLE = 0.05
SPACECRAFT_SOLAR_DISTANCE = 2.08479e+08
TARGET_NAME = MARS
/* CAMERA DATA ELEMENTS */
DETECTOR_TEMPERATURE = 17.5549
FOCAL_PLANE_TEMPERATURE = 8.3794
INST_CMPRS_NAME = "DISCRETE COSINE TRANSFORMATION (DCT)"
INST_CMPRS_RATIO = 15.5912
INST_CMPRS_QUALITY = 0
INST_CMPRS_QUANTZ_TBL_ID = 0
INSTRUMENT_TEMPERATURE = 11.234
LENS_TEMPERATURE = 10.0106
MACROPIXEL_SIZE = 4
MISSING_FRAMES = 0
PIXEL_SUBSAMPLING_FLAG = N
SIGNAL_CHAIN_ID = 2
/* RADIOMETRIC DATA ELEMENTS */
BANDWIDTH = 81.0
CENTER_FILTER_WAVELENGTH = 955.5
RADIANCE_OFFSET = 0.528279
RADIANCE_SCALING_FACTOR = 0.00240992
REFLECTANCE_SCALING_FACTOR = 0.000225973
MEX:REFLECTANCE_OFFSET = 0.0495356
/* IMAGE OBJECT DEFINITIONS */
OBJECT = IMAGE
  INTERCHANGE_FORMAT = BINARY
  LINES = 8959
  LINE_SAMPLES = 1520
  SAMPLE_TYPE = UNSIGNED_INTEGER
  SAMPLE_BITS = 8
  BANDS = 1
  BAND_STORAGE_TYPE = BAND_SEQUENTIAL
  MAXIMUM = 255
  MEAN = 94.423
  MINIMUM = 2
  STANDARD_DEVIATION = 28.0419
END_OBJECT = IMAGE
/* MAP OBJECT DEFINITIONS */
OBJECT = IMAGE_MAP_PROJECTION
  ^DATA_SET_MAP_PROJECTION_CATALOG= "DSMAP.CAT"
  A_AXIS_RADIUS = 3396.0
  B_AXIS_RADIUS = 3396.0
  C_AXIS_RADIUS = 3396.0
  CENTER_LATITUDE = 0.0
  CENTER_LONGITUDE = 337.0
  COORDINATE_SYSTEM_NAME = PLANETOGRAPHIC
  COORDINATE_SYSTEM_TYPE = "BODY-FIXED ROTATING"
  EASTERNMOST_LONGITUDE = 338.464
  FIRST_STANDARD_PARALLEL = "N/A"
  LINE_FIRST_PIXEL = 1
  LINE_LAST_PIXEL = 8959
  LINE_PROJECTION_OFFSET = -9489.875
  MAP_PROJECTION_ROTATION = 0.0
  MAP_PROJECTION_TYPE = SINUSOIDAL
  MAP_RESOLUTION = 592.713803866667
  MAP_SCALE = 0.1
  MAXIMUM_LATITUDE = -16.011
  MINIMUM_LATITUDE = -31.1279
  POSITIVE_LONGITUDE_DIRECTION = EAST
  REFERENCE_LATITUDE = "N/A"
  REFERENCE_LONGITUDE = "N/A"
  SAMPLE_FIRST_PIXEL = 1
  SAMPLE_LAST_PIXEL = 1520
  SAMPLE_PROJECTION_OFFSET = 716.375
  SECOND_STANDARD_PARALLEL = "N/A"
  WESTERNMOST_LONGITUDE = 335.708
END_OBJECT = IMAGE_MAP_PROJECTION
END
