PDS_VERSION_ID = PDS3
/* FILE DATA ELEMENTS */
RECORD_TYPE = UNDEFINED
/* POINTERS TO DATA OBJECTS */
^IMAGE = ("H9313_0000_ND4.TIF")
/* IDENTIFICATION DATA ELEMENTS */
DATA_SET_ID = "MEX-M-HRSC-4-REFDR-MAPPROJECT-EXT3-V4.0"
DATA_SET_NAME = "MARS EXPRESS HRSC MAP PROJECTED REFDR EXTENSION3 V4.0"
DETECTOR_ID = MEX_HRSC_NADIR
EVENT_TYPE = "MARS-LOCAL-STEREO-Vo"
INSTRUMENT_HOST_ID = MEX
INSTRUMENT_HOST_NAME = "MARS EXPRESS"
INSTRUMENT_ID = HRSC
INSTRUMENT_NAME = "HIGH RESOLUTION STEREO CAMERA"
MISSION_NAME = "MARS EXPRESS"
MISSION_PHASE_NAME = ME_Phase_23
PROCESSING_LEVEL_ID = 4
PRODUCT_CREATION_TIME = 2023-02-04T05:05:37.000Z
PRODUCT_ID = "H9313_0000_ND4.TIF"
RELEASE_ID = 0006
REVISION_ID = 0000
/* QUALITY DATA ELEMENTS */
DATA_QUALITY_ID = 1
DATA_QUALITY_DESC = "Data calculated based on original SPICE kernels"
/* TIME DATA ELEMENTS */
SPACECRAFT_CLOCK_START_COUNT = "1/0251193902.09129"
SPACECRAFT_CLOCK_STOP_COUNT = "1/0251194139.33608"
START_TIME = 2011-04-18T08:05:43.787Z
STOP_TIME = 2011-04-18T08:08:02.809Z
/* ORBITAL DATA ELEMENTS */
ASCENDING_NODE_LONGITUDE = 39.45
MAXIMUM_RESOLUTION = 0.0172
FOOTPRINT_POINT_LATITUDE = (-11.2717,-11.2686,-11.267,-11.2647, -11.2617,-11.2599,-11.2597,-11.2604, -11.4941,-11.8052,-12.1993,-12.5172, -12.8345,-13.2362,-13.5601,-13.8834, -14.0469,-14.212,-14.377,-14.5419, -14.7066,-14.8712,-15.039,-15.2071, -15.375,-15.5427,-15.7103,-15.8799, -16.051,-16.2219,-16.3927,-16.5632, -16.7358,-16.9098,-17.0836,-17.2573, -17.4307,-17.6951,-17.8718,-18.0484, -18.2247,-18.4936,-18.6732,-18.8526, -19.0318,-19.2142,-19.3967,-19.5789, -19.67,-19.6755,-19.6783,-19.6819, -19.6844,-19.6857,-19.6862,-19.6864, -19.6864,-19.6861,-19.504,-19.2304, -19.048,-18.8689,-18.6895,-18.51, -18.2411,-18.0648,-17.8883,-17.7116, -17.4472,-17.2738,-17.1002,-16.9265, -16.7525,-16.5798,-16.4093,-16.2386, -16.0677,-15.8967,-15.727,-15.5594, -15.3917,-15.2238,-15.0557,-14.8878, -14.7233,-14.5586,-14.3938,-14.2288, -14.0636,-13.9,-13.5767,-13.2529, -12.9303,-12.6131,-12.2954,-11.8994, -11.5883,-11.3547,-11.2768,-11.2717)
FOOTPRINT_POINT_LONGITUDE = (231.63,231.126,230.897,230.608,230.287 ,230.104,230.089,230.089,230.082, 230.074,230.063,230.054,230.045,230.033 ,230.023,230.014,230.009,230.004, 229.999,229.994,229.989,229.984,229.978 ,229.973,229.968,229.962,229.957, 229.951,229.946,229.94,229.935,229.929, 229.924,229.918,229.912,229.906,229.9, 229.891,229.885,229.879,229.872,229.863 ,229.856,229.85,229.844,229.837,229.83, 229.824,229.82,229.82,230.089,230.53, 230.951,231.277,231.526,231.737,231.756 ,231.766,231.761,231.755,231.751, 231.746,231.742,231.738,231.733,231.729 ,231.725,231.721,231.716,231.712, 231.709,231.706,231.702,231.699,231.696 ,231.692,231.689,231.686,231.683,231.68 ,231.678,231.675,231.672,231.669, 231.666,231.664,231.661,231.659,231.656 ,231.654,231.649,231.645,231.641, 231.637,231.633,231.628,231.624,231.622 ,231.621,231.63)
ORBIT_NUMBER = 9313
ORBITAL_ECCENTRICITY = 0.578
ORBITAL_INCLINATION = 86.85
ORBITAL_SEMIMAJOR_AXIS = 8866.02
PERIAPSIS_ALTITUDE = 343.83
PERIAPSIS_ARGUMENT_ANGLE = 170.53
PERIAPSIS_TIME = 2011-04-18T08:00:19.000Z
SPACECRAFT_ORIENTATION = (0.0,-1.0,0.0)
^MEX_ORIENTATION_DESC = "MEX_ORIENTATION_DESC.TXT"
SPACECRAFT_POINTING_MODE = NADIR
^MEX_POINTING_DESC = "MEX_POINTING_DESC.TXT"
RIGHT_ASCENSION = -1e+32
DECLINATION = -1e+32
OFFSET_ANGLE = -1e+32
SPACECRAFT_SOLAR_DISTANCE = 2.08331e+08
TARGET_NAME = MARS
/* CAMERA DATA ELEMENTS */
DETECTOR_TEMPERATURE = 18.1666
FOCAL_PLANE_TEMPERATURE = 7.3599
INST_CMPRS_NAME = "DISCRETE COSINE TRANSFORMATION (DCT)"
INST_CMPRS_RATIO = 5.47924
INST_CMPRS_QUALITY = 0
INST_CMPRS_QUANTZ_TBL_ID = 0
INSTRUMENT_TEMPERATURE = 11.4379
LENS_TEMPERATURE = 8.7872
MACROPIXEL_SIZE = 1
MISSING_FRAMES = 0
PIXEL_SUBSAMPLING_FLAG = N
SIGNAL_CHAIN_ID = 0
/* RADIOMETRIC DATA ELEMENTS */
BANDWIDTH = 177.0
CENTER_FILTER_WAVELENGTH = 677.5
RADIANCE_OFFSET = 2.6648
RADIANCE_SCALING_FACTOR = 0.0137159
REFLECTANCE_SCALING_FACTOR = 0.000316241
MEX:REFLECTANCE_OFFSET = 0.0614411
/* IMAGE OBJECT DEFINITIONS */
OBJECT = IMAGE
  INTERCHANGE_FORMAT = BINARY
  LINES = 39954
  LINE_SAMPLES = 8688
  SAMPLE_TYPE = UNSIGNED_INTEGER
  SAMPLE_BITS = 8
  BANDS = 1
  BAND_STORAGE_TYPE = BAND_SEQUENTIAL
  MAXIMUM = 255
  MEAN = 90.1881
  MINIMUM = 1
  STANDARD_DEVIATION = 18.0085
END_OBJECT = IMAGE
/* MAP OBJECT DEFINITIONS */
OBJECT = IMAGE_MAP_PROJECTION
  ^DATA_SET_MAP_PROJECTION_CATALOG= "DSMAP.CAT"
  A_AXIS_RADIUS = 3396.0
  B_AXIS_RADIUS = 3396.0
  C_AXIS_RADIUS = 3396.0
  CENTER_LATITUDE = 0.0
  CENTER_LONGITUDE = 231.0
  COORDINATE_SYSTEM_NAME = PLANETOGRAPHIC
  COORDINATE_SYSTEM_TYPE = "BODY-FIXED ROTATING"
  EASTERNMOST_LONGITUDE = 231.766
  FIRST_STANDARD_PARALLEL = "N/A"
  LINE_FIRST_PIXEL = 1
  LINE_LAST_PIXEL = 39954
  LINE_PROJECTION_OFFSET = -53393.0
  MAP_PROJECTION_ROTATION = 0.0
  MAP_PROJECTION_TYPE = SINUSOIDAL
  MAP_RESOLUTION = 4741.71043093333
  MAP_SCALE = 0.0125
  MAXIMUM_LATITUDE = -11.2597
  MINIMUM_LATITUDE = -19.6864
  POSITIVE_LONGITUDE_DIRECTION = EAST
  REFERENCE_LATITUDE = "N/A"
  REFERENCE_LONGITUDE = "N/A"
  SAMPLE_FIRST_PIXEL = 1
  SAMPLE_LAST_PIXEL = 8688
  SAMPLE_PROJECTION_OFFSET = 5268.0
  SECOND_STANDARD_PARALLEL = "N/A"
  WESTERNMOST_LONGITUDE = 229.82
END_OBJECT = IMAGE_MAP_PROJECTION
END
