PDS_VERSION_ID = PDS3
/* FILE DATA ELEMENTS */
RECORD_TYPE = UNDEFINED
/* POINTERS TO DATA OBJECTS */
^IMAGE = ("H9307_0000_BL4.TIF")
/* IDENTIFICATION DATA ELEMENTS */
DATA_SET_ID = "MEX-M-HRSC-4-REFDR-MAPPROJECT-EXT3-V4.0"
DATA_SET_NAME = "MARS EXPRESS HRSC MAP PROJECTED REFDR EXTENSION3 V4.0"
DETECTOR_ID = MEX_HRSC_BLUE
EVENT_TYPE = "MARS-REGIONAL-MAPPING-Te-Im-Fl"
INSTRUMENT_HOST_ID = MEX
INSTRUMENT_HOST_NAME = "MARS EXPRESS"
INSTRUMENT_ID = HRSC
INSTRUMENT_NAME = "HIGH RESOLUTION STEREO CAMERA"
MISSION_NAME = "MARS EXPRESS"
MISSION_PHASE_NAME = ME_Phase_23
PROCESSING_LEVEL_ID = 4
PRODUCT_CREATION_TIME = 2023-02-04T05:05:37.000Z
PRODUCT_ID = "H9307_0000_BL4.TIF"
RELEASE_ID = 0006
REVISION_ID = 0000
/* QUALITY DATA ELEMENTS */
DATA_QUALITY_ID = 1
DATA_QUALITY_DESC = "Data calculated based on original SPICE kernels"
/* TIME DATA ELEMENTS */
SPACECRAFT_CLOCK_START_COUNT = "1/0251042716.08252"
SPACECRAFT_CLOCK_STOP_COUNT = "1/0251043030.05037"
START_TIME = 2011-04-16T14:05:58.351Z
STOP_TIME = 2011-04-16T14:09:46.764Z
/* ORBITAL DATA ELEMENTS */
ASCENDING_NODE_LONGITUDE = 39.56
MAXIMUM_RESOLUTION = 0.0603
FOOTPRINT_POINT_LATITUDE = (-4.11298,-4.11022,-4.10808,-4.10647, -4.10639,-4.1094,-4.51204,-4.78004, -5.04757,-5.44876,-5.71572,-5.98258, -6.38297,-6.64903,-7.04773,-7.31334, -7.57897,-8.1073,-8.50395,-9.03157, -9.30003,-9.57008,-9.8395,-10.2432, -10.6547,-10.93,-11.2048,-11.6196, -11.8992,-12.1796,-12.4598,-12.7448, -13.0309,-13.4594,-13.8942,-14.1852, -14.476,-14.7714,-15.068,-15.3642, -15.8153,-16.1159,-16.573,-16.88, -17.1866,-17.4985,-17.9664,-18.1242, -18.1503,-18.1525,-18.1541,-18.1552, -18.1556,-18.1549,-18.1548,-18.1537, -17.684,-17.3719,-16.9094,-16.6026, -16.2965,-15.9952,-15.6937,-15.3936, -15.0975,-14.8005,-14.5048,-14.2141, -13.9231,-13.4876,-13.2024,-12.9167, -12.4891,-12.2084,-11.7885,-11.508, -11.2333,-10.9583,-10.6831,-10.2709, -10.0017,-9.73222,-9.46268,-9.05889, -8.53175,-8.00316,-7.73762,-7.20812, -6.94252,-6.54288,-6.27601,-6.00959, -5.6095,-5.34209,-5.07471,-4.80699, -4.53923,-4.27092,-4.13666,-4.11298)
FOOTPRINT_POINT_LONGITUDE = (125.505,124.862,124.47,124.201,124.189 ,124.188,124.181,124.176,124.17,124.163 ,124.158,124.152,124.145,124.14,124.131 ,124.126,124.121,124.108,124.1,124.089, 124.082,124.076,124.07,124.06,124.05, 124.043,124.037,124.026,124.017,124.01, 124.003,123.997,123.989,123.978,123.966 ,123.957,123.949,123.941,123.932, 123.924,123.911,123.9,123.888,123.878, 123.869,123.859,123.845,123.839,123.839 ,124.142,124.431,124.89,125.232,125.643 ,125.66,125.666,125.655,125.648,125.639 ,125.633,125.627,125.621,125.615, 125.609,125.604,125.6,125.594,125.59, 125.585,125.579,125.574,125.57,125.564, 125.562,125.555,125.551,125.547,125.545 ,125.542,125.538,125.536,125.533, 125.531,125.526,125.521,125.518,125.518 ,125.513,125.511,125.511,125.511, 125.509,125.507,125.506,125.505,125.504 ,125.503,125.502,125.502,125.505)
ORBIT_NUMBER = 9307
ORBITAL_ECCENTRICITY = 0.578
ORBITAL_INCLINATION = 86.84
ORBITAL_SEMIMAJOR_AXIS = 8858.85
PERIAPSIS_ALTITUDE = 343.43
PERIAPSIS_ARGUMENT_ANGLE = 171.58
PERIAPSIS_TIME = 2011-04-16T14:02:38.000Z
SPACECRAFT_ORIENTATION = (0.0,-1.0,0.0)
^MEX_ORIENTATION_DESC = "MEX_ORIENTATION_DESC.TXT"
SPACECRAFT_POINTING_MODE = ACROSSTRACK
^MEX_POINTING_DESC = "MEX_POINTING_DESC.TXT"
RIGHT_ASCENSION = -1e+32
DECLINATION = -1e+32
OFFSET_ANGLE = 0.25
SPACECRAFT_SOLAR_DISTANCE = 2.08189e+08
TARGET_NAME = MARS
/* CAMERA DATA ELEMENTS */
DETECTOR_TEMPERATURE = 18.3705
FOCAL_PLANE_TEMPERATURE = 8.3794
INST_CMPRS_NAME = "DISCRETE COSINE TRANSFORMATION (DCT)"
INST_CMPRS_RATIO = 5.72433
INST_CMPRS_QUALITY = 0
INST_CMPRS_QUANTZ_TBL_ID = 0
INSTRUMENT_TEMPERATURE = 11.234
LENS_TEMPERATURE = 8.7872
MACROPIXEL_SIZE = 4
MISSING_FRAMES = 0
PIXEL_SUBSAMPLING_FLAG = N
SIGNAL_CHAIN_ID = 2
/* RADIOMETRIC DATA ELEMENTS */
BANDWIDTH = 76.0
CENTER_FILTER_WAVELENGTH = 444.0
RADIANCE_OFFSET = 0.329902
RADIANCE_SCALING_FACTOR = 0.00154016
REFLECTANCE_SCALING_FACTOR = 6.85867e-05
MEX:REFLECTANCE_OFFSET = 0.0146913
/* IMAGE OBJECT DEFINITIONS */
OBJECT = IMAGE
  INTERCHANGE_FORMAT = BINARY
  LINES = 16654
  LINE_SAMPLES = 2047
  SAMPLE_TYPE = UNSIGNED_INTEGER
  SAMPLE_BITS = 8
  BANDS = 1
  BAND_STORAGE_TYPE = BAND_SEQUENTIAL
  MAXIMUM = 255
  MEAN = 95.7669
  MINIMUM = 1
  STANDARD_DEVIATION = 34.3964
END_OBJECT = IMAGE
/* MAP OBJECT DEFINITIONS */
OBJECT = IMAGE_MAP_PROJECTION
  ^DATA_SET_MAP_PROJECTION_CATALOG= "DSMAP.CAT"
  A_AXIS_RADIUS = 3396.0
  B_AXIS_RADIUS = 3396.0
  C_AXIS_RADIUS = 3396.0
  CENTER_LATITUDE = 0.0
  CENTER_LONGITUDE = 125.0
  COORDINATE_SYSTEM_NAME = PLANETOGRAPHIC
  COORDINATE_SYSTEM_TYPE = "BODY-FIXED ROTATING"
  EASTERNMOST_LONGITUDE = 125.666
  FIRST_STANDARD_PARALLEL = "N/A"
  LINE_FIRST_PIXEL = 1
  LINE_LAST_PIXEL = 16654
  LINE_PROJECTION_OFFSET = -4857.875
  MAP_PROJECTION_ROTATION = 0.0
  MAP_PROJECTION_TYPE = SINUSOIDAL
  MAP_RESOLUTION = 1185.42760773333
  MAP_SCALE = 0.05
  MAXIMUM_LATITUDE = -4.10639
  MINIMUM_LATITUDE = -18.1556
  POSITIVE_LONGITUDE_DIRECTION = EAST
  REFERENCE_LATITUDE = "N/A"
  REFERENCE_LONGITUDE = "N/A"
  SAMPLE_FIRST_PIXEL = 1
  SAMPLE_LAST_PIXEL = 2047
  SAMPLE_PROJECTION_OFFSET = 1308.375
  SECOND_STANDARD_PARALLEL = "N/A"
  WESTERNMOST_LONGITUDE = 123.839
END_OBJECT = IMAGE_MAP_PROJECTION
END
