PDS_VERSION_ID = PDS3
/* FILE DATA ELEMENTS */
RECORD_TYPE = UNDEFINED
/* POINTERS TO DATA OBJECTS */
^IMAGE = ("H9306_0000_P14.TIF")
/* IDENTIFICATION DATA ELEMENTS */
DATA_SET_ID = "MEX-M-HRSC-4-REFDR-MAPPROJECT-EXT3-V4.0"
DATA_SET_NAME = "MARS EXPRESS HRSC MAP PROJECTED REFDR EXTENSION3 V4.0"
DETECTOR_ID = MEX_HRSC_P1
EVENT_TYPE = "MARS-LOCAL-STEREO-Vo"
INSTRUMENT_HOST_ID = MEX
INSTRUMENT_HOST_NAME = "MARS EXPRESS"
INSTRUMENT_ID = HRSC
INSTRUMENT_NAME = "HIGH RESOLUTION STEREO CAMERA"
MISSION_NAME = "MARS EXPRESS"
MISSION_PHASE_NAME = ME_Phase_23
PROCESSING_LEVEL_ID = 4
PRODUCT_CREATION_TIME = 2023-02-04T05:05:37.000Z
PRODUCT_ID = "H9306_0000_P14.TIF"
RELEASE_ID = 0006
REVISION_ID = 0000
/* QUALITY DATA ELEMENTS */
DATA_QUALITY_ID = 1
DATA_QUALITY_DESC = "Data calculated based on original SPICE kernels"
/* TIME DATA ELEMENTS */
SPACECRAFT_CLOCK_START_COUNT = "1/0251017737.07304"
SPACECRAFT_CLOCK_STOP_COUNT = "1/0251017983.54931"
START_TIME = 2011-04-16T07:09:14.513Z
STOP_TIME = 2011-04-16T07:11:18.858Z
/* ORBITAL DATA ELEMENTS */
ASCENDING_NODE_LONGITUDE = 39.59
MAXIMUM_RESOLUTION = 0.0383
FOOTPRINT_POINT_LATITUDE = (-17.6868,-17.677,-17.6698,-17.6625, -17.6552,-17.6478,-17.6404,-17.64, -17.6346,-17.921,-18.2084,-18.5669, -18.932,-19.225,-19.5174,-19.8151, -19.9644,-20.1137,-20.4118,-20.6396, -20.7916,-20.9435,-21.0952,-21.2468, -21.4785,-21.633,-21.7875,-21.9419, -22.0968,-22.2543,-22.4956,-22.6528, -22.8099,-23.0491,-23.209,-23.4486, -23.6082,-23.8517,-24.0142,-24.1766, -24.3389,-24.5039,-24.7515,-24.999, -25.2495,-25.3334,-25.3902,-25.3971, -25.401,-25.4043,-25.4102,-25.4131, -25.4174,-25.4188,-25.4215,-25.4242, -25.4283,-25.4286,-25.428,-25.2605, -25.093,-24.9284,-24.7637,-24.5987, -24.4336,-24.2707,-24.1087,-23.9465, -23.7841,-23.6224,-23.463,-23.3033, -23.1436,-22.9838,-22.7469,-22.59, -22.4331,-22.2708,-22.1135,-21.9594, -21.8049,-21.6503,-21.4186,-21.265, -21.1134,-20.8861,-20.6581,-20.506, -20.3563,-20.0586,-19.7605,-19.5381, -19.3188,-19.0262,-18.6599,-18.4455, -18.158,-17.7988,-17.7272,-17.6868)
FOOTPRINT_POINT_LONGITUDE = (228.525,228.147,227.875,227.606, 227.338,227.073,226.809,226.793,226.788 ,226.781,226.773,226.764,226.755, 226.747,226.74,226.732,226.728,226.724, 226.716,226.71,226.706,226.702,226.698, 226.694,226.687,226.683,226.679,226.675 ,226.67,226.666,226.659,226.655,226.65, 226.643,226.639,226.632,226.627,226.62, 226.615,226.61,226.606,226.601,226.593, 226.586,226.578,226.576,226.574,226.906 ,227.094,227.261,227.576,227.745, 227.916,228.086,228.256,228.428,228.73, 228.751,228.759,228.752,228.746,228.739 ,228.733,228.726,228.72,228.714,228.708 ,228.702,228.696,228.691,228.685, 228.679,228.674,228.668,228.66,228.655, 228.65,228.645,228.64,228.635,228.63, 228.625,228.618,228.613,228.609,228.602 ,228.595,228.591,228.586,228.578,228.57 ,228.564,228.558,228.551,228.541, 228.536,228.529,228.521,228.519, 228.525)
ORBIT_NUMBER = 9306
ORBITAL_ECCENTRICITY = 0.578
ORBITAL_INCLINATION = 86.85
ORBITAL_SEMIMAJOR_AXIS = 8865.12
PERIAPSIS_ALTITUDE = 343.2
PERIAPSIS_ARGUMENT_ANGLE = 171.74
PERIAPSIS_TIME = 2011-04-16T07:02:55.000Z
SPACECRAFT_ORIENTATION = (0.0,-1.0,0.0)
^MEX_ORIENTATION_DESC = "MEX_ORIENTATION_DESC.TXT"
SPACECRAFT_POINTING_MODE = ACROSSTRACK
^MEX_POINTING_DESC = "MEX_POINTING_DESC.TXT"
RIGHT_ASCENSION = -1e+32
DECLINATION = -1e+32
OFFSET_ANGLE = 0.8
SPACECRAFT_SOLAR_DISTANCE = 2.08166e+08
TARGET_NAME = MARS
/* CAMERA DATA ELEMENTS */
DETECTOR_TEMPERATURE = 17.5549
FOCAL_PLANE_TEMPERATURE = 8.5833
INST_CMPRS_NAME = "DISCRETE COSINE TRANSFORMATION (DCT)"
INST_CMPRS_RATIO = 6.53917
INST_CMPRS_QUALITY = 0
INST_CMPRS_QUANTZ_TBL_ID = 0
INSTRUMENT_TEMPERATURE = 11.234
LENS_TEMPERATURE = 8.9911
MACROPIXEL_SIZE = 2
MISSING_FRAMES = 1
PIXEL_SUBSAMPLING_FLAG = N
SIGNAL_CHAIN_ID = 3
/* RADIOMETRIC DATA ELEMENTS */
BANDWIDTH = 174.0
CENTER_FILTER_WAVELENGTH = 675.0
RADIANCE_OFFSET = 2.53028
RADIANCE_SCALING_FACTOR = 0.0139112
REFLECTANCE_SCALING_FACTOR = 0.000324244
MEX:REFLECTANCE_OFFSET = 0.0589762
/* IMAGE OBJECT DEFINITIONS */
OBJECT = IMAGE
  INTERCHANGE_FORMAT = BINARY
  LINES = 9192
  LINE_SAMPLES = 2464
  SAMPLE_TYPE = UNSIGNED_INTEGER
  SAMPLE_BITS = 8
  BANDS = 1
  BAND_STORAGE_TYPE = BAND_SEQUENTIAL
  MAXIMUM = 255
  MEAN = 92.8194
  MINIMUM = 1
  STANDARD_DEVIATION = 21.2867
END_OBJECT = IMAGE
/* MAP OBJECT DEFINITIONS */
OBJECT = IMAGE_MAP_PROJECTION
  ^DATA_SET_MAP_PROJECTION_CATALOG= "DSMAP.CAT"
  A_AXIS_RADIUS = 3396.0
  B_AXIS_RADIUS = 3396.0
  C_AXIS_RADIUS = 3396.0
  CENTER_LATITUDE = 0.0
  CENTER_LONGITUDE = 228.0
  COORDINATE_SYSTEM_NAME = PLANETOGRAPHIC
  COORDINATE_SYSTEM_TYPE = "BODY-FIXED ROTATING"
  EASTERNMOST_LONGITUDE = 228.759
  FIRST_STANDARD_PARALLEL = "N/A"
  LINE_FIRST_PIXEL = 1
  LINE_LAST_PIXEL = 9192
  LINE_PROJECTION_OFFSET = -20949.75
  MAP_PROJECTION_ROTATION = 0.0
  MAP_PROJECTION_TYPE = SINUSOIDAL
  MAP_RESOLUTION = 1185.42760773333
  MAP_SCALE = 0.05
  MAXIMUM_LATITUDE = -17.6346
  MINIMUM_LATITUDE = -25.4286
  POSITIVE_LONGITUDE_DIRECTION = EAST
  REFERENCE_LATITUDE = "N/A"
  REFERENCE_LONGITUDE = "N/A"
  SAMPLE_FIRST_PIXEL = 1
  SAMPLE_LAST_PIXEL = 2464
  SAMPLE_PROJECTION_OFFSET = 1592.75
  SECOND_STANDARD_PARALLEL = "N/A"
  WESTERNMOST_LONGITUDE = 226.574
END_OBJECT = IMAGE_MAP_PROJECTION
END
