PDS_VERSION_ID = PDS3
/* FILE DATA ELEMENTS */
RECORD_TYPE = UNDEFINED
/* POINTERS TO DATA OBJECTS */
^IMAGE = ("H9299_0000_P14.TIF")
/* IDENTIFICATION DATA ELEMENTS */
DATA_SET_ID = "MEX-M-HRSC-4-REFDR-MAPPROJECT-EXT3-V4.0"
DATA_SET_NAME = "MARS EXPRESS HRSC MAP PROJECTED REFDR EXTENSION3 V4.0"
DETECTOR_ID = MEX_HRSC_P1
EVENT_TYPE = "MARS-REGIONAL-MAPPING-Vo-Te"
INSTRUMENT_HOST_ID = MEX
INSTRUMENT_HOST_NAME = "MARS EXPRESS"
INSTRUMENT_ID = HRSC
INSTRUMENT_NAME = "HIGH RESOLUTION STEREO CAMERA"
MISSION_NAME = "MARS EXPRESS"
MISSION_PHASE_NAME = ME_Phase_23
PROCESSING_LEVEL_ID = 4
PRODUCT_CREATION_TIME = 2023-02-04T05:05:37.000Z
PRODUCT_ID = "H9299_0000_P14.TIF"
RELEASE_ID = 0006
REVISION_ID = 0000
/* QUALITY DATA ELEMENTS */
DATA_QUALITY_ID = 1
DATA_QUALITY_DESC = "Data calculated based on original SPICE kernels"
/* TIME DATA ELEMENTS */
SPACECRAFT_CLOCK_START_COUNT = "1/0250841282.09055"
SPACECRAFT_CLOCK_STOP_COUNT = "1/0250841626.14653"
START_TIME = 2011-04-14T06:08:16.269Z
STOP_TIME = 2011-04-14T06:12:20.815Z
/* ORBITAL DATA ELEMENTS */
ASCENDING_NODE_LONGITUDE = 39.73
MAXIMUM_RESOLUTION = 0.0601
FOOTPRINT_POINT_LATITUDE = (-5.01032,-5.0157,-5.02143,-5.02964, -5.02985,-5.02598,-5.53326,-6.11858, -6.42133,-6.72404,-7.02653,-7.32882, -7.78235,-8.08415,-8.38625,-8.68817, -8.98985,-9.2913,-9.59262,-9.89366, -10.1946,-10.4956,-10.7961,-11.0965, -11.6972,-12.2972,-12.603,-12.9107, -13.218,-13.525,-13.8364,-14.1512, -14.4655,-14.7794,-15.0989,-15.4207, -15.7418,-16.0645,-16.3931,-16.7217, -17.0496,-17.3847,-17.7202,-18.0553, -18.3967,-18.7388,-19.0805,-19.604, -19.9528,-20.4838,-20.661,-20.7602, -20.7556,-20.7506,-20.7449,-20.7447, -20.7435,-20.3879,-19.857,-19.5082, -18.9865,-18.6449,-18.3025,-17.9626, -17.6274,-17.292,-16.9587,-16.6304, -16.3018,-15.9736,-15.4912,-15.1697, -14.8478,-14.5336,-14.2192,-13.9047, -13.591,-13.284,-12.9765,-12.6691, -12.2111,-11.6115,-11.0107,-10.7098, -10.2584,-9.8067,-9.50529,-9.20359, -8.75113,-8.44932,-8.14707,-7.84484, -7.39162,-7.08926,-6.78679,-6.33335, -5.87925,-5.20291,-5.07607,-5.01032)
FOOTPRINT_POINT_LONGITUDE = (222.913,222.532,222.146,221.631, 221.619,221.62,221.612,221.601,221.595, 221.589,221.583,221.577,221.568,221.562 ,221.555,221.549,221.542,221.536, 221.529,221.522,221.516,221.509,221.502 ,221.494,221.48,221.464,221.456,221.448 ,221.44,221.432,221.423,221.414,221.405 ,221.397,221.387,221.378,221.369, 221.359,221.349,221.338,221.328,221.317 ,221.307,221.296,221.284,221.273, 221.261,221.243,221.231,221.213,221.207 ,221.204,221.925,222.469,223.007, 223.024,223.03,223.024,223.015,223.01, 223.002,222.997,222.992,222.988,222.983 ,222.979,222.975,222.972,222.968, 222.964,222.959,222.956,222.953,222.951 ,222.948,222.945,222.943,222.941, 222.938,222.936,222.933,222.93,222.927, 222.925,222.923,222.921,222.92,222.919, 222.918,222.917,222.916,222.916,222.915 ,222.914,222.914,222.913,222.913, 222.913,222.913,222.913)
ORBIT_NUMBER = 9299
ORBITAL_ECCENTRICITY = 0.578
ORBITAL_INCLINATION = 86.85
ORBITAL_SEMIMAJOR_AXIS = 8863.62
PERIAPSIS_ALTITUDE = 342.67
PERIAPSIS_ARGUMENT_ANGLE = 172.95
PERIAPSIS_TIME = 2011-04-14T06:05:31.000Z
SPACECRAFT_ORIENTATION = (0.0,-1.0,0.0)
^MEX_ORIENTATION_DESC = "MEX_ORIENTATION_DESC.TXT"
SPACECRAFT_POINTING_MODE = ACROSSTRACK
^MEX_POINTING_DESC = "MEX_POINTING_DESC.TXT"
RIGHT_ASCENSION = -1e+32
DECLINATION = -1e+32
OFFSET_ANGLE = -0.6
SPACECRAFT_SOLAR_DISTANCE = 2.08009e+08
TARGET_NAME = MARS
/* CAMERA DATA ELEMENTS */
DETECTOR_TEMPERATURE = 17.5549
FOCAL_PLANE_TEMPERATURE = 8.3794
INST_CMPRS_NAME = "DISCRETE COSINE TRANSFORMATION (DCT)"
INST_CMPRS_RATIO = 8.05831
INST_CMPRS_QUALITY = 0
INST_CMPRS_QUANTZ_TBL_ID = 0
INSTRUMENT_TEMPERATURE = 11.4379
LENS_TEMPERATURE = 8.7872
MACROPIXEL_SIZE = 4
MISSING_FRAMES = 0
PIXEL_SUBSAMPLING_FLAG = N
SIGNAL_CHAIN_ID = 3
/* RADIOMETRIC DATA ELEMENTS */
BANDWIDTH = 174.0
CENTER_FILTER_WAVELENGTH = 675.0
RADIANCE_OFFSET = 2.44931
RADIANCE_SCALING_FACTOR = 0.0150259
REFLECTANCE_SCALING_FACTOR = 0.000349696
MEX:REFLECTANCE_OFFSET = 0.0570027
/* IMAGE OBJECT DEFINITIONS */
OBJECT = IMAGE
  INTERCHANGE_FORMAT = BINARY
  LINES = 18686
  LINE_SAMPLES = 2118
  SAMPLE_TYPE = UNSIGNED_INTEGER
  SAMPLE_BITS = 8
  BANDS = 1
  BAND_STORAGE_TYPE = BAND_SEQUENTIAL
  MAXIMUM = 255
  MEAN = 89.3878
  MINIMUM = 1
  STANDARD_DEVIATION = 32.1374
END_OBJECT = IMAGE
/* MAP OBJECT DEFINITIONS */
OBJECT = IMAGE_MAP_PROJECTION
  ^DATA_SET_MAP_PROJECTION_CATALOG= "DSMAP.CAT"
  A_AXIS_RADIUS = 3396.0
  B_AXIS_RADIUS = 3396.0
  C_AXIS_RADIUS = 3396.0
  CENTER_LATITUDE = 0.0
  CENTER_LONGITUDE = 222.0
  COORDINATE_SYSTEM_NAME = PLANETOGRAPHIC
  COORDINATE_SYSTEM_TYPE = "BODY-FIXED ROTATING"
  EASTERNMOST_LONGITUDE = 223.03
  FIRST_STANDARD_PARALLEL = "N/A"
  LINE_FIRST_PIXEL = 1
  LINE_LAST_PIXEL = 18686
  LINE_PROJECTION_OFFSET = -5936.625
  MAP_PROJECTION_ROTATION = 0.0
  MAP_PROJECTION_TYPE = SINUSOIDAL
  MAP_RESOLUTION = 1185.42760773333
  MAP_SCALE = 0.05
  MAXIMUM_LATITUDE = -5.01032
  MINIMUM_LATITUDE = -20.7602
  POSITIVE_LONGITUDE_DIRECTION = EAST
  REFERENCE_LATITUDE = "N/A"
  REFERENCE_LONGITUDE = "N/A"
  SAMPLE_FIRST_PIXEL = 1
  SAMPLE_LAST_PIXEL = 2118
  SAMPLE_PROJECTION_OFFSET = 930.375
  SECOND_STANDARD_PARALLEL = "N/A"
  WESTERNMOST_LONGITUDE = 221.204
END_OBJECT = IMAGE_MAP_PROJECTION
END
