PDS_VERSION_ID = PDS3
/* FILE DATA ELEMENTS */
RECORD_TYPE = UNDEFINED
/* POINTERS TO DATA OBJECTS */
^IMAGE = ("H9292_0000_S14.TIF")
/* IDENTIFICATION DATA ELEMENTS */
DATA_SET_ID = "MEX-M-HRSC-4-REFDR-MAPPROJECT-EXT3-V4.0"
DATA_SET_NAME = "MARS EXPRESS HRSC MAP PROJECTED REFDR EXTENSION3 V4.0"
DETECTOR_ID = MEX_HRSC_S1
EVENT_TYPE = "MARS-REGIONAL-MAPPING-Vo-Te-Im"
INSTRUMENT_HOST_ID = MEX
INSTRUMENT_HOST_NAME = "MARS EXPRESS"
INSTRUMENT_ID = HRSC
INSTRUMENT_NAME = "HIGH RESOLUTION STEREO CAMERA"
MISSION_NAME = "MARS EXPRESS"
MISSION_PHASE_NAME = ME_Phase_23
PROCESSING_LEVEL_ID = 4
PRODUCT_CREATION_TIME = 2023-02-04T05:05:37.000Z
PRODUCT_ID = "H9292_0000_S14.TIF"
RELEASE_ID = 0006
REVISION_ID = 0000
/* QUALITY DATA ELEMENTS */
DATA_QUALITY_ID = 1
DATA_QUALITY_DESC = "Data calculated based on original SPICE kernels"
/* TIME DATA ELEMENTS */
SPACECRAFT_CLOCK_START_COUNT = "1/0250665112.08258"
SPACECRAFT_CLOCK_STOP_COUNT = "1/0250665429.65276"
START_TIME = 2011-04-12T05:11:55.029Z
STOP_TIME = 2011-04-12T05:15:22.139Z
/* ORBITAL DATA ELEMENTS */
ASCENDING_NODE_LONGITUDE = 39.86
MAXIMUM_RESOLUTION = 0.0327
FOOTPRINT_POINT_LATITUDE = (-10.6774,-10.6732,-10.6695,-10.667, -10.6669,-10.6649,-10.9155,-11.1656, -11.416,-11.6664,-11.9168,-12.1668, -12.5418,-12.792,-13.0419,-13.4167, -14.0409,-14.4154,-14.7952,-15.0494, -15.304,-15.6876,-15.949,-16.2063, -16.4667,-16.8639,-17.1279,-17.3963, -17.6646,-17.9326,-18.2007,-18.4754, -18.7498,-19.0241,-19.2981,-19.5791, -19.8593,-20.2796,-20.5649,-20.8517, -21.281,-21.5725,-21.8649,-22.1571, -22.6027,-22.9006,-23.1989,-23.5031, -23.9583,-24.111,-24.1585,-24.1595, -24.1616,-24.1648,-24.1646,-24.1646, -24.164,-23.7068,-23.403,-23.1008, -22.8031,-22.505,-22.2083,-21.9159, -21.6239,-21.332,-20.9026,-20.6162, -20.33,-20.05,-19.7699,-19.4892, -19.2108,-18.7997,-18.5255,-18.1163, -17.8483,-17.5805,-17.312,-17.0444, -16.7824,-16.389,-16.1268,-15.8643, -15.6084,-15.3521,-14.972,-14.7151, -14.4615,-13.9622,-13.4626,-12.963, -12.5882,-12.0885,-11.8379,-11.5876, -11.2122,-10.8365,-10.7112,-10.6774)
FOOTPRINT_POINT_LONGITUDE = (219.476,218.997,218.505,218.119, 218.106,218.103,218.097,218.092,218.087 ,218.082,218.077,218.071,218.063, 218.058,218.052,218.044,218.03,218.021, 218.012,218.007,218.001,217.992,217.984 ,217.979,217.973,217.962,217.955, 217.948,217.941,217.934,217.927,217.919 ,217.912,217.904,217.896,217.888, 217.881,217.869,217.86,217.852,217.839, 217.83,217.822,217.813,217.799,217.789, 217.78,217.77,217.756,217.751,217.749, 218.142,218.589,219.243,219.653,219.672 ,219.678,219.667,219.659,219.651, 219.644,219.637,219.63,219.623,219.617, 219.611,219.602,219.596,219.59,219.585, 219.58,219.575,219.57,219.562,219.558, 219.551,219.547,219.543,219.539,219.536 ,219.532,219.527,219.523,219.52,219.517 ,219.513,219.51,219.507,219.505,219.499 ,219.495,219.49,219.488,219.484,219.482 ,219.48,219.478,219.476,219.475, 219.476)
ORBIT_NUMBER = 9292
ORBITAL_ECCENTRICITY = 0.578
ORBITAL_INCLINATION = 86.85
ORBITAL_SEMIMAJOR_AXIS = 8861.81
PERIAPSIS_ALTITUDE = 342.13
PERIAPSIS_ARGUMENT_ANGLE = 174.17
PERIAPSIS_TIME = 2011-04-12T05:08:14.000Z
SPACECRAFT_ORIENTATION = (0.0,-1.0,0.0)
^MEX_ORIENTATION_DESC = "MEX_ORIENTATION_DESC.TXT"
SPACECRAFT_POINTING_MODE = NADIR
^MEX_POINTING_DESC = "MEX_POINTING_DESC.TXT"
RIGHT_ASCENSION = -1e+32
DECLINATION = -1e+32
OFFSET_ANGLE = -1e+32
SPACECRAFT_SOLAR_DISTANCE = 2.0786e+08
TARGET_NAME = MARS
/* CAMERA DATA ELEMENTS */
DETECTOR_TEMPERATURE = 17.5549
FOCAL_PLANE_TEMPERATURE = 8.5833
INST_CMPRS_NAME = "DISCRETE COSINE TRANSFORMATION (DCT)"
INST_CMPRS_RATIO = 7.35581
INST_CMPRS_QUALITY = 0
INST_CMPRS_QUANTZ_TBL_ID = 0
INSTRUMENT_TEMPERATURE = 11.4379
LENS_TEMPERATURE = 9.195
MACROPIXEL_SIZE = 2
MISSING_FRAMES = 0
PIXEL_SUBSAMPLING_FLAG = N
SIGNAL_CHAIN_ID = 1
/* RADIOMETRIC DATA ELEMENTS */
BANDWIDTH = 180.0
CENTER_FILTER_WAVELENGTH = 677.0
RADIANCE_OFFSET = 2.78898
RADIANCE_SCALING_FACTOR = 0.0135412
REFLECTANCE_SCALING_FACTOR = 0.000305242
MEX:REFLECTANCE_OFFSET = 0.062868
/* IMAGE OBJECT DEFINITIONS */
OBJECT = IMAGE
  INTERCHANGE_FORMAT = BINARY
  LINES = 31999
  LINE_SAMPLES = 4454
  SAMPLE_TYPE = UNSIGNED_INTEGER
  SAMPLE_BITS = 8
  BANDS = 1
  BAND_STORAGE_TYPE = BAND_SEQUENTIAL
  MAXIMUM = 255
  MEAN = 77.642
  MINIMUM = 1
  STANDARD_DEVIATION = 24.7863
END_OBJECT = IMAGE
/* MAP OBJECT DEFINITIONS */
OBJECT = IMAGE_MAP_PROJECTION
  ^DATA_SET_MAP_PROJECTION_CATALOG= "DSMAP.CAT"
  A_AXIS_RADIUS = 3396.0
  B_AXIS_RADIUS = 3396.0
  C_AXIS_RADIUS = 3396.0
  CENTER_LATITUDE = 0.0
  CENTER_LONGITUDE = 219.0
  COORDINATE_SYSTEM_NAME = PLANETOGRAPHIC
  COORDINATE_SYSTEM_TYPE = "BODY-FIXED ROTATING"
  EASTERNMOST_LONGITUDE = 219.678
  FIRST_STANDARD_PARALLEL = "N/A"
  LINE_FIRST_PIXEL = 1
  LINE_LAST_PIXEL = 31999
  LINE_PROJECTION_OFFSET = -25305.75
  MAP_PROJECTION_ROTATION = 0.0
  MAP_PROJECTION_TYPE = SINUSOIDAL
  MAP_RESOLUTION = 2370.85521546667
  MAP_SCALE = 0.025
  MAXIMUM_LATITUDE = -10.6649
  MINIMUM_LATITUDE = -24.1648
  POSITIVE_LONGITUDE_DIRECTION = EAST
  REFERENCE_LATITUDE = "N/A"
  REFERENCE_LONGITUDE = "N/A"
  SAMPLE_FIRST_PIXEL = 1
  SAMPLE_LAST_PIXEL = 4454
  SAMPLE_PROJECTION_OFFSET = 2842.25
  SECOND_STANDARD_PARALLEL = "N/A"
  WESTERNMOST_LONGITUDE = 217.749
END_OBJECT = IMAGE_MAP_PROJECTION
END
