PDS_VERSION_ID = PDS3
/* FILE DATA ELEMENTS */
RECORD_TYPE = UNDEFINED
/* POINTERS TO DATA OBJECTS */
^IMAGE = ("H9280_0000_S24.TIF")
/* IDENTIFICATION DATA ELEMENTS */
DATA_SET_ID = "MEX-M-HRSC-4-REFDR-MAPPROJECT-EXT3-V4.0"
DATA_SET_NAME = "MARS EXPRESS HRSC MAP PROJECTED REFDR EXTENSION3 V4.0"
DETECTOR_ID = MEX_HRSC_S2
EVENT_TYPE = "MARS-REGIONAL-MAPPING-Te-Im-Fl"
INSTRUMENT_HOST_ID = MEX
INSTRUMENT_HOST_NAME = "MARS EXPRESS"
INSTRUMENT_ID = HRSC
INSTRUMENT_NAME = "HIGH RESOLUTION STEREO CAMERA"
MISSION_NAME = "MARS EXPRESS"
MISSION_PHASE_NAME = ME_Phase_23
PROCESSING_LEVEL_ID = 4
PRODUCT_CREATION_TIME = 2023-02-04T05:05:37.000Z
PRODUCT_ID = "H9280_0000_S24.TIF"
RELEASE_ID = 0006
REVISION_ID = 0000
/* QUALITY DATA ELEMENTS */
DATA_QUALITY_ID = 1
DATA_QUALITY_DESC = "Data calculated based on original SPICE kernels"
/* TIME DATA ELEMENTS */
SPACECRAFT_CLOCK_START_COUNT = "1/0250362998.09073"
SPACECRAFT_CLOCK_STOP_COUNT = "1/0250363236.37463"
START_TIME = 2011-04-08T17:17:55.282Z
STOP_TIME = 2011-04-08T17:20:37.502Z
/* ORBITAL DATA ELEMENTS */
ASCENDING_NODE_LONGITUDE = 40.09
MAXIMUM_RESOLUTION = 0.0356
FOOTPRINT_POINT_LATITUDE = (-12.6082,-12.6047,-12.6007,-12.5961, -12.5909,-12.5851,-12.5761,-12.5757, -12.5672,-12.9091,-13.17,-13.6045, -13.8663,-14.1293,-14.3071,-14.6618, -15.016,-15.1962,-15.4634,-15.6467, -15.9172,-16.0974,-16.2802,-16.5608, -16.7426,-16.9243,-17.1096,-17.2956, -17.4817,-17.6669,-17.8534,-18.042, -18.2301,-18.4192,-18.6077,-18.7987, -19.0854,-19.2774,-19.4691,-19.6638, -19.9552,-20.1492,-20.3455,-20.5426, -20.7396,-21.0355,-21.2359,-21.4356, -21.7363,-21.8376,-21.848,-21.8558, -21.8602,-21.8671,-21.8711,-21.8753, -21.878,-21.8805,-21.8806,-21.88, -21.6675,-21.4725,-21.2774,-21.0771, -20.8783,-20.6818,-20.3844,-20.1844, -19.8995,-19.7051,-19.4143,-19.2234, -19.032,-18.8403,-18.6498,-18.4614, -18.273,-18.0846,-17.8025,-17.6171, -17.4322,-17.2461,-17.061,-16.7861, -16.504,-16.2302,-16.0479,-15.779, -15.5994,-15.4192,-15.2388,-14.8817, -14.6167,-14.3508,-14.0849,-13.6491, -13.1249,-12.6953,-12.6101,-12.6082)
FOOTPRINT_POINT_LONGITUDE = (6.55769,6.32633,6.09434,5.86163, 5.62848,5.39457,5.07116,5.05642,5.04811 ,5.03948,5.03251,5.02037,5.0137,5.00681 ,5.00196,4.99207,4.98228,4.97747, 4.96818,4.96416,4.95647,4.95076,4.94492 ,4.93533,4.92929,4.92326,4.91725, 4.91126,4.90542,4.89931,4.89338,4.8869, 4.88036,4.87427,4.86807,4.86149,4.85125 ,4.84495,4.83833,4.83146,4.82101, 4.81409,4.80686,4.79957,4.79232,4.78085 ,4.77345,4.76588,4.75426,4.75029, 4.74993,5.05886,5.25179,5.63606,5.90454 ,6.22989,6.47801,6.7064,6.72544,6.73228 ,6.72878,6.72242,6.71613,6.71096, 6.70587,6.70087,6.69391,6.68984,6.68168 ,6.67717,6.67056,6.66628,6.66211, 6.65798,6.65378,6.64993,6.64608,6.64222 ,6.63655,6.63301,6.62939,6.62599, 6.62239,6.61749,6.61258,6.60779,6.60466 ,6.6003,6.59745,6.59471,6.59201,6.58707 ,6.5833,6.57969,6.57609,6.57092,6.56493 ,6.56005,6.5591,6.55769)
ORBIT_NUMBER = 9280
ORBITAL_ECCENTRICITY = 0.578
ORBITAL_INCLINATION = 86.84
ORBITAL_SEMIMAJOR_AXIS = 8858.12
PERIAPSIS_ALTITUDE = 341.45
PERIAPSIS_ARGUMENT_ANGLE = 176.26
PERIAPSIS_TIME = 2011-04-08T17:13:02.000Z
SPACECRAFT_ORIENTATION = (0.0,-1.0,0.0)
^MEX_ORIENTATION_DESC = "MEX_ORIENTATION_DESC.TXT"
SPACECRAFT_POINTING_MODE = ACROSSTRACK
^MEX_POINTING_DESC = "MEX_POINTING_DESC.TXT"
RIGHT_ASCENSION = -1e+32
DECLINATION = -1e+32
OFFSET_ANGLE = -0.269
SPACECRAFT_SOLAR_DISTANCE = 2.07624e+08
TARGET_NAME = MARS
/* CAMERA DATA ELEMENTS */
DETECTOR_TEMPERATURE = 18.5744
FOCAL_PLANE_TEMPERATURE = 8.1755
INST_CMPRS_NAME = "DISCRETE COSINE TRANSFORMATION (DCT)"
INST_CMPRS_RATIO = 15.9107
INST_CMPRS_QUALITY = 0
INST_CMPRS_QUANTZ_TBL_ID = 0
INSTRUMENT_TEMPERATURE = 11.4379
LENS_TEMPERATURE = 8.7872
MACROPIXEL_SIZE = 2
PIXEL_SUBSAMPLING_FLAG = N
SIGNAL_CHAIN_ID = 1
/* RADIOMETRIC DATA ELEMENTS */
BANDWIDTH = 178.0
CENTER_FILTER_WAVELENGTH = 679.0
RADIANCE_OFFSET = 1.53945
RADIANCE_SCALING_FACTOR = 0.00697616
REFLECTANCE_SCALING_FACTOR = 0.000159259
MEX:REFLECTANCE_OFFSET = 0.0351441
/* IMAGE OBJECT DEFINITIONS */
OBJECT = IMAGE
  INTERCHANGE_FORMAT = BINARY
  LINES = 22003
  LINE_SAMPLES = 4015
  SAMPLE_TYPE = UNSIGNED_INTEGER
  SAMPLE_BITS = 8
  BANDS = 1
  BAND_STORAGE_TYPE = BAND_SEQUENTIAL
  MAXIMUM = 255
  MEAN = 120.765
  MINIMUM = 1
  STANDARD_DEVIATION = 34.3702
END_OBJECT = IMAGE
/* MAP OBJECT DEFINITIONS */
OBJECT = IMAGE_MAP_PROJECTION
  ^DATA_SET_MAP_PROJECTION_CATALOG= "DSMAP.CAT"
  A_AXIS_RADIUS = 3396.0
  B_AXIS_RADIUS = 3396.0
  C_AXIS_RADIUS = 3396.0
  CENTER_LATITUDE = 0.0
  CENTER_LONGITUDE = 6.0
  COORDINATE_SYSTEM_NAME = PLANETOGRAPHIC
  COORDINATE_SYSTEM_TYPE = "BODY-FIXED ROTATING"
  EASTERNMOST_LONGITUDE = 6.73228
  FIRST_STANDARD_PARALLEL = "N/A"
  LINE_FIRST_PIXEL = 1
  LINE_LAST_PIXEL = 22003
  LINE_PROJECTION_OFFSET = -29831.75
  MAP_PROJECTION_ROTATION = 0.0
  MAP_PROJECTION_TYPE = SINUSOIDAL
  MAP_RESOLUTION = 2370.85521546667
  MAP_SCALE = 0.025
  MAXIMUM_LATITUDE = -12.5672
  MINIMUM_LATITUDE = -21.8806
  POSITIVE_LONGITUDE_DIRECTION = EAST
  REFERENCE_LATITUDE = "N/A"
  REFERENCE_LONGITUDE = "N/A"
  SAMPLE_FIRST_PIXEL = 1
  SAMPLE_LAST_PIXEL = 4015
  SAMPLE_PROJECTION_OFFSET = 2560.25
  SECOND_STANDARD_PARALLEL = "N/A"
  WESTERNMOST_LONGITUDE = 4.74993
END_OBJECT = IMAGE_MAP_PROJECTION
END
