PDS_VERSION_ID = PDS3
/* FILE DATA ELEMENTS */
RECORD_TYPE = UNDEFINED
/* POINTERS TO DATA OBJECTS */
^IMAGE = ("H9277_0000_S14.TIF")
/* IDENTIFICATION DATA ELEMENTS */
DATA_SET_ID = "MEX-M-HRSC-4-REFDR-MAPPROJECT-EXT3-V4.0"
DATA_SET_NAME = "MARS EXPRESS HRSC MAP PROJECTED REFDR EXTENSION3 V4.0"
DETECTOR_ID = MEX_HRSC_S1
EVENT_TYPE = "MARS-REGIONAL-MAPPING-Te-Fl-La"
INSTRUMENT_HOST_ID = MEX
INSTRUMENT_HOST_NAME = "MARS EXPRESS"
INSTRUMENT_ID = HRSC
INSTRUMENT_NAME = "HIGH RESOLUTION STEREO CAMERA"
MISSION_NAME = "MARS EXPRESS"
MISSION_PHASE_NAME = ME_Phase_22
PROCESSING_LEVEL_ID = 4
PRODUCT_CREATION_TIME = 2023-02-04T05:05:37.000Z
PRODUCT_ID = "H9277_0000_S14.TIF"
RELEASE_ID = 0006
REVISION_ID = 0000
/* QUALITY DATA ELEMENTS */
DATA_QUALITY_ID = 1
DATA_QUALITY_DESC = "Data calculated based on original SPICE kernels"
/* TIME DATA ELEMENTS */
SPACECRAFT_CLOCK_START_COUNT = "1/0250287556.08240"
SPACECRAFT_CLOCK_STOP_COUNT = "1/0250287934.47948"
START_TIME = 2011-04-07T20:19:19.017Z
STOP_TIME = 2011-04-07T20:23:13.789Z
/* ORBITAL DATA ELEMENTS */
ASCENDING_NODE_LONGITUDE = 40.14
MAXIMUM_RESOLUTION = 0.0363
FOOTPRINT_POINT_LATITUDE = (-18.8718,-18.9048,-18.9388,-18.9809, -18.982,-18.9897,-19.3788,-20.1667, -20.6964,-21.3714,-21.9136,-22.1913, -22.4666,-22.7451,-23.0223,-23.3061, -23.59,-24.0155,-24.4469,-24.8798, -25.3197,-25.6145,-25.9083,-26.2084, -26.509,-26.9619,-27.2667,-27.5719, -27.8814,-28.3447,-28.6604,-28.9783, -29.29,-29.6151,-29.9359,-30.2616, -30.589,-30.9181,-31.2491,-31.5812, -31.9223,-32.2601,-32.6026,-32.9419, -33.2926,-33.8173,-33.9939,-34.0258, -34.0085,-33.9924,-33.9804,-33.9706, -33.9189,-33.9177,-33.9166,-33.3913, -33.0429,-32.6968,-32.3542,-32.0123, -31.6749,-31.3391,-31.0059,-30.6746, -30.3486,-30.0215,-29.6983,-29.3743, -29.0542,-28.7389,-28.4229,-28.1119, -27.8013,-27.4913,-27.1864,-26.8805, -26.5769,-26.2773,-25.9776,-25.5326, -25.0919,-24.798,-24.5089,-24.2201, -23.9311,-23.5053,-23.2217,-22.9388, -22.6619,-22.3858,-22.1073,-21.8315, -21.2885,-21.0161,-20.4794,-19.9491, -19.5515,-19.0321,-18.9025,-18.8718)
FOOTPRINT_POINT_LONGITUDE = (311.978,311.482,310.968,310.333, 310.315,310.303,310.289,310.261,310.242 ,310.215,310.194,310.18,310.171,310.158 ,310.147,310.133,310.12,310.101,310.083 ,310.063,310.042,310.028,310.014,310.0, 309.985,309.963,309.948,309.933,309.918 ,309.897,309.878,309.86,309.848,309.827 ,309.811,309.792,309.774,309.755, 309.738,309.719,309.696,309.676,309.656 ,309.639,309.615,309.583,309.572,309.57 ,310.041,310.453,310.783,311.206, 312.144,312.168,312.177,312.162,312.154 ,312.145,312.137,312.13,312.122,312.115 ,312.108,312.101,312.095,312.088, 312.083,312.077,312.072,312.067,312.061 ,312.057,312.052,312.047,312.043, 312.039,312.035,312.031,312.027,312.022 ,312.017,312.015,312.012,312.009, 312.007,312.003,312.001,311.999,311.996 ,311.994,311.992,311.99,311.987,311.986 ,311.983,311.98,311.978,311.976,311.976 ,311.978)
ORBIT_NUMBER = 9277
ORBITAL_ECCENTRICITY = 0.578
ORBITAL_INCLINATION = 86.86
ORBITAL_SEMIMAJOR_AXIS = 8854.78
PERIAPSIS_ALTITUDE = 340.92
PERIAPSIS_ARGUMENT_ANGLE = 176.81
PERIAPSIS_TIME = 2011-04-07T20:14:13.000Z
SPACECRAFT_ORIENTATION = (0.0,-1.0,0.0)
^MEX_ORIENTATION_DESC = "MEX_ORIENTATION_DESC.TXT"
SPACECRAFT_POINTING_MODE = ACROSSTRACK
^MEX_POINTING_DESC = "MEX_POINTING_DESC.TXT"
RIGHT_ASCENSION = -1e+32
DECLINATION = -1e+32
OFFSET_ANGLE = -1.6
SPACECRAFT_SOLAR_DISTANCE = 2.07569e+08
TARGET_NAME = MARS
/* CAMERA DATA ELEMENTS */
DETECTOR_TEMPERATURE = 17.5549
FOCAL_PLANE_TEMPERATURE = 7.3599
INST_CMPRS_NAME = "DISCRETE COSINE TRANSFORMATION (DCT)"
INST_CMPRS_RATIO = 10.304
INST_CMPRS_QUALITY = 0
INST_CMPRS_QUANTZ_TBL_ID = 0
INSTRUMENT_TEMPERATURE = 11.0301
LENS_TEMPERATURE = 8.5833
MACROPIXEL_SIZE = 2
MISSING_FRAMES = 0
PIXEL_SUBSAMPLING_FLAG = N
SIGNAL_CHAIN_ID = 1
/* RADIOMETRIC DATA ELEMENTS */
BANDWIDTH = 180.0
CENTER_FILTER_WAVELENGTH = 677.0
RADIANCE_OFFSET = 2.37397
RADIANCE_SCALING_FACTOR = 0.00811613
REFLECTANCE_SCALING_FACTOR = 0.000182439
MEX:REFLECTANCE_OFFSET = 0.0533635
/* IMAGE OBJECT DEFINITIONS */
OBJECT = IMAGE
  INTERCHANGE_FORMAT = BINARY
  LINES = 35704
  LINE_SAMPLES = 5535
  SAMPLE_TYPE = UNSIGNED_INTEGER
  SAMPLE_BITS = 8
  BANDS = 1
  BAND_STORAGE_TYPE = BAND_SEQUENTIAL
  MAXIMUM = 255
  MEAN = 114.657
  MINIMUM = 1
  STANDARD_DEVIATION = 40.3379
END_OBJECT = IMAGE
/* MAP OBJECT DEFINITIONS */
OBJECT = IMAGE_MAP_PROJECTION
  ^DATA_SET_MAP_PROJECTION_CATALOG= "DSMAP.CAT"
  A_AXIS_RADIUS = 3396.0
  B_AXIS_RADIUS = 3396.0
  C_AXIS_RADIUS = 3396.0
  CENTER_LATITUDE = 0.0
  CENTER_LONGITUDE = 311.0
  COORDINATE_SYSTEM_NAME = PLANETOGRAPHIC
  COORDINATE_SYSTEM_TYPE = "BODY-FIXED ROTATING"
  EASTERNMOST_LONGITUDE = 312.177
  FIRST_STANDARD_PARALLEL = "N/A"
  LINE_FIRST_PIXEL = 1
  LINE_LAST_PIXEL = 35704
  LINE_PROJECTION_OFFSET = -44892.75
  MAP_PROJECTION_ROTATION = 0.0
  MAP_PROJECTION_TYPE = SINUSOIDAL
  MAP_RESOLUTION = 2370.85521546667
  MAP_SCALE = 0.025
  MAXIMUM_LATITUDE = -18.8718
  MINIMUM_LATITUDE = -34.0258
  POSITIVE_LONGITUDE_DIRECTION = EAST
  REFERENCE_LATITUDE = "N/A"
  REFERENCE_LONGITUDE = "N/A"
  SAMPLE_FIRST_PIXEL = 1
  SAMPLE_LAST_PIXEL = 5535
  SAMPLE_PROJECTION_OFFSET = 2962.75
  SECOND_STANDARD_PARALLEL = "N/A"
  WESTERNMOST_LONGITUDE = 309.57
END_OBJECT = IMAGE_MAP_PROJECTION
END
