PDS_VERSION_ID = PDS3
/* FILE DATA ELEMENTS */
RECORD_TYPE = UNDEFINED
/* POINTERS TO DATA OBJECTS */
^IMAGE = ("H9277_0000_P24.TIF")
/* IDENTIFICATION DATA ELEMENTS */
DATA_SET_ID = "MEX-M-HRSC-4-REFDR-MAPPROJECT-EXT3-V4.0"
DATA_SET_NAME = "MARS EXPRESS HRSC MAP PROJECTED REFDR EXTENSION3 V4.0"
DETECTOR_ID = MEX_HRSC_P2
EVENT_TYPE = "MARS-REGIONAL-MAPPING-Te-Fl-La"
INSTRUMENT_HOST_ID = MEX
INSTRUMENT_HOST_NAME = "MARS EXPRESS"
INSTRUMENT_ID = HRSC
INSTRUMENT_NAME = "HIGH RESOLUTION STEREO CAMERA"
MISSION_NAME = "MARS EXPRESS"
MISSION_PHASE_NAME = ME_Phase_22
PROCESSING_LEVEL_ID = 4
PRODUCT_CREATION_TIME = 2023-02-04T05:05:37.000Z
PRODUCT_ID = "H9277_0000_P24.TIF"
RELEASE_ID = 0006
REVISION_ID = 0000
/* QUALITY DATA ELEMENTS */
DATA_QUALITY_ID = 1
DATA_QUALITY_DESC = "Data calculated based on original SPICE kernels"
/* TIME DATA ELEMENTS */
SPACECRAFT_CLOCK_START_COUNT = "1/0250287556.08240"
SPACECRAFT_CLOCK_STOP_COUNT = "1/0250287934.47948"
START_TIME = 2011-04-07T20:20:30.380Z
STOP_TIME = 2011-04-07T20:25:05.724Z
/* ORBITAL DATA ELEMENTS */
ASCENDING_NODE_LONGITUDE = 40.14
MAXIMUM_RESOLUTION = 0.0772
FOOTPRINT_POINT_LATITUDE = (-19.026,-18.9962,-18.9627,-18.9126, -18.9113,-18.9069,-19.5601,-20.0861, -20.6207,-21.1581,-21.4297,-21.8374, -22.112,-22.387,-22.665,-22.9437, -23.2218,-23.5039,-23.9269,-24.2133, -24.6429,-24.9353,-25.2254,-25.6657, -25.9599,-26.2582,-26.5555,-26.8577, -27.3124,-27.6178,-27.9254,-28.2362, -28.5451,-28.8578,-29.3347,-29.6522, -30.1326,-30.4552,-30.7811,-31.1095, -31.6061,-32.1054,-32.4418,-32.9549, -33.2965,-33.6423,-33.8149,-33.9172, -33.9618,-33.9875,-34.0026,-34.0272, -34.0438,-34.0445,-34.0433,-33.697, -33.1802,-32.8388,-32.4991,-32.1624, -31.8288,-31.4962,-31.1659,-30.8385, -30.5123,-30.189,-29.868,-29.5495, -29.2346,-28.9186,-28.6055,-28.1394, -27.8299,-27.5245,-27.2192,-26.9177, -26.6162,-26.3181,-25.8722,-25.5779, -25.2835,-24.9946,-24.7042,-24.4177, -23.9883,-23.7058,-23.2828,-22.8638, -22.584,-22.3061,-22.0333,-21.759, -21.4881,-21.2167,-20.5467,-20.015, -19.6201,-19.2273,-19.0978,-19.026)
FOOTPRINT_POINT_LONGITUDE = (312.054,311.535,311.0,310.271,310.254, 310.242,310.217,310.194,310.172,310.148 ,310.136,310.117,310.103,310.09,310.077 ,310.062,310.048,310.033,310.01,309.995 ,309.972,309.958,309.942,309.918, 309.901,309.884,309.867,309.85,309.824, 309.806,309.788,309.771,309.749,309.73, 309.703,309.681,309.648,309.627,309.604 ,309.583,309.549,309.511,309.486, 309.452,309.424,309.398,309.385,309.377 ,310.186,310.727,311.258,311.952, 312.364,312.391,312.4,312.386,312.365, 312.352,312.339,312.326,312.315,312.303 ,312.292,312.281,312.27,312.26,312.251, 312.242,312.233,312.224,312.215,312.203 ,312.195,312.188,312.18,312.174,312.167 ,312.16,312.151,312.145,312.139,312.134 ,312.128,312.123,312.116,312.111, 312.105,312.098,312.094,312.089,312.086 ,312.082,312.079,312.076,312.068, 312.062,312.058,312.054,312.053, 312.054)
ORBIT_NUMBER = 9277
ORBITAL_ECCENTRICITY = 0.578
ORBITAL_INCLINATION = 86.86
ORBITAL_SEMIMAJOR_AXIS = 8854.78
PERIAPSIS_ALTITUDE = 340.92
PERIAPSIS_ARGUMENT_ANGLE = 176.81
PERIAPSIS_TIME = 2011-04-07T20:14:13.000Z
SPACECRAFT_ORIENTATION = (0.0,-1.0,0.0)
^MEX_ORIENTATION_DESC = "MEX_ORIENTATION_DESC.TXT"
SPACECRAFT_POINTING_MODE = ACROSSTRACK
^MEX_POINTING_DESC = "MEX_POINTING_DESC.TXT"
RIGHT_ASCENSION = -1e+32
DECLINATION = -1e+32
OFFSET_ANGLE = -1.6
SPACECRAFT_SOLAR_DISTANCE = 2.07569e+08
TARGET_NAME = MARS
/* CAMERA DATA ELEMENTS */
DETECTOR_TEMPERATURE = 19.1861
FOCAL_PLANE_TEMPERATURE = 7.3599
INST_CMPRS_NAME = "DISCRETE COSINE TRANSFORMATION (DCT)"
INST_CMPRS_RATIO = 14.2203
INST_CMPRS_QUALITY = 0
INST_CMPRS_QUANTZ_TBL_ID = 0
INSTRUMENT_TEMPERATURE = 11.0301
LENS_TEMPERATURE = 8.5833
MACROPIXEL_SIZE = 4
MISSING_FRAMES = 0
PIXEL_SUBSAMPLING_FLAG = N
SIGNAL_CHAIN_ID = 3
/* RADIOMETRIC DATA ELEMENTS */
BANDWIDTH = 177.0
CENTER_FILTER_WAVELENGTH = 676.5
RADIANCE_OFFSET = 1.82632
RADIANCE_SCALING_FACTOR = 0.00716204
REFLECTANCE_SCALING_FACTOR = 0.000163614
MEX:REFLECTANCE_OFFSET = 0.0417217
/* IMAGE OBJECT DEFINITIONS */
OBJECT = IMAGE
  INTERCHANGE_FORMAT = BINARY
  LINES = 17852
  LINE_SAMPLES = 2768
  SAMPLE_TYPE = UNSIGNED_INTEGER
  SAMPLE_BITS = 8
  BANDS = 1
  BAND_STORAGE_TYPE = BAND_SEQUENTIAL
  MAXIMUM = 255
  MEAN = 109.109
  MINIMUM = 1
  STANDARD_DEVIATION = 38.6734
END_OBJECT = IMAGE
/* MAP OBJECT DEFINITIONS */
OBJECT = IMAGE_MAP_PROJECTION
  ^DATA_SET_MAP_PROJECTION_CATALOG= "DSMAP.CAT"
  A_AXIS_RADIUS = 3396.0
  B_AXIS_RADIUS = 3396.0
  C_AXIS_RADIUS = 3396.0
  CENTER_LATITUDE = 0.0
  CENTER_LONGITUDE = 311.0
  COORDINATE_SYSTEM_NAME = PLANETOGRAPHIC
  COORDINATE_SYSTEM_TYPE = "BODY-FIXED ROTATING"
  EASTERNMOST_LONGITUDE = 312.4
  FIRST_STANDARD_PARALLEL = "N/A"
  LINE_FIRST_PIXEL = 1
  LINE_LAST_PIXEL = 17852
  LINE_PROJECTION_OFFSET = -22446.625
  MAP_PROJECTION_ROTATION = 0.0
  MAP_PROJECTION_TYPE = SINUSOIDAL
  MAP_RESOLUTION = 1185.42760773333
  MAP_SCALE = 0.05
  MAXIMUM_LATITUDE = -18.9069
  MINIMUM_LATITUDE = -34.0445
  POSITIVE_LONGITUDE_DIRECTION = EAST
  REFERENCE_LATITUDE = "N/A"
  REFERENCE_LONGITUDE = "N/A"
  SAMPLE_FIRST_PIXEL = 1
  SAMPLE_LAST_PIXEL = 2768
  SAMPLE_PROJECTION_OFFSET = 1481.125
  SECOND_STANDARD_PARALLEL = "N/A"
  WESTERNMOST_LONGITUDE = 309.377
END_OBJECT = IMAGE_MAP_PROJECTION
END
