PDS_VERSION_ID = PDS3
/* FILE DATA ELEMENTS */
RECORD_TYPE = UNDEFINED
/* POINTERS TO DATA OBJECTS */
^IMAGE = ("H9277_0000_GR4.TIF")
/* IDENTIFICATION DATA ELEMENTS */
DATA_SET_ID = "MEX-M-HRSC-4-REFDR-MAPPROJECT-EXT3-V4.0"
DATA_SET_NAME = "MARS EXPRESS HRSC MAP PROJECTED REFDR EXTENSION3 V4.0"
DETECTOR_ID = MEX_HRSC_GREEN
EVENT_TYPE = "MARS-REGIONAL-MAPPING-Te-Fl-La"
INSTRUMENT_HOST_ID = MEX
INSTRUMENT_HOST_NAME = "MARS EXPRESS"
INSTRUMENT_ID = HRSC
INSTRUMENT_NAME = "HIGH RESOLUTION STEREO CAMERA"
MISSION_NAME = "MARS EXPRESS"
MISSION_PHASE_NAME = ME_Phase_22
PROCESSING_LEVEL_ID = 4
PRODUCT_CREATION_TIME = 2023-02-04T05:05:37.000Z
PRODUCT_ID = "H9277_0000_GR4.TIF"
RELEASE_ID = 0006
REVISION_ID = 0000
/* QUALITY DATA ELEMENTS */
DATA_QUALITY_ID = 1
DATA_QUALITY_DESC = "Data calculated based on original SPICE kernels"
/* TIME DATA ELEMENTS */
SPACECRAFT_CLOCK_START_COUNT = "1/0250287556.08240"
SPACECRAFT_CLOCK_STOP_COUNT = "1/0250287934.47948"
START_TIME = 2011-04-07T20:19:52.892Z
STOP_TIME = 2011-04-07T20:24:05.046Z
/* ORBITAL DATA ELEMENTS */
ASCENDING_NODE_LONGITUDE = 40.14
MAXIMUM_RESOLUTION = 0.1426
FOOTPRINT_POINT_LATITUDE = (-18.9429,-18.9432,-18.9422,-18.9392, -18.9391,-18.9422,-19.7167,-20.638, -21.0395,-21.5755,-21.847,-22.1206, -22.3929,-22.8067,-23.0846,-23.3622, -23.6439,-23.9266,-24.2088,-24.4954, -24.9258,-25.2155,-25.5076,-25.799, -26.2429,-26.5392,-26.9896,-27.2902, -27.5955,-28.0534,-28.3635,-28.6735, -28.9876,-29.3012,-29.6194,-29.938, -30.2601,-30.5833,-30.9097,-31.2368, -31.5681,-32.0686,-32.4047,-32.7439, -33.257,-33.7756,-33.9501,-33.9861, -33.991,-33.9948,-33.9986,-34.0018, -34.0012,-33.9983,-33.9982,-33.9951, -33.6461,-33.3015,-32.7879,-32.448, -32.1119,-31.611,-31.2792,-30.9518, -30.625,-30.3018,-29.9792,-29.6603, -29.3416,-29.0272,-28.7128,-28.403, -27.9394,-27.6339,-27.3281,-27.0272, -26.576,-26.2798,-25.8353,-25.5436, -25.2518,-24.961,-24.6738,-24.2429, -23.9606,-23.6777,-23.3953,-23.1177, -22.8398,-22.5618,-22.1526,-21.8793, -21.6071,-21.0707,-20.537,-20.0102, -19.6168,-19.1001,-18.9708,-18.9429)
FOOTPRINT_POINT_LONGITUDE = (312.018,311.526,311.018,310.343, 310.326,310.311,310.283,310.249,310.232 ,310.21,310.199,310.185,310.176,310.157 ,310.144,310.131,310.117,310.104, 310.091,310.076,310.058,310.044,310.029 ,310.016,309.993,309.978,309.955,309.94 ,309.924,309.9,309.886,309.868,309.849, 309.836,309.815,309.797,309.778,309.759 ,309.74,309.722,309.702,309.669,309.648 ,309.628,309.595,309.561,309.55,309.547 ,309.916,310.285,310.778,311.439, 311.843,312.243,312.268,312.284,312.273 ,312.262,312.246,312.235,312.226, 312.212,312.203,312.194,312.185,312.177 ,312.17,312.162,312.156,312.149,312.142 ,312.135,312.126,312.12,312.114,312.109 ,312.101,312.096,312.088,312.084, 312.079,312.076,312.072,312.066,312.062 ,312.059,312.056,312.053,312.049, 312.046,312.042,312.039,312.036,312.032 ,312.027,312.023,312.02,312.017,312.016 ,312.018)
ORBIT_NUMBER = 9277
ORBITAL_ECCENTRICITY = 0.578
ORBITAL_INCLINATION = 86.86
ORBITAL_SEMIMAJOR_AXIS = 8854.78
PERIAPSIS_ALTITUDE = 340.92
PERIAPSIS_ARGUMENT_ANGLE = 176.81
PERIAPSIS_TIME = 2011-04-07T20:14:13.000Z
SPACECRAFT_ORIENTATION = (0.0,-1.0,0.0)
^MEX_ORIENTATION_DESC = "MEX_ORIENTATION_DESC.TXT"
SPACECRAFT_POINTING_MODE = ACROSSTRACK
^MEX_POINTING_DESC = "MEX_POINTING_DESC.TXT"
RIGHT_ASCENSION = -1e+32
DECLINATION = -1e+32
OFFSET_ANGLE = -1.6
SPACECRAFT_SOLAR_DISTANCE = 2.07569e+08
TARGET_NAME = MARS
/* CAMERA DATA ELEMENTS */
DETECTOR_TEMPERATURE = 18.3705
FOCAL_PLANE_TEMPERATURE = 7.3599
INST_CMPRS_NAME = "DISCRETE COSINE TRANSFORMATION (DCT)"
INST_CMPRS_RATIO = 21.3736
INST_CMPRS_QUALITY = 0
INST_CMPRS_QUANTZ_TBL_ID = 0
INSTRUMENT_TEMPERATURE = 11.0301
LENS_TEMPERATURE = 8.5833
MACROPIXEL_SIZE = 8
MISSING_FRAMES = 0
PIXEL_SUBSAMPLING_FLAG = N
SIGNAL_CHAIN_ID = 2
/* RADIOMETRIC DATA ELEMENTS */
BANDWIDTH = 88.0
CENTER_FILTER_WAVELENGTH = 538.0
RADIANCE_OFFSET = 0.850471
RADIANCE_SCALING_FACTOR = 0.00326023
REFLECTANCE_SCALING_FACTOR = 0.000120939
MEX:REFLECTANCE_OFFSET = 0.0315483
/* IMAGE OBJECT DEFINITIONS */
OBJECT = IMAGE
  INTERCHANGE_FORMAT = BINARY
  LINES = 8926
  LINE_SAMPLES = 1384
  SAMPLE_TYPE = UNSIGNED_INTEGER
  SAMPLE_BITS = 8
  BANDS = 1
  BAND_STORAGE_TYPE = BAND_SEQUENTIAL
  MAXIMUM = 255
  MEAN = 104.354
  MINIMUM = 1
  STANDARD_DEVIATION = 37.2086
END_OBJECT = IMAGE
/* MAP OBJECT DEFINITIONS */
OBJECT = IMAGE_MAP_PROJECTION
  ^DATA_SET_MAP_PROJECTION_CATALOG= "DSMAP.CAT"
  A_AXIS_RADIUS = 3396.0
  B_AXIS_RADIUS = 3396.0
  C_AXIS_RADIUS = 3396.0
  CENTER_LATITUDE = 0.0
  CENTER_LONGITUDE = 311.0
  COORDINATE_SYSTEM_NAME = PLANETOGRAPHIC
  COORDINATE_SYSTEM_TYPE = "BODY-FIXED ROTATING"
  EASTERNMOST_LONGITUDE = 312.284
  FIRST_STANDARD_PARALLEL = "N/A"
  LINE_FIRST_PIXEL = 1
  LINE_LAST_PIXEL = 8926
  LINE_PROJECTION_OFFSET = -11223.5625
  MAP_PROJECTION_ROTATION = 0.0
  MAP_PROJECTION_TYPE = SINUSOIDAL
  MAP_RESOLUTION = 592.713803866667
  MAP_SCALE = 0.1
  MAXIMUM_LATITUDE = -18.9391
  MINIMUM_LATITUDE = -34.0018
  POSITIVE_LONGITUDE_DIRECTION = EAST
  REFERENCE_LATITUDE = "N/A"
  REFERENCE_LONGITUDE = "N/A"
  SAMPLE_FIRST_PIXEL = 1
  SAMPLE_LAST_PIXEL = 1384
  SAMPLE_PROJECTION_OFFSET = 740.3125
  SECOND_STANDARD_PARALLEL = "N/A"
  WESTERNMOST_LONGITUDE = 309.547
END_OBJECT = IMAGE_MAP_PROJECTION
END
