PDS_VERSION_ID = PDS3
/* FILE DATA ELEMENTS */
RECORD_TYPE = UNDEFINED
/* POINTERS TO DATA OBJECTS */
^IMAGE = ("H9264_0000_P24.TIF")
/* IDENTIFICATION DATA ELEMENTS */
DATA_SET_ID = "MEX-M-HRSC-4-REFDR-MAPPROJECT-EXT3-V4.0"
DATA_SET_NAME = "MARS EXPRESS HRSC MAP PROJECTED REFDR EXTENSION3 V4.0"
DETECTOR_ID = MEX_HRSC_P2
EVENT_TYPE = "MARS-REGIONAL-MAPPING-Im-Fl"
INSTRUMENT_HOST_ID = MEX
INSTRUMENT_HOST_NAME = "MARS EXPRESS"
INSTRUMENT_ID = HRSC
INSTRUMENT_NAME = "HIGH RESOLUTION STEREO CAMERA"
MISSION_NAME = "MARS EXPRESS"
MISSION_PHASE_NAME = ME_Phase_22
PROCESSING_LEVEL_ID = 4
PRODUCT_CREATION_TIME = 2023-02-04T05:05:37.000Z
PRODUCT_ID = "H9264_0000_P24.TIF"
RELEASE_ID = 0006
REVISION_ID = 0000
/* QUALITY DATA ELEMENTS */
DATA_QUALITY_ID = 1
DATA_QUALITY_DESC = "Data calculated based on original SPICE kernels"
/* TIME DATA ELEMENTS */
SPACECRAFT_CLOCK_START_COUNT = "1/0249960574.09073"
SPACECRAFT_CLOCK_STOP_COUNT = "1/0249961111.22331"
START_TIME = 2011-04-04T01:31:56.369Z
STOP_TIME = 2011-04-04T01:37:11.981Z
/* ORBITAL DATA ELEMENTS */
ASCENDING_NODE_LONGITUDE = 40.39
MAXIMUM_RESOLUTION = 0.0696
FOOTPRINT_POINT_LATITUDE = (-42.7163,-42.7402,-42.752,-42.7672, -42.7744,-42.7812,-42.7856,-42.7849, -42.7847,-42.7524,-43.3309,-43.6805, -44.3867,-44.8606,-45.4624,-45.9474, -46.5643,-47.06,-47.5612,-47.8135, -48.0677,-48.323,-48.7114,-48.9703, -49.3616,-49.755,-50.0187,-50.2833, -50.5443,-50.8192,-51.0888,-51.3596, -51.6323,-51.9065,-52.183,-52.5984, -52.8749,-53.156,-53.437,-53.7212, -54.0068,-54.2937,-54.581,-54.8721, -55.1637,-55.6047,-55.7519,-55.8145, -55.8162,-55.8133,-55.8066,-55.7974, -55.7877,-55.7759,-55.7566,-55.7314, -55.7082,-55.6579,-55.6226,-55.5674, -55.562,-55.559,-55.2685,-54.9848, -54.6992,-54.4154,-54.1326,-53.8511, -53.5719,-53.2929,-53.0164,-52.7416, -52.3292,-52.0567,-51.7853,-51.5154, -51.2473,-50.9803,-50.7146,-50.4505, -50.1885,-49.928,-49.6673,-49.4089, -49.0212,-48.7619,-48.2593,-47.8818, -47.3812,-46.6361,-46.0219,-45.5374, -45.0592,-44.7052,-44.2335,-43.767, -43.3046,-42.8473,-42.7337,-42.7163)
FOOTPRINT_POINT_LONGITUDE = (204.784,204.125,203.738,203.119, 202.732,202.229,201.609,200.832,200.793 ,200.761,200.722,200.698,200.646, 200.609,200.563,200.523,200.474,200.431 ,200.386,200.364,200.341,200.317, 200.283,200.259,200.222,200.183,200.156 ,200.129,200.097,200.074,200.045, 200.016,199.986,199.956,199.926,199.878 ,199.843,199.81,199.775,199.741,199.705 ,199.669,199.631,199.594,199.555, 199.495,199.475,199.466,199.921,200.836 ,201.521,202.052,202.507,202.961, 203.567,204.247,204.776,205.756,206.359 ,207.188,207.263,207.29,207.206,207.121 ,207.04,206.961,206.884,206.809,206.736 ,206.666,206.596,206.528,206.431, 206.368,206.306,206.246,206.187,206.13, 206.073,206.019,205.965,205.912,205.861 ,205.811,205.739,205.694,205.6,205.534, 205.45,205.334,205.243,205.173,205.105, 205.055,204.993,204.933,204.875,204.819 ,204.806,204.784)
ORBIT_NUMBER = 9264
ORBITAL_ECCENTRICITY = 0.578
ORBITAL_INCLINATION = 86.84
ORBITAL_SEMIMAJOR_AXIS = 8856.95
PERIAPSIS_ALTITUDE = 339.73
PERIAPSIS_ARGUMENT_ANGLE = 179.03
PERIAPSIS_TIME = 2011-04-04T01:18:49.000Z
SPACECRAFT_ORIENTATION = (0.0,-1.0,0.0)
^MEX_ORIENTATION_DESC = "MEX_ORIENTATION_DESC.TXT"
SPACECRAFT_POINTING_MODE = NADIR
^MEX_POINTING_DESC = "MEX_POINTING_DESC.TXT"
RIGHT_ASCENSION = -1e+32
DECLINATION = -1e+32
OFFSET_ANGLE = -1e+32
SPACECRAFT_SOLAR_DISTANCE = 2.07349e+08
TARGET_NAME = MARS
/* CAMERA DATA ELEMENTS */
DETECTOR_TEMPERATURE = 18.7783
FOCAL_PLANE_TEMPERATURE = 8.5833
INST_CMPRS_NAME = "DISCRETE COSINE TRANSFORMATION (DCT)"
INST_CMPRS_RATIO = 7.0451
INST_CMPRS_QUALITY = 0
INST_CMPRS_QUANTZ_TBL_ID = 0
INSTRUMENT_TEMPERATURE = 11.234
LENS_TEMPERATURE = 7.7677
MACROPIXEL_SIZE = 2
MISSING_FRAMES = 0
PIXEL_SUBSAMPLING_FLAG = N
SIGNAL_CHAIN_ID = 3
/* RADIOMETRIC DATA ELEMENTS */
BANDWIDTH = 177.0
CENTER_FILTER_WAVELENGTH = 676.5
RADIANCE_OFFSET = 2.30704
RADIANCE_SCALING_FACTOR = 0.00999501
REFLECTANCE_SCALING_FACTOR = 0.000227848
MEX:REFLECTANCE_OFFSET = 0.0525917
/* IMAGE OBJECT DEFINITIONS */
OBJECT = IMAGE
  INTERCHANGE_FORMAT = BINARY
  LINES = 15544
  LINE_SAMPLES = 4556
  SAMPLE_TYPE = UNSIGNED_INTEGER
  SAMPLE_BITS = 8
  BANDS = 1
  BAND_STORAGE_TYPE = BAND_SEQUENTIAL
  MAXIMUM = 255
  MEAN = 104.646
  MINIMUM = 1
  STANDARD_DEVIATION = 28.0758
END_OBJECT = IMAGE
/* MAP OBJECT DEFINITIONS */
OBJECT = IMAGE_MAP_PROJECTION
  ^DATA_SET_MAP_PROJECTION_CATALOG= "DSMAP.CAT"
  A_AXIS_RADIUS = 3396.0
  B_AXIS_RADIUS = 3396.0
  C_AXIS_RADIUS = 3396.0
  CENTER_LATITUDE = 0.0
  CENTER_LONGITUDE = 203.0
  COORDINATE_SYSTEM_NAME = PLANETOGRAPHIC
  COORDINATE_SYSTEM_TYPE = "BODY-FIXED ROTATING"
  EASTERNMOST_LONGITUDE = 207.29
  FIRST_STANDARD_PARALLEL = "N/A"
  LINE_FIRST_PIXEL = 1
  LINE_LAST_PIXEL = 15544
  LINE_PROJECTION_OFFSET = -50608.75
  MAP_PROJECTION_ROTATION = 0.0
  MAP_PROJECTION_TYPE = SINUSOIDAL
  MAP_RESOLUTION = 1185.42760773333
  MAP_SCALE = 0.05
  MAXIMUM_LATITUDE = -42.7163
  MINIMUM_LATITUDE = -55.8162
  POSITIVE_LONGITUDE_DIRECTION = EAST
  REFERENCE_LATITUDE = "N/A"
  REFERENCE_LONGITUDE = "N/A"
  SAMPLE_FIRST_PIXEL = 1
  SAMPLE_LAST_PIXEL = 4556
  SAMPLE_PROJECTION_OFFSET = 1980.75
  SECOND_STANDARD_PARALLEL = "N/A"
  WESTERNMOST_LONGITUDE = 199.466
END_OBJECT = IMAGE_MAP_PROJECTION
END
