PDS_VERSION_ID = PDS3
/* FILE DATA ELEMENTS */
RECORD_TYPE = UNDEFINED
/* POINTERS TO DATA OBJECTS */
^IMAGE = ("H9264_0000_P14.TIF")
/* IDENTIFICATION DATA ELEMENTS */
DATA_SET_ID = "MEX-M-HRSC-4-REFDR-MAPPROJECT-EXT3-V4.0"
DATA_SET_NAME = "MARS EXPRESS HRSC MAP PROJECTED REFDR EXTENSION3 V4.0"
DETECTOR_ID = MEX_HRSC_P1
EVENT_TYPE = "MARS-REGIONAL-MAPPING-Im-Fl"
INSTRUMENT_HOST_ID = MEX
INSTRUMENT_HOST_NAME = "MARS EXPRESS"
INSTRUMENT_ID = HRSC
INSTRUMENT_NAME = "HIGH RESOLUTION STEREO CAMERA"
MISSION_NAME = "MARS EXPRESS"
MISSION_PHASE_NAME = ME_Phase_22
PROCESSING_LEVEL_ID = 4
PRODUCT_CREATION_TIME = 2023-02-04T05:05:37.000Z
PRODUCT_ID = "H9264_0000_P14.TIF"
RELEASE_ID = 0006
REVISION_ID = 0000
/* QUALITY DATA ELEMENTS */
DATA_QUALITY_ID = 1
DATA_QUALITY_DESC = "Data calculated based on original SPICE kernels"
/* TIME DATA ELEMENTS */
SPACECRAFT_CLOCK_START_COUNT = "1/0249960574.09073"
SPACECRAFT_CLOCK_STOP_COUNT = "1/0249961111.22331"
START_TIME = 2011-04-04T01:30:01.232Z
STOP_TIME = 2011-04-04T01:33:58.355Z
/* ORBITAL DATA ELEMENTS */
ASCENDING_NODE_LONGITUDE = 40.39
MAXIMUM_RESOLUTION = 0.0591
FOOTPRINT_POINT_LATITUDE = (-42.6718,-42.6853,-42.6966,-42.7044, -42.7077,-42.7094,-42.7094,-42.7433, -43.1937,-43.6524,-44.1166,-44.7044, -45.181,-45.6646,-46.1507,-46.6425, -46.8876,-47.2634,-47.5142,-47.7669, -48.0204,-48.2749,-48.5329,-48.7903, -49.0559,-49.3177,-49.5745,-49.9721, -50.2384,-50.5084,-50.7781,-51.0491, -51.4591,-51.7338,-52.0148,-52.2948, -52.5748,-52.8563,-53.1396,-53.424, -53.7105,-53.9992,-54.2895,-54.5821, -54.8763,-55.1722,-55.6188,-55.7694, -55.7994,-55.7967,-55.7923,-55.7846, -55.7665,-55.7563,-55.7403,-55.7263, -55.7103,-55.6886,-55.6591,-55.6564, -55.6542,-55.3607,-55.0652,-54.7729, -54.4803,-54.1925,-53.7607,-53.4754, -53.1925,-52.7736,-52.3529,-52.0763, -51.8014,-51.528,-51.2555,-50.9845, -50.7164,-50.3134,-50.049,-49.6511, -49.3885,-49.1265,-48.8727,-48.6147, -48.361,-48.1046,-47.7196,-47.4691, -47.2194,-46.7285,-46.2396,-45.6351, -45.0351,-44.5632,-44.0958,-43.6334, -43.1754,-42.8338,-42.7201,-42.6718)
FOOTPRINT_POINT_LONGITUDE = (204.485,203.796,203.043,202.29,201.765 ,201.141,201.109,201.077,201.059, 201.038,201.016,200.987,200.963,200.937 ,200.912,200.886,200.875,200.854, 200.841,200.827,200.814,200.8,200.785, 200.771,200.752,200.737,200.726,200.703 ,200.687,200.67,200.654,200.638,200.613 ,200.596,200.576,200.557,200.539, 200.521,200.503,200.486,200.467,200.447 ,200.428,200.408,200.387,200.367, 200.335,200.324,200.322,200.923,201.405 ,202.066,203.086,203.566,204.165, 204.645,205.123,205.722,206.441,206.5, 206.522,206.454,206.385,206.319,206.253 ,206.191,206.099,206.04,205.983,205.903 ,205.821,205.77,205.72,205.671,205.623, 205.577,205.532,205.464,205.422,205.358 ,205.317,205.276,205.242,205.204,205.17 ,205.132,205.076,205.043,205.009, 204.949,204.889,204.818,204.747,204.695 ,204.645,204.597,204.551,204.517, 204.505,204.485)
ORBIT_NUMBER = 9264
ORBITAL_ECCENTRICITY = 0.578
ORBITAL_INCLINATION = 86.84
ORBITAL_SEMIMAJOR_AXIS = 8856.95
PERIAPSIS_ALTITUDE = 339.73
PERIAPSIS_ARGUMENT_ANGLE = 179.03
PERIAPSIS_TIME = 2011-04-04T01:18:49.000Z
SPACECRAFT_ORIENTATION = (0.0,-1.0,0.0)
^MEX_ORIENTATION_DESC = "MEX_ORIENTATION_DESC.TXT"
SPACECRAFT_POINTING_MODE = NADIR
^MEX_POINTING_DESC = "MEX_POINTING_DESC.TXT"
RIGHT_ASCENSION = -1e+32
DECLINATION = -1e+32
OFFSET_ANGLE = -1e+32
SPACECRAFT_SOLAR_DISTANCE = 2.07349e+08
TARGET_NAME = MARS
/* CAMERA DATA ELEMENTS */
DETECTOR_TEMPERATURE = 17.5549
FOCAL_PLANE_TEMPERATURE = 8.5833
INST_CMPRS_NAME = "DISCRETE COSINE TRANSFORMATION (DCT)"
INST_CMPRS_RATIO = 10.5218
INST_CMPRS_QUALITY = 0
INST_CMPRS_QUANTZ_TBL_ID = 0
INSTRUMENT_TEMPERATURE = 11.234
LENS_TEMPERATURE = 7.7677
MACROPIXEL_SIZE = 2
MISSING_FRAMES = 0
PIXEL_SUBSAMPLING_FLAG = N
SIGNAL_CHAIN_ID = 3
/* RADIOMETRIC DATA ELEMENTS */
BANDWIDTH = 174.0
CENTER_FILTER_WAVELENGTH = 675.0
RADIANCE_OFFSET = 2.37791
RADIANCE_SCALING_FACTOR = 0.0101169
REFLECTANCE_SCALING_FACTOR = 0.000233957
MEX:REFLECTANCE_OFFSET = 0.0549902
/* IMAGE OBJECT DEFINITIONS */
OBJECT = IMAGE
  INTERCHANGE_FORMAT = BINARY
  LINES = 15544
  LINE_SAMPLES = 4556
  SAMPLE_TYPE = UNSIGNED_INTEGER
  SAMPLE_BITS = 8
  BANDS = 1
  BAND_STORAGE_TYPE = BAND_SEQUENTIAL
  MAXIMUM = 255
  MEAN = 112.66
  MINIMUM = 1
  STANDARD_DEVIATION = 26.0469
END_OBJECT = IMAGE
/* MAP OBJECT DEFINITIONS */
OBJECT = IMAGE_MAP_PROJECTION
  ^DATA_SET_MAP_PROJECTION_CATALOG= "DSMAP.CAT"
  A_AXIS_RADIUS = 3396.0
  B_AXIS_RADIUS = 3396.0
  C_AXIS_RADIUS = 3396.0
  CENTER_LATITUDE = 0.0
  CENTER_LONGITUDE = 203.0
  COORDINATE_SYSTEM_NAME = PLANETOGRAPHIC
  COORDINATE_SYSTEM_TYPE = "BODY-FIXED ROTATING"
  EASTERNMOST_LONGITUDE = 206.522
  FIRST_STANDARD_PARALLEL = "N/A"
  LINE_FIRST_PIXEL = 1
  LINE_LAST_PIXEL = 15544
  LINE_PROJECTION_OFFSET = -50608.75
  MAP_PROJECTION_ROTATION = 0.0
  MAP_PROJECTION_TYPE = SINUSOIDAL
  MAP_RESOLUTION = 1185.42760773333
  MAP_SCALE = 0.05
  MAXIMUM_LATITUDE = -42.6718
  MINIMUM_LATITUDE = -55.7994
  POSITIVE_LONGITUDE_DIRECTION = EAST
  REFERENCE_LATITUDE = "N/A"
  REFERENCE_LONGITUDE = "N/A"
  SAMPLE_FIRST_PIXEL = 1
  SAMPLE_LAST_PIXEL = 4556
  SAMPLE_PROJECTION_OFFSET = 1980.75
  SECOND_STANDARD_PARALLEL = "N/A"
  WESTERNMOST_LONGITUDE = 200.322
END_OBJECT = IMAGE_MAP_PROJECTION
END
