PDS_VERSION_ID = PDS3
/* FILE DATA ELEMENTS */
RECORD_TYPE = UNDEFINED
/* POINTERS TO DATA OBJECTS */
^IMAGE = ("H9263_0000_P14.TIF")
/* IDENTIFICATION DATA ELEMENTS */
DATA_SET_ID = "MEX-M-HRSC-4-REFDR-MAPPROJECT-EXT3-V4.0"
DATA_SET_NAME = "MARS EXPRESS HRSC MAP PROJECTED REFDR EXTENSION3 V4.0"
DETECTOR_ID = MEX_HRSC_P1
EVENT_TYPE = "MARS-REGIONAL-MAPPING-Te-Fl"
INSTRUMENT_HOST_ID = MEX
INSTRUMENT_HOST_NAME = "MARS EXPRESS"
INSTRUMENT_ID = HRSC
INSTRUMENT_NAME = "HIGH RESOLUTION STEREO CAMERA"
MISSION_NAME = "MARS EXPRESS"
MISSION_PHASE_NAME = ME_Phase_22
PROCESSING_LEVEL_ID = 4
PRODUCT_CREATION_TIME = 2023-02-04T05:05:37.000Z
PRODUCT_ID = "H9263_0000_P14.TIF"
RELEASE_ID = 0006
REVISION_ID = 0000
/* QUALITY DATA ELEMENTS */
DATA_QUALITY_ID = 1
DATA_QUALITY_DESC = "Data calculated based on original SPICE kernels"
/* TIME DATA ELEMENTS */
SPACECRAFT_CLOCK_START_COUNT = "1/0249935220.08249"
SPACECRAFT_CLOCK_STOP_COUNT = "1/0249935532.29711"
START_TIME = 2011-04-03T18:27:20.251Z
STOP_TIME = 2011-04-03T18:29:50.872Z
/* ORBITAL DATA ELEMENTS */
ASCENDING_NODE_LONGITUDE = 40.4
MAXIMUM_RESOLUTION = 0.0447
FOOTPRINT_POINT_LATITUDE = (-31.7417,-31.7474,-31.7524,-31.7556, -31.7597,-31.7633,-31.7664,-31.7681, -31.7683,-31.7854,-32.1942,-32.6889, -33.0234,-33.3585,-33.6985,-33.9538, -34.2969,-34.6406,-34.815,-34.9905, -35.1667,-35.3424,-35.6089,-35.787, -35.9645,-36.1443,-36.325,-36.5958, -36.7785,-36.9617,-37.1447,-37.4221, -37.6077,-37.7931,-38.0746,-38.2622, -38.5459,-38.7359,-38.9255,-39.2131, -39.4053,-39.6962,-39.8903,-40.0847, -40.2819,-40.6774,-40.7775,-40.8518, -40.8495,-40.8449,-40.8401,-40.8371, -40.8369,-40.8358,-40.8325,-40.8256, -40.8178,-40.8171,-40.816,-40.6167, -40.418,-40.2193,-40.0225,-39.8293, -39.634,-39.4366,-39.2436,-39.0518, -38.7654,-38.5766,-38.3868,-38.1997, -38.0176,-37.8314,-37.55,-37.3619, -37.1783,-36.9041,-36.7205,-36.4483, -36.2713,-35.9996,-35.8184,-35.641, -35.4631,-35.2869,-35.1128,-34.9383, -34.7634,-34.5905,-34.2461,-33.904, -33.4758,-33.2185,-32.892,-32.642, -32.2287,-31.9004,-31.8195,-31.7417)
FOOTPRINT_POINT_LONGITUDE = (305.294,304.952,304.61,304.373,304.027 ,303.68,303.33,303.088,303.066,303.044, 303.027,303.007,302.993,302.978,302.963 ,302.952,302.937,302.923,302.915, 302.907,302.898,302.889,302.876,302.868 ,302.86,302.851,302.842,302.829,302.819 ,302.81,302.801,302.787,302.777,302.768 ,302.753,302.744,302.729,302.719,302.71 ,302.695,302.686,302.67,302.661,302.65, 302.64,302.618,302.612,302.608,302.949, 303.383,303.722,304.089,304.332,304.667 ,304.911,305.306,305.731,305.761, 305.772,305.758,305.743,305.729,305.716 ,305.703,305.69,305.677,305.664,305.652 ,305.634,305.623,305.612,305.601, 305.591,305.581,305.564,305.553,305.543 ,305.528,305.518,305.503,305.495, 305.481,305.471,305.462,305.454,305.445 ,305.437,305.429,305.421,305.413, 305.398,305.383,305.364,305.353,305.341 ,305.331,305.315,305.302,305.299, 305.294)
ORBIT_NUMBER = 9263
ORBITAL_ECCENTRICITY = 0.578
ORBITAL_INCLINATION = 86.84
ORBITAL_SEMIMAJOR_AXIS = 8857.57
PERIAPSIS_ALTITUDE = 339.47
PERIAPSIS_ARGUMENT_ANGLE = 179.24
PERIAPSIS_TIME = 2011-04-03T18:19:15.000Z
SPACECRAFT_ORIENTATION = (0.0,-1.0,0.0)
^MEX_ORIENTATION_DESC = "MEX_ORIENTATION_DESC.TXT"
SPACECRAFT_POINTING_MODE = ACROSSTRACK
^MEX_POINTING_DESC = "MEX_POINTING_DESC.TXT"
RIGHT_ASCENSION = -1e+32
DECLINATION = -1e+32
OFFSET_ANGLE = -0.6
SPACECRAFT_SOLAR_DISTANCE = 2.07333e+08
TARGET_NAME = MARS
/* CAMERA DATA ELEMENTS */
DETECTOR_TEMPERATURE = 17.5549
FOCAL_PLANE_TEMPERATURE = 8.3794
INST_CMPRS_NAME = "DISCRETE COSINE TRANSFORMATION (DCT)"
INST_CMPRS_RATIO = 13.6571
INST_CMPRS_QUALITY = 0
INST_CMPRS_QUANTZ_TBL_ID = 0
INSTRUMENT_TEMPERATURE = 11.0301
LENS_TEMPERATURE = 10.2145
MACROPIXEL_SIZE = 2
MISSING_FRAMES = 0
PIXEL_SUBSAMPLING_FLAG = N
SIGNAL_CHAIN_ID = 3
/* RADIOMETRIC DATA ELEMENTS */
BANDWIDTH = 174.0
CENTER_FILTER_WAVELENGTH = 675.0
RADIANCE_OFFSET = 2.06642
RADIANCE_SCALING_FACTOR = 0.00620174
REFLECTANCE_SCALING_FACTOR = 0.000143396
MEX:REFLECTANCE_OFFSET = 0.0477796
/* IMAGE OBJECT DEFINITIONS */
OBJECT = IMAGE
  INTERCHANGE_FORMAT = BINARY
  LINES = 10755
  LINE_SAMPLES = 3031
  SAMPLE_TYPE = UNSIGNED_INTEGER
  SAMPLE_BITS = 8
  BANDS = 1
  BAND_STORAGE_TYPE = BAND_SEQUENTIAL
  MAXIMUM = 255
  MEAN = 117.797
  MINIMUM = 1
  STANDARD_DEVIATION = 35.1336
END_OBJECT = IMAGE
/* MAP OBJECT DEFINITIONS */
OBJECT = IMAGE_MAP_PROJECTION
  ^DATA_SET_MAP_PROJECTION_CATALOG= "DSMAP.CAT"
  A_AXIS_RADIUS = 3396.0
  B_AXIS_RADIUS = 3396.0
  C_AXIS_RADIUS = 3396.0
  CENTER_LATITUDE = 0.0
  CENTER_LONGITUDE = 304.0
  COORDINATE_SYSTEM_NAME = PLANETOGRAPHIC
  COORDINATE_SYSTEM_TYPE = "BODY-FIXED ROTATING"
  EASTERNMOST_LONGITUDE = 305.772
  FIRST_STANDARD_PARALLEL = "N/A"
  LINE_FIRST_PIXEL = 1
  LINE_LAST_PIXEL = 10755
  LINE_PROJECTION_OFFSET = -37667.25
  MAP_PROJECTION_ROTATION = 0.0
  MAP_PROJECTION_TYPE = SINUSOIDAL
  MAP_RESOLUTION = 1185.42760773333
  MAP_SCALE = 0.05
  MAXIMUM_LATITUDE = -31.7417
  MINIMUM_LATITUDE = -40.8518
  POSITIVE_LONGITUDE_DIRECTION = EAST
  REFERENCE_LATITUDE = "N/A"
  REFERENCE_LONGITUDE = "N/A"
  SAMPLE_FIRST_PIXEL = 1
  SAMPLE_LAST_PIXEL = 3031
  SAMPLE_PROJECTION_OFFSET = 1338.25
  SECOND_STANDARD_PARALLEL = "N/A"
  WESTERNMOST_LONGITUDE = 302.608
END_OBJECT = IMAGE_MAP_PROJECTION
END
