PDS_VERSION_ID = PDS3
/* FILE DATA ELEMENTS */
RECORD_TYPE = UNDEFINED
/* POINTERS TO DATA OBJECTS */
^IMAGE = ("H9262_0000_S24.TIF")
/* IDENTIFICATION DATA ELEMENTS */
DATA_SET_ID = "MEX-M-HRSC-4-REFDR-MAPPROJECT-EXT3-V4.0"
DATA_SET_NAME = "MARS EXPRESS HRSC MAP PROJECTED REFDR EXTENSION3 V4.0"
DETECTOR_ID = MEX_HRSC_S2
EVENT_TYPE = "MARS-REGIONAL-MAPPING-Im-Gl-Pf"
INSTRUMENT_HOST_ID = MEX
INSTRUMENT_HOST_NAME = "MARS EXPRESS"
INSTRUMENT_ID = HRSC
INSTRUMENT_NAME = "HIGH RESOLUTION STEREO CAMERA"
MISSION_NAME = "MARS EXPRESS"
MISSION_PHASE_NAME = ME_Phase_22
PROCESSING_LEVEL_ID = 4
PRODUCT_CREATION_TIME = 2023-02-04T05:05:37.000Z
PRODUCT_ID = "H9262_0000_S24.TIF"
RELEASE_ID = 0006
REVISION_ID = 0000
/* QUALITY DATA ELEMENTS */
DATA_QUALITY_ID = 1
DATA_QUALITY_DESC = "Data calculated based on original SPICE kernels"
/* TIME DATA ELEMENTS */
SPACECRAFT_CLOCK_START_COUNT = "1/0249910046.09127"
SPACECRAFT_CLOCK_STOP_COUNT = "1/0249910676.01279"
START_TIME = 2011-04-03T11:29:29.272Z
STOP_TIME = 2011-04-03T11:37:56.854Z
/* ORBITAL DATA ELEMENTS */
ASCENDING_NODE_LONGITUDE = 40.43
MAXIMUM_RESOLUTION = 0.0547
FOOTPRINT_POINT_LATITUDE = (-32.4108,-32.4217,-32.433,-32.435, -32.4321,-32.4319,-32.4048,-33.1668, -33.6706,-34.161,-34.6544,-35.1374, -35.6224,-36.1094,-36.5931,-37.0684, -37.5356,-38.0045,-38.4698,-39.1624, -39.616,-40.0722,-40.5265,-40.9759, -41.4207,-42.0799,-42.5144,-43.1674, -43.5951,-44.0215,-44.4426,-44.8625, -45.2761,-45.8849,-46.291,-46.697, -47.0969,-47.4912,-48.073,-48.4675, -48.851,-49.2309,-49.6138,-50.3568, -51.2705,-51.99,-52.6964,-53.3929, -53.5643,-53.5877,-53.5899,-53.5869, -53.576,-53.5421,-53.4975,-53.4636, -53.3925,-53.3328,-53.324,-53.3199, -52.8216,-52.1347,-51.4363,-50.7231, -49.9983,-49.0716,-48.1201,-47.7344, -47.3484,-46.7603,-46.3651,-45.9731, -45.5639,-45.1577,-44.7466,-44.3332, -43.9167,-43.4964,-43.0732,-42.648, -42.2199,-41.7866,-41.3494,-40.9069, -40.2408,-39.7953,-39.1118,-38.4231, -37.9604,-37.495,-37.0331,-36.5589, -36.0739,-35.3611,-34.6446,-33.9113, -33.4174,-32.6691,-32.4167,-32.4108)
FOOTPRINT_POINT_LONGITUDE = (48.5263,48.0376,47.215,46.3929,45.9033 ,45.8775,45.8596,45.8227,45.7977, 45.7688,45.7417,45.7118,45.6833,45.6564 ,45.6292,45.5997,45.5681,45.5379, 45.5072,45.4608,45.4277,45.3965,45.3655 ,45.3334,45.3003,45.2491,45.214,45.1635 ,45.1278,45.0924,45.0556,45.0192, 44.9809,44.9201,44.8807,44.8421,44.8015 ,44.7594,44.6933,44.6532,44.6089, 44.5637,44.5206,44.4261,44.3049,44.2055 ,44.1025,43.9971,43.9698,43.966,44.6959 ,45.5009,46.3035,47.6864,48.7769, 49.4306,50.5913,51.389,51.4624,51.4888, 51.3512,51.1764,51.0071,50.8442,50.6865 ,50.4978,50.319,50.2496,50.1805,50.0802 ,50.0146,49.9481,49.8873,49.8257, 49.7658,49.7067,49.6487,49.5921,49.5364 ,49.4814,49.4273,49.375,49.3239,49.2745 ,49.2012,49.1526,49.0847,49.0182, 48.9749,48.9323,48.8885,48.8486,48.8119 ,48.7519,48.6927,48.6385,48.6037, 48.5535,48.5376,48.5263)
ORBIT_NUMBER = 9262
ORBITAL_ECCENTRICITY = 0.579
ORBITAL_INCLINATION = 86.84
ORBITAL_SEMIMAJOR_AXIS = 8863.68
PERIAPSIS_ALTITUDE = 339.04
PERIAPSIS_ARGUMENT_ANGLE = 179.42
PERIAPSIS_TIME = 2011-04-03T11:19:34.000Z
SPACECRAFT_ORIENTATION = (0.0,-1.0,0.0)
^MEX_ORIENTATION_DESC = "MEX_ORIENTATION_DESC.TXT"
SPACECRAFT_POINTING_MODE = NADIR
^MEX_POINTING_DESC = "MEX_POINTING_DESC.TXT"
RIGHT_ASCENSION = -1e+32
DECLINATION = -1e+32
OFFSET_ANGLE = -1e+32
SPACECRAFT_SOLAR_DISTANCE = 2.07317e+08
TARGET_NAME = MARS
/* CAMERA DATA ELEMENTS */
DETECTOR_TEMPERATURE = 18.5744
FOCAL_PLANE_TEMPERATURE = 8.5833
INST_CMPRS_NAME = "DISCRETE COSINE TRANSFORMATION (DCT)"
INST_CMPRS_RATIO = 13.1592
INST_CMPRS_QUALITY = 0
INST_CMPRS_QUANTZ_TBL_ID = 0
INSTRUMENT_TEMPERATURE = 11.4379
LENS_TEMPERATURE = 8.9911
MACROPIXEL_SIZE = 2
MISSING_FRAMES = 0
PIXEL_SUBSAMPLING_FLAG = N
SIGNAL_CHAIN_ID = 1
/* RADIOMETRIC DATA ELEMENTS */
BANDWIDTH = 178.0
CENTER_FILTER_WAVELENGTH = 679.0
RADIANCE_OFFSET = 2.27305
RADIANCE_SCALING_FACTOR = 0.0110031
REFLECTANCE_SCALING_FACTOR = 0.000250448
MEX:REFLECTANCE_OFFSET = 0.0517381
/* IMAGE OBJECT DEFINITIONS */
OBJECT = IMAGE
  INTERCHANGE_FORMAT = BINARY
  LINES = 25125
  LINE_SAMPLES = 4261
  SAMPLE_TYPE = UNSIGNED_INTEGER
  SAMPLE_BITS = 8
  BANDS = 1
  BAND_STORAGE_TYPE = BAND_SEQUENTIAL
  MAXIMUM = 255
  MEAN = 124.043
  MINIMUM = 1
  STANDARD_DEVIATION = 41.929
END_OBJECT = IMAGE
/* MAP OBJECT DEFINITIONS */
OBJECT = IMAGE_MAP_PROJECTION
  ^DATA_SET_MAP_PROJECTION_CATALOG= "DSMAP.CAT"
  A_AXIS_RADIUS = 3396.0
  B_AXIS_RADIUS = 3396.0
  C_AXIS_RADIUS = 3396.0
  CENTER_LATITUDE = 0.0
  CENTER_LONGITUDE = 47.0
  COORDINATE_SYSTEM_NAME = PLANETOGRAPHIC
  COORDINATE_SYSTEM_TYPE = "BODY-FIXED ROTATING"
  EASTERNMOST_LONGITUDE = 51.4888
  FIRST_STANDARD_PARALLEL = "N/A"
  LINE_FIRST_PIXEL = 1
  LINE_LAST_PIXEL = 25125
  LINE_PROJECTION_OFFSET = -38383.75
  MAP_PROJECTION_ROTATION = 0.0
  MAP_PROJECTION_TYPE = SINUSOIDAL
  MAP_RESOLUTION = 1185.42760773333
  MAP_SCALE = 0.05
  MAXIMUM_LATITUDE = -32.4048
  MINIMUM_LATITUDE = -53.5899
  POSITIVE_LONGITUDE_DIRECTION = EAST
  REFERENCE_LATITUDE = "N/A"
  REFERENCE_LONGITUDE = "N/A"
  SAMPLE_FIRST_PIXEL = 1
  SAMPLE_LAST_PIXEL = 4261
  SAMPLE_PROJECTION_OFFSET = 1531.75
  SECOND_STANDARD_PARALLEL = "N/A"
  WESTERNMOST_LONGITUDE = 43.966
END_OBJECT = IMAGE_MAP_PROJECTION
END
