PDS_VERSION_ID = PDS3
/* FILE DATA ELEMENTS */
RECORD_TYPE = UNDEFINED
/* POINTERS TO DATA OBJECTS */
^IMAGE = ("H9262_0000_P24.TIF")
/* IDENTIFICATION DATA ELEMENTS */
DATA_SET_ID = "MEX-M-HRSC-4-REFDR-MAPPROJECT-EXT3-V4.0"
DATA_SET_NAME = "MARS EXPRESS HRSC MAP PROJECTED REFDR EXTENSION3 V4.0"
DETECTOR_ID = MEX_HRSC_P2
EVENT_TYPE = "MARS-REGIONAL-MAPPING-Im-Gl-Pf"
INSTRUMENT_HOST_ID = MEX
INSTRUMENT_HOST_NAME = "MARS EXPRESS"
INSTRUMENT_ID = HRSC
INSTRUMENT_NAME = "HIGH RESOLUTION STEREO CAMERA"
MISSION_NAME = "MARS EXPRESS"
MISSION_PHASE_NAME = ME_Phase_22
PROCESSING_LEVEL_ID = 4
PRODUCT_CREATION_TIME = 2023-02-04T05:05:37.000Z
PRODUCT_ID = "H9262_0000_P24.TIF"
RELEASE_ID = 0006
REVISION_ID = 0000
/* QUALITY DATA ELEMENTS */
DATA_QUALITY_ID = 1
DATA_QUALITY_DESC = "Data calculated based on original SPICE kernels"
/* TIME DATA ELEMENTS */
SPACECRAFT_CLOCK_START_COUNT = "1/0249910046.09127"
SPACECRAFT_CLOCK_STOP_COUNT = "1/0249910676.01279"
START_TIME = 2011-04-03T11:29:04.775Z
STOP_TIME = 2011-04-03T11:36:47.715Z
/* ORBITAL DATA ELEMENTS */
ASCENDING_NODE_LONGITUDE = 40.43
MAXIMUM_RESOLUTION = 0.1016
FOOTPRINT_POINT_LATITUDE = (-32.412,-32.4221,-32.4285,-32.4323, -32.4306,-32.4304,-32.4136,-32.8927, -33.3789,-34.0984,-34.8093,-35.5145, -35.9841,-36.686,-37.3748,-37.8312, -38.5136,-38.9658,-39.6354,-40.0815, -40.5256,-40.9661,-41.4035,-41.839, -42.269,-42.9116,-43.3394,-43.7657, -44.1874,-44.6036,-45.0211,-45.4313, -45.8389,-46.4494,-46.8543,-47.2566, -47.654,-48.2429,-48.6366,-49.024, -49.6042,-50.3665,-50.9343,-51.865, -52.5984,-53.3225,-53.5016,-53.5869, -53.5873,-53.5804,-53.5619,-53.5096, -53.445,-53.3799,-53.3761,-53.3738, -52.6662,-51.9481,-51.2193,-50.4802, -49.7299,-48.9633,-48.5847,-48.195, -47.8041,-47.413,-47.0189,-46.6208, -46.2214,-45.8199,-45.4128,-45.0034, -44.5925,-44.1796,-43.7623,-43.3435, -42.922,-42.4984,-42.0723,-41.643, -40.9924,-40.5561,-40.118,-39.6772, -39.2309,-38.7841,-38.3326,-37.88, -37.4265,-36.9742,-36.2789,-35.8109, -35.1135,-34.6518,-34.1818,-33.7053, -33.2277,-32.7471,-32.5083,-32.412)
FOOTPRINT_POINT_LONGITUDE = (48.4755,47.9312,47.4349,46.8206, 45.9687,45.945,45.9296,45.9068,45.8863, 45.8523,45.8163,45.7796,45.7563,45.7221 ,45.6832,45.6571,45.6189,45.5933, 45.5523,45.5262,45.5001,45.4732,45.4456 ,45.4181,45.3886,45.345,45.3171,45.2896 ,45.2604,45.2291,45.1999,45.1672, 45.1342,45.0863,45.0546,45.0224,44.9882 ,44.9345,44.901,44.8644,44.8113,44.7369 ,44.6816,44.5844,44.5041,44.4218, 44.4005,44.3902,45.1544,45.9859,47.0706 ,48.7269,50.0626,51.1443,51.2077, 51.2287,51.0559,50.8898,50.7303,50.577, 50.43,50.2921,50.2205,50.1549,50.0899, 50.0249,49.9614,49.8999,49.839,49.779, 49.7218,49.6657,49.6101,49.5553,49.5026 ,49.4504,49.3994,49.3491,49.2999,49.252 ,49.1829,49.1378,49.0932,49.0496, 49.0084,48.9672,48.9279,48.8887,48.8495 ,48.8093,48.7568,48.7234,48.6701, 48.6323,48.5983,48.567,48.5358,48.5056, 48.491,48.4755)
ORBIT_NUMBER = 9262
ORBITAL_ECCENTRICITY = 0.579
ORBITAL_INCLINATION = 86.84
ORBITAL_SEMIMAJOR_AXIS = 8863.68
PERIAPSIS_ALTITUDE = 339.04
PERIAPSIS_ARGUMENT_ANGLE = 179.42
PERIAPSIS_TIME = 2011-04-03T11:19:34.000Z
SPACECRAFT_ORIENTATION = (0.0,-1.0,0.0)
^MEX_ORIENTATION_DESC = "MEX_ORIENTATION_DESC.TXT"
SPACECRAFT_POINTING_MODE = NADIR
^MEX_POINTING_DESC = "MEX_POINTING_DESC.TXT"
RIGHT_ASCENSION = -1e+32
DECLINATION = -1e+32
OFFSET_ANGLE = -1e+32
SPACECRAFT_SOLAR_DISTANCE = 2.07317e+08
TARGET_NAME = MARS
/* CAMERA DATA ELEMENTS */
DETECTOR_TEMPERATURE = 18.5744
FOCAL_PLANE_TEMPERATURE = 8.5833
INST_CMPRS_NAME = "DISCRETE COSINE TRANSFORMATION (DCT)"
INST_CMPRS_RATIO = 16.273
INST_CMPRS_QUALITY = 0
INST_CMPRS_QUANTZ_TBL_ID = 0
INSTRUMENT_TEMPERATURE = 11.4379
LENS_TEMPERATURE = 8.9911
MACROPIXEL_SIZE = 4
MISSING_FRAMES = 0
PIXEL_SUBSAMPLING_FLAG = N
SIGNAL_CHAIN_ID = 3
/* RADIOMETRIC DATA ELEMENTS */
BANDWIDTH = 177.0
CENTER_FILTER_WAVELENGTH = 676.5
RADIANCE_OFFSET = 2.21851
RADIANCE_SCALING_FACTOR = 0.0100921
REFLECTANCE_SCALING_FACTOR = 0.00022999
MEX:REFLECTANCE_OFFSET = 0.0505582
/* IMAGE OBJECT DEFINITIONS */
OBJECT = IMAGE
  INTERCHANGE_FORMAT = BINARY
  LINES = 12563
  LINE_SAMPLES = 2131
  SAMPLE_TYPE = UNSIGNED_INTEGER
  SAMPLE_BITS = 8
  BANDS = 1
  BAND_STORAGE_TYPE = BAND_SEQUENTIAL
  MAXIMUM = 255
  MEAN = 119.956
  MINIMUM = 1
  STANDARD_DEVIATION = 43.0622
END_OBJECT = IMAGE
/* MAP OBJECT DEFINITIONS */
OBJECT = IMAGE_MAP_PROJECTION
  ^DATA_SET_MAP_PROJECTION_CATALOG= "DSMAP.CAT"
  A_AXIS_RADIUS = 3396.0
  B_AXIS_RADIUS = 3396.0
  C_AXIS_RADIUS = 3396.0
  CENTER_LATITUDE = 0.0
  CENTER_LONGITUDE = 47.0
  COORDINATE_SYSTEM_NAME = PLANETOGRAPHIC
  COORDINATE_SYSTEM_TYPE = "BODY-FIXED ROTATING"
  EASTERNMOST_LONGITUDE = 51.2287
  FIRST_STANDARD_PARALLEL = "N/A"
  LINE_FIRST_PIXEL = 1
  LINE_LAST_PIXEL = 12563
  LINE_PROJECTION_OFFSET = -19192.125
  MAP_PROJECTION_ROTATION = 0.0
  MAP_PROJECTION_TYPE = SINUSOIDAL
  MAP_RESOLUTION = 592.713803866667
  MAP_SCALE = 0.1
  MAXIMUM_LATITUDE = -32.412
  MINIMUM_LATITUDE = -53.5873
  POSITIVE_LONGITUDE_DIRECTION = EAST
  REFERENCE_LATITUDE = "N/A"
  REFERENCE_LONGITUDE = "N/A"
  SAMPLE_FIRST_PIXEL = 1
  SAMPLE_LAST_PIXEL = 2131
  SAMPLE_PROJECTION_OFFSET = 765.625
  SECOND_STANDARD_PARALLEL = "N/A"
  WESTERNMOST_LONGITUDE = 44.3902
END_OBJECT = IMAGE_MAP_PROJECTION
END
