PDS_VERSION_ID = PDS3
/* FILE DATA ELEMENTS */
RECORD_TYPE = UNDEFINED
/* POINTERS TO DATA OBJECTS */
^IMAGE = ("H9262_0000_IR4.TIF")
/* IDENTIFICATION DATA ELEMENTS */
DATA_SET_ID = "MEX-M-HRSC-4-REFDR-MAPPROJECT-EXT3-V4.0"
DATA_SET_NAME = "MARS EXPRESS HRSC MAP PROJECTED REFDR EXTENSION3 V4.0"
DETECTOR_ID = MEX_HRSC_IR
EVENT_TYPE = "MARS-REGIONAL-MAPPING-Im-Gl-Pf"
INSTRUMENT_HOST_ID = MEX
INSTRUMENT_HOST_NAME = "MARS EXPRESS"
INSTRUMENT_ID = HRSC
INSTRUMENT_NAME = "HIGH RESOLUTION STEREO CAMERA"
MISSION_NAME = "MARS EXPRESS"
MISSION_PHASE_NAME = ME_Phase_22
PROCESSING_LEVEL_ID = 4
PRODUCT_CREATION_TIME = 2023-02-04T05:05:37.000Z
PRODUCT_ID = "H9262_0000_IR4.TIF"
RELEASE_ID = 0006
REVISION_ID = 0000
/* QUALITY DATA ELEMENTS */
DATA_QUALITY_ID = 1
DATA_QUALITY_DESC = "Data calculated based on original SPICE kernels"
/* TIME DATA ELEMENTS */
SPACECRAFT_CLOCK_START_COUNT = "1/0249910046.09127"
SPACECRAFT_CLOCK_STOP_COUNT = "1/0249910676.01279"
START_TIME = 2011-04-03T11:27:37.862Z
STOP_TIME = 2011-04-03T11:33:36.023Z
/* ORBITAL DATA ELEMENTS */
ASCENDING_NODE_LONGITUDE = 40.43
MAXIMUM_RESOLUTION = 0.0907
FOOTPRINT_POINT_LATITUDE = (-32.3686,-32.3734,-32.3753,-32.3752, -32.3752,-32.3979,-33.1862,-33.9839, -34.8032,-35.2226,-35.6354,-36.0531, -36.4784,-36.9156,-37.5701,-38.0094, -38.4492,-38.8955,-39.5674,-40.003, -40.4434,-40.884,-41.3262,-41.9801, -42.4192,-42.8546,-43.2845,-43.7105, -44.1452,-44.576,-45.002,-45.6419, -46.2876,-46.7127,-47.1354,-47.5535, -47.9754,-48.3953,-49.0241,-49.4408, -49.8611,-50.2756,-50.8859,-51.2968, -51.7072,-52.1155,-52.5232,-53.3342, -53.5361,-53.5616,-53.5545,-53.5361, -53.5065,-53.4625,-53.4608,-53.4587, -52.8584,-52.0538,-51.65,-51.2445, -50.8373,-50.2244,-49.8153,-49.0006, -48.5785,-47.9562,-47.5383,-46.9126, -46.4906,-45.8567,-45.4343,-45.0098, -44.5831,-44.1544,-43.7244,-43.2932, -42.863,-42.428,-41.7754,-41.3394, -40.9026,-40.466,-40.0231,-39.5822, -39.1406,-38.6947,-38.2546,-37.5926, -37.1537,-36.7215,-36.2963,-35.8794, -35.4511,-35.035,-34.6161,-34.2038, -33.3994,-32.6078,-32.4145,-32.3686)
FOOTPRINT_POINT_LONGITUDE = (48.3229,47.4921,46.7448,46.1212, 46.1003,46.0856,46.0583,46.0321,46.0013 ,45.984,45.9706,45.9571,45.9415,45.9214 ,45.8955,45.8789,45.8639,45.8459, 45.8164,45.8017,45.7841,45.7656,45.7457 ,45.719,45.6986,45.6794,45.6622,45.6463 ,45.6251,45.6051,45.5869,45.5575, 45.5232,45.502,45.4814,45.4624,45.4404, 45.4187,45.385,45.3628,45.3375,45.3147, 45.2853,45.2622,45.2385,45.215,45.1908, 45.1421,45.1298,45.1282,46.3349,47.6429 ,49.0014,50.4617,50.5122,50.5287, 50.4127,50.2655,50.195,50.126,50.0586, 49.961,49.8987,49.7838,49.7201,49.6362, 49.5811,49.5034,49.4511,49.3762,49.3288 ,49.2822,49.2362,49.1909,49.1468, 49.1038,49.0631,49.0215,48.9623,48.9244 ,48.8877,48.8526,48.8158,48.7816, 48.7485,48.7146,48.6852,48.639,48.6079, 48.5796,48.5537,48.5303,48.5011,48.4766 ,48.4495,48.4255,48.3828,48.3425, 48.3339,48.3229)
ORBIT_NUMBER = 9262
ORBITAL_ECCENTRICITY = 0.579
ORBITAL_INCLINATION = 86.84
ORBITAL_SEMIMAJOR_AXIS = 8863.68
PERIAPSIS_ALTITUDE = 339.04
PERIAPSIS_ARGUMENT_ANGLE = 179.42
PERIAPSIS_TIME = 2011-04-03T11:19:34.000Z
SPACECRAFT_ORIENTATION = (0.0,-1.0,0.0)
^MEX_ORIENTATION_DESC = "MEX_ORIENTATION_DESC.TXT"
SPACECRAFT_POINTING_MODE = NADIR
^MEX_POINTING_DESC = "MEX_POINTING_DESC.TXT"
RIGHT_ASCENSION = -1e+32
DECLINATION = -1e+32
OFFSET_ANGLE = -1e+32
SPACECRAFT_SOLAR_DISTANCE = 2.07317e+08
TARGET_NAME = MARS
/* CAMERA DATA ELEMENTS */
DETECTOR_TEMPERATURE = 17.7588
FOCAL_PLANE_TEMPERATURE = 8.5833
INST_CMPRS_NAME = "DISCRETE COSINE TRANSFORMATION (DCT)"
INST_CMPRS_RATIO = 18.1329
INST_CMPRS_QUALITY = 0
INST_CMPRS_QUANTZ_TBL_ID = 0
INSTRUMENT_TEMPERATURE = 11.4379
LENS_TEMPERATURE = 8.9911
MACROPIXEL_SIZE = 4
MISSING_FRAMES = 0
PIXEL_SUBSAMPLING_FLAG = N
SIGNAL_CHAIN_ID = 2
/* RADIOMETRIC DATA ELEMENTS */
BANDWIDTH = 81.0
CENTER_FILTER_WAVELENGTH = 955.5
RADIANCE_OFFSET = 0.513191
RADIANCE_SCALING_FACTOR = 0.00305471
REFLECTANCE_SCALING_FACTOR = 0.00028325
MEX:REFLECTANCE_OFFSET = 0.047586
/* IMAGE OBJECT DEFINITIONS */
OBJECT = IMAGE
  INTERCHANGE_FORMAT = BINARY
  LINES = 12563
  LINE_SAMPLES = 2131
  SAMPLE_TYPE = UNSIGNED_INTEGER
  SAMPLE_BITS = 8
  BANDS = 1
  BAND_STORAGE_TYPE = BAND_SEQUENTIAL
  MAXIMUM = 255
  MEAN = 117.403
  MINIMUM = 1
  STANDARD_DEVIATION = 42.1334
END_OBJECT = IMAGE
/* MAP OBJECT DEFINITIONS */
OBJECT = IMAGE_MAP_PROJECTION
  ^DATA_SET_MAP_PROJECTION_CATALOG= "DSMAP.CAT"
  A_AXIS_RADIUS = 3396.0
  B_AXIS_RADIUS = 3396.0
  C_AXIS_RADIUS = 3396.0
  CENTER_LATITUDE = 0.0
  CENTER_LONGITUDE = 47.0
  COORDINATE_SYSTEM_NAME = PLANETOGRAPHIC
  COORDINATE_SYSTEM_TYPE = "BODY-FIXED ROTATING"
  EASTERNMOST_LONGITUDE = 50.5287
  FIRST_STANDARD_PARALLEL = "N/A"
  LINE_FIRST_PIXEL = 1
  LINE_LAST_PIXEL = 12563
  LINE_PROJECTION_OFFSET = -19192.125
  MAP_PROJECTION_ROTATION = 0.0
  MAP_PROJECTION_TYPE = SINUSOIDAL
  MAP_RESOLUTION = 592.713803866667
  MAP_SCALE = 0.1
  MAXIMUM_LATITUDE = -32.3686
  MINIMUM_LATITUDE = -53.5616
  POSITIVE_LONGITUDE_DIRECTION = EAST
  REFERENCE_LATITUDE = "N/A"
  REFERENCE_LONGITUDE = "N/A"
  SAMPLE_FIRST_PIXEL = 1
  SAMPLE_LAST_PIXEL = 2131
  SAMPLE_PROJECTION_OFFSET = 765.625
  SECOND_STANDARD_PARALLEL = "N/A"
  WESTERNMOST_LONGITUDE = 45.1282
END_OBJECT = IMAGE_MAP_PROJECTION
END
