PDS_VERSION_ID = PDS3
/* FILE DATA ELEMENTS */
RECORD_TYPE = UNDEFINED
/* POINTERS TO DATA OBJECTS */
^IMAGE = ("H9254_0000_IR4.TIF")
/* IDENTIFICATION DATA ELEMENTS */
DATA_SET_ID = "MEX-M-HRSC-4-REFDR-MAPPROJECT-EXT3-V4.0"
DATA_SET_NAME = "MARS EXPRESS HRSC MAP PROJECTED REFDR EXTENSION3 V4.0"
DETECTOR_ID = MEX_HRSC_IR
EVENT_TYPE = "MARS-REGIONAL-MAPPING-Im-Fl-Pf"
INSTRUMENT_HOST_ID = MEX
INSTRUMENT_HOST_NAME = "MARS EXPRESS"
INSTRUMENT_ID = HRSC
INSTRUMENT_NAME = "HIGH RESOLUTION STEREO CAMERA"
MISSION_NAME = "MARS EXPRESS"
MISSION_PHASE_NAME = ME_Phase_22
PROCESSING_LEVEL_ID = 4
PRODUCT_CREATION_TIME = 2023-02-04T05:05:37.000Z
PRODUCT_ID = "H9254_0000_IR4.TIF"
RELEASE_ID = 0006
REVISION_ID = 0000
/* QUALITY DATA ELEMENTS */
DATA_QUALITY_ID = 1
DATA_QUALITY_DESC = "Data calculated based on original SPICE kernels"
/* TIME DATA ELEMENTS */
SPACECRAFT_CLOCK_START_COUNT = "1/0249708564.08252"
SPACECRAFT_CLOCK_STOP_COUNT = "1/0249708968.02530"
START_TIME = 2011-04-01T03:29:35.028Z
STOP_TIME = 2011-04-01T03:33:19.600Z
/* ORBITAL DATA ELEMENTS */
ASCENDING_NODE_LONGITUDE = 40.57
MAXIMUM_RESOLUTION = 0.0851
FOOTPRINT_POINT_LATITUDE = (-30.9821,-30.9839,-30.9861,-30.9871, -30.9876,-30.9876,-30.9876,-31.0099, -31.717,-32.1996,-32.9309,-33.4223, -33.6722,-33.9219,-34.1704,-34.4318, -34.6884,-34.9407,-35.202,-35.5898, -35.9758,-36.3742,-36.642,-36.9045, -37.31,-37.5805,-37.864,-38.1392, -38.4099,-38.6861,-39.1086,-39.391, -39.6775,-39.964,-40.2532,-40.543, -40.8358,-41.1301,-41.4276,-41.725, -42.0263,-42.4806,-42.7857,-43.0941, -43.56,-43.8726,-44.188,-44.5061, -44.6655,-44.7732,-44.7725,-44.77, -44.7664,-44.7615,-44.7561,-44.7483, -44.7401,-44.7395,-44.7375,-44.4164, -44.1012,-43.6305,-43.321,-43.0131, -42.5548,-42.2502,-41.95,-41.5015, -41.2039,-40.9096,-40.6153,-40.3248, -40.0338,-39.7475,-39.3189,-39.0374, -38.6212,-38.1992,-37.9256,-37.5151, -37.2455,-36.8413,-36.5757,-36.1788, -35.9184,-35.5272,-35.2765,-35.0179, -34.7567,-34.5028,-34.1224,-33.8725, -33.6218,-33.3731,-32.8815,-32.6348, -31.9112,-31.1991,-31.081,-30.9821)
FOOTPRINT_POINT_LONGITUDE = (146.569,146.281,145.801,145.418, 145.111,144.535,144.516,144.502,144.483 ,144.468,144.446,144.431,144.423, 144.416,144.409,144.398,144.389,144.381 ,144.372,144.359,144.35,144.335,144.326 ,144.319,144.305,144.296,144.282, 144.272,144.265,144.257,144.241,144.231 ,144.22,144.209,144.198,144.188,144.177 ,144.165,144.154,144.142,144.131, 144.113,144.101,144.088,144.069,144.056 ,144.044,144.03,144.024,144.019,144.507 ,145.127,145.552,146.075,146.501, 146.959,147.484,147.517,147.528,147.493 ,147.461,147.413,147.384,147.355, 147.312,147.284,147.258,147.219,147.193 ,147.168,147.144,147.121,147.097, 147.075,147.042,147.022,146.994,146.962 ,146.944,146.917,146.899,146.874, 146.858,146.834,146.82,146.798,146.787, 146.772,146.755,146.742,146.722,146.709 ,146.697,146.684,146.661,146.648, 146.616,146.586,146.581,146.569)
ORBIT_NUMBER = 9254
ORBITAL_ECCENTRICITY = 0.578
ORBITAL_INCLINATION = 86.83
ORBITAL_SEMIMAJOR_AXIS = 8858.16
PERIAPSIS_ALTITUDE = 338.87
PERIAPSIS_ARGUMENT_ANGLE = 180.8
PERIAPSIS_TIME = 2011-04-01T03:22:15.000Z
SPACECRAFT_ORIENTATION = (0.0,-1.0,0.0)
^MEX_ORIENTATION_DESC = "MEX_ORIENTATION_DESC.TXT"
SPACECRAFT_POINTING_MODE = NADIR
^MEX_POINTING_DESC = "MEX_POINTING_DESC.TXT"
RIGHT_ASCENSION = -1e+32
DECLINATION = -1e+32
OFFSET_ANGLE = -1e+32
SPACECRAFT_SOLAR_DISTANCE = 2.07199e+08
TARGET_NAME = MARS
/* CAMERA DATA ELEMENTS */
DETECTOR_TEMPERATURE = 17.5549
FOCAL_PLANE_TEMPERATURE = 8.5833
INST_CMPRS_NAME = "DISCRETE COSINE TRANSFORMATION (DCT)"
INST_CMPRS_RATIO = 20.5316
INST_CMPRS_QUALITY = 0
INST_CMPRS_QUANTZ_TBL_ID = 0
INSTRUMENT_TEMPERATURE = 13.0691
LENS_TEMPERATURE = 8.9911
MACROPIXEL_SIZE = 4
MISSING_FRAMES = 0
PIXEL_SUBSAMPLING_FLAG = N
SIGNAL_CHAIN_ID = 2
/* RADIOMETRIC DATA ELEMENTS */
BANDWIDTH = 81.0
CENTER_FILTER_WAVELENGTH = 955.5
RADIANCE_OFFSET = 0.36329
RADIANCE_SCALING_FACTOR = 0.00265681
REFLECTANCE_SCALING_FACTOR = 0.000246074
MEX:REFLECTANCE_OFFSET = 0.0336479
/* IMAGE OBJECT DEFINITIONS */
OBJECT = IMAGE
  INTERCHANGE_FORMAT = BINARY
  LINES = 8174
  LINE_SAMPLES = 1613
  SAMPLE_TYPE = UNSIGNED_INTEGER
  SAMPLE_BITS = 8
  BANDS = 1
  BAND_STORAGE_TYPE = BAND_SEQUENTIAL
  MAXIMUM = 255
  MEAN = 118.415
  MINIMUM = 1
  STANDARD_DEVIATION = 45.937
END_OBJECT = IMAGE
/* MAP OBJECT DEFINITIONS */
OBJECT = IMAGE_MAP_PROJECTION
  ^DATA_SET_MAP_PROJECTION_CATALOG= "DSMAP.CAT"
  A_AXIS_RADIUS = 3396.0
  B_AXIS_RADIUS = 3396.0
  C_AXIS_RADIUS = 3396.0
  CENTER_LATITUDE = 0.0
  CENTER_LONGITUDE = 146.0
  COORDINATE_SYSTEM_NAME = PLANETOGRAPHIC
  COORDINATE_SYSTEM_TYPE = "BODY-FIXED ROTATING"
  EASTERNMOST_LONGITUDE = 147.528
  FIRST_STANDARD_PARALLEL = "N/A"
  LINE_FIRST_PIXEL = 1
  LINE_LAST_PIXEL = 8174
  LINE_PROJECTION_OFFSET = -18375.375
  MAP_PROJECTION_ROTATION = 0.0
  MAP_PROJECTION_TYPE = SINUSOIDAL
  MAP_RESOLUTION = 592.713803866667
  MAP_SCALE = 0.1
  MAXIMUM_LATITUDE = -30.9821
  MINIMUM_LATITUDE = -44.7732
  POSITIVE_LONGITUDE_DIRECTION = EAST
  REFERENCE_LATITUDE = "N/A"
  REFERENCE_LONGITUDE = "N/A"
  SAMPLE_FIRST_PIXEL = 1
  SAMPLE_LAST_PIXEL = 1613
  SAMPLE_PROJECTION_OFFSET = 899.375
  SECOND_STANDARD_PARALLEL = "N/A"
  WESTERNMOST_LONGITUDE = 144.019
END_OBJECT = IMAGE_MAP_PROJECTION
END
