PDS_VERSION_ID = PDS3
/* FILE DATA ELEMENTS */
RECORD_TYPE = UNDEFINED
/* POINTERS TO DATA OBJECTS */
^IMAGE = ("H9253_0009_S24.TIF")
/* IDENTIFICATION DATA ELEMENTS */
DATA_SET_ID = "MEX-M-HRSC-4-REFDR-MAPPROJECT-EXT3-V4.0"
DATA_SET_NAME = "MARS EXPRESS HRSC MAP PROJECTED REFDR EXTENSION3 V4.0"
DETECTOR_ID = MEX_HRSC_S2
EVENT_TYPE = "MARS-REGIONAL-MAPPING-Vo-Te"
INSTRUMENT_HOST_ID = MEX
INSTRUMENT_HOST_NAME = "MARS EXPRESS"
INSTRUMENT_ID = HRSC
INSTRUMENT_NAME = "HIGH RESOLUTION STEREO CAMERA"
MISSION_NAME = "MARS EXPRESS"
MISSION_PHASE_NAME = ME_Phase_22
PROCESSING_LEVEL_ID = 4
PRODUCT_CREATION_TIME = 2023-02-04T05:05:37.000Z
PRODUCT_ID = "H9253_0009_S24.TIF"
RELEASE_ID = 0006
REVISION_ID = 0000
/* QUALITY DATA ELEMENTS */
DATA_QUALITY_ID = 1
DATA_QUALITY_DESC = "Data calculated based on original SPICE kernels"
/* TIME DATA ELEMENTS */
SPACECRAFT_CLOCK_START_COUNT = "1/0249683478.09147"
SPACECRAFT_CLOCK_STOP_COUNT = "1/0249683940.61819"
START_TIME = 2011-03-31T20:33:37.048Z
STOP_TIME = 2011-03-31T20:39:01.772Z
/* ORBITAL DATA ELEMENTS */
ASCENDING_NODE_LONGITUDE = 40.6
MAXIMUM_RESOLUTION = 0.0604
FOOTPRINT_POINT_LATITUDE = (-37.4287,-37.4376,-37.445,-37.4501, -37.4497,-37.4462,-37.4391,-37.4386, -37.4176,-37.7239,-38.0309,-38.337, -38.6411,-38.9442,-39.246,-39.5465, -39.8478,-40.2888,-40.5839,-40.8774, -41.1718,-41.4622,-41.7542,-42.0417, -42.3285,-42.756,-43.04,-43.3192, -43.7385,-44.1544,-44.431,-44.7055, -44.9795,-45.2507,-45.6565,-45.9254, -46.1929,-46.4589,-46.724,-47.379, -47.8978,-48.2858,-48.6714,-49.171, -49.7958,-50.4132,-51.0183,-51.1371, -51.1696,-51.1737,-51.1731,-51.1739, -51.169,-51.1402,-51.1207,-51.1016, -51.0777,-51.0443,-51.0411,-51.0397, -50.5543,-50.0851,-49.475,-48.7374, -48.2341,-47.7253,-47.3378,-46.8209, -46.4261,-45.8977,-45.6294,-45.364, -45.095,-44.8247,-44.553,-44.2796, -44.005,-43.7291,-43.4515,-43.1727, -42.8924,-42.6106,-42.3275,-42.0491, -41.7653,-41.4682,-41.1789,-40.8943, -40.4539,-40.1577,-39.8622,-39.565, -39.2666,-38.967,-38.6664,-38.3641, -38.0589,-37.6,-37.4463,-37.4287)
FOOTPRINT_POINT_LONGITUDE = (249.155,248.732,248.249,247.552, 247.067,246.58,246.061,246.03,246.011, 245.991,245.971,245.952,245.932,245.913 ,245.893,245.873,245.853,245.82,245.799 ,245.778,245.758,245.736,245.715, 245.693,245.671,245.637,245.615,245.59, 245.555,245.519,245.495,245.471,245.447 ,245.422,245.384,245.359,245.333, 245.308,245.282,245.215,245.161,245.121 ,245.08,245.02,244.948,244.873,244.795, 244.778,244.774,245.925,246.409,246.834 ,247.558,248.581,249.182,249.662, 250.201,250.918,250.978,250.999,250.902 ,250.802,250.684,250.546,250.458, 250.373,250.31,250.228,250.169,250.09, 250.053,250.014,249.977,249.94,249.904, 249.868,249.833,249.798,249.764,249.73, 249.697,249.664,249.632,249.598,249.566 ,249.538,249.508,249.476,249.433, 249.404,249.376,249.348,249.321,249.293 ,249.267,249.24,249.215,249.177,249.165 ,249.155)
ORBIT_NUMBER = 9253
ORBITAL_ECCENTRICITY = 0.579
ORBITAL_INCLINATION = 86.83
ORBITAL_SEMIMAJOR_AXIS = 8874.37
PERIAPSIS_ALTITUDE = 338.2
PERIAPSIS_ARGUMENT_ANGLE = 180.95
PERIAPSIS_TIME = 2011-03-31T20:22:31.000Z
SPACECRAFT_ORIENTATION = (0.0,-1.0,0.0)
^MEX_ORIENTATION_DESC = "MEX_ORIENTATION_DESC.TXT"
SPACECRAFT_POINTING_MODE = ACROSSTRACK
^MEX_POINTING_DESC = "MEX_POINTING_DESC.TXT"
RIGHT_ASCENSION = -1e+32
DECLINATION = -1e+32
OFFSET_ANGLE = -0.25
SPACECRAFT_SOLAR_DISTANCE = 2.07185e+08
TARGET_NAME = MARS
/* CAMERA DATA ELEMENTS */
DETECTOR_TEMPERATURE = 18.9822
FOCAL_PLANE_TEMPERATURE = 8.7872
INST_CMPRS_NAME = "DISCRETE COSINE TRANSFORMATION (DCT)"
INST_CMPRS_RATIO = 11.9879
INST_CMPRS_QUALITY = 0
INST_CMPRS_QUANTZ_TBL_ID = 0
INSTRUMENT_TEMPERATURE = 11.234
LENS_TEMPERATURE = 9.8067
MACROPIXEL_SIZE = 2
MISSING_FRAMES = 0
PIXEL_SUBSAMPLING_FLAG = N
SIGNAL_CHAIN_ID = 1
/* RADIOMETRIC DATA ELEMENTS */
BANDWIDTH = 178.0
CENTER_FILTER_WAVELENGTH = 679.0
RADIANCE_OFFSET = 2.13099
RADIANCE_SCALING_FACTOR = 0.00848346
REFLECTANCE_SCALING_FACTOR = 0.000192851
MEX:REFLECTANCE_OFFSET = 0.0484429
/* IMAGE OBJECT DEFINITIONS */
OBJECT = IMAGE
  INTERCHANGE_FORMAT = BINARY
  LINES = 16333
  LINE_SAMPLES = 3812
  SAMPLE_TYPE = UNSIGNED_INTEGER
  SAMPLE_BITS = 8
  BANDS = 1
  BAND_STORAGE_TYPE = BAND_SEQUENTIAL
  MAXIMUM = 255
  MEAN = 90.282
  MINIMUM = 1
  STANDARD_DEVIATION = 27.6655
END_OBJECT = IMAGE
/* MAP OBJECT DEFINITIONS */
OBJECT = IMAGE_MAP_PROJECTION
  ^DATA_SET_MAP_PROJECTION_CATALOG= "DSMAP.CAT"
  A_AXIS_RADIUS = 3396.0
  B_AXIS_RADIUS = 3396.0
  C_AXIS_RADIUS = 3396.0
  CENTER_LATITUDE = 0.0
  CENTER_LONGITUDE = 248.0
  COORDINATE_SYSTEM_NAME = PLANETOGRAPHIC
  COORDINATE_SYSTEM_TYPE = "BODY-FIXED ROTATING"
  EASTERNMOST_LONGITUDE = 250.999
  FIRST_STANDARD_PARALLEL = "N/A"
  LINE_FIRST_PIXEL = 1
  LINE_LAST_PIXEL = 16333
  LINE_PROJECTION_OFFSET = -44309.25
  MAP_PROJECTION_ROTATION = 0.0
  MAP_PROJECTION_TYPE = SINUSOIDAL
  MAP_RESOLUTION = 1185.42760773333
  MAP_SCALE = 0.05
  MAXIMUM_LATITUDE = -37.4176
  MINIMUM_LATITUDE = -51.1739
  POSITIVE_LONGITUDE_DIRECTION = EAST
  REFERENCE_LATITUDE = "N/A"
  REFERENCE_LONGITUDE = "N/A"
  SAMPLE_FIRST_PIXEL = 1
  SAMPLE_LAST_PIXEL = 3812
  SAMPLE_PROJECTION_OFFSET = 1925.75
  SECOND_STANDARD_PARALLEL = "N/A"
  WESTERNMOST_LONGITUDE = 244.774
END_OBJECT = IMAGE_MAP_PROJECTION
END
