PDS_VERSION_ID = PDS3
/* FILE DATA ELEMENTS */
RECORD_TYPE = UNDEFINED
/* POINTERS TO DATA OBJECTS */
^IMAGE = ("H9201_0000_IR4.TIF")
/* IDENTIFICATION DATA ELEMENTS */
DATA_SET_ID = "MEX-M-HRSC-4-REFDR-MAPPROJECT-EXT3-V4.0"
DATA_SET_NAME = "MARS EXPRESS HRSC MAP PROJECTED REFDR EXTENSION3 V4.0"
DETECTOR_ID = MEX_HRSC_IR
EVENT_TYPE = "MARS-GLOBAL-VARIABLE-Gl-Eo-At"
INSTRUMENT_HOST_ID = MEX
INSTRUMENT_HOST_NAME = "MARS EXPRESS"
INSTRUMENT_ID = HRSC
INSTRUMENT_NAME = "HIGH RESOLUTION STEREO CAMERA"
MISSION_NAME = "MARS EXPRESS"
MISSION_PHASE_NAME = ME_Phase_22
PROCESSING_LEVEL_ID = 4
PRODUCT_CREATION_TIME = 2023-02-04T05:05:37.000Z
PRODUCT_ID = "H9201_0000_IR4.TIF"
RELEASE_ID = 0006
REVISION_ID = 0000
/* QUALITY DATA ELEMENTS */
DATA_QUALITY_ID = 1
DATA_QUALITY_DESC = "Data calculated based on original SPICE kernels"
/* TIME DATA ELEMENTS */
SPACECRAFT_CLOCK_START_COUNT = "1/0248374709.07297"
SPACECRAFT_CLOCK_STOP_COUNT = "1/0248375479.13791"
START_TIME = 2011-03-16T16:58:32.099Z
STOP_TIME = 2011-03-16T17:05:17.837Z
/* ORBITAL DATA ELEMENTS */
ASCENDING_NODE_LONGITUDE = 41.6
MAXIMUM_RESOLUTION = 0.1001
FOOTPRINT_POINT_LATITUDE = (-75.0221,-75.1738,-75.3027,-75.4081, -75.4896,-75.5463,-75.5829,-75.5834, -75.6774,-76.2877,-76.6906,-77.0928, -77.4933,-77.8923,-78.29,-78.6866, -79.0812,-79.4746,-79.8673,-80.4526, -81.0326,-81.419,-82.0039,-82.3797, -82.7575,-83.1361,-83.5135,-83.8906, -84.2691,-84.8261,-85.1936,-85.7436, -86.11,-86.4732,-87.1831,-87.7059, -88.3758,-88.9708,-89.2794,-89.0043, -88.5874,-87.9552,-87.4511,-86.9594, -86.2862,-85.7787,-85.6086,-85.5688, -85.6617,-85.6974,-85.6652,-85.5755, -85.4494,-85.2391,-85.0053,-84.7362, -84.3896,-83.8413,-83.4301,-83.1442, -83.0958,-83.0789,-83.6274,-83.925, -84.2759,-84.5625,-84.7722,-84.893, -84.9073,-84.7654,-84.544,-84.148, -83.748,-83.5246,-83.2873,-83.0373, -82.7755,-82.5031,-82.2209,-81.9299, -81.6306,-81.3237,-81.0099,-80.6898, -80.3645,-80.0322,-79.6951,-79.1821, -78.8337,-78.3039,-77.9457,-77.4043, -77.0353,-76.6648,-76.2924,-75.9164, -75.3448,-75.1539,-75.0221)
FOOTPRINT_POINT_LONGITUDE = (178.134,175.722,173.263,170.757, 168.214,165.635,162.035,161.87,161.615, 161.457,161.351,161.237,161.118,160.992 ,160.859,160.717,160.568,160.408, 160.236,159.958,159.656,159.428,159.017 ,158.764,158.472,158.138,157.768, 157.348,156.858,156.049,155.423,154.272 ,153.308,152.159,149.121,145.624, 137.601,119.472,75.4223,30.0694,14.3586 ,4.27697,0.124172,357.299,354.751, 353.38,352.997,352.911,346.497,339.054, 332.472,326.104,320.841,314.522,309.436 ,304.839,300.298,294.655,291.335, 289.352,289.037,288.92,283.396,279.584, 273.864,267.412,260.279,252.633,242.717 ,232.935,225.598,217.353,211.55,208.926 ,206.477,204.194,202.067,200.088, 198.246,196.531,194.934,193.446,192.058 ,190.763,189.557,188.422,187.36,185.898 ,184.994,183.74,182.965,181.891,181.215 ,180.581,179.984,179.417,178.617, 178.366,178.134)
ORBIT_NUMBER = 9201
ORBITAL_ECCENTRICITY = 0.579
ORBITAL_INCLINATION = 86.85
ORBITAL_SEMIMAJOR_AXIS = 8851.59
PERIAPSIS_ALTITUDE = 334.53
PERIAPSIS_ARGUMENT_ANGLE = 189.96
PERIAPSIS_TIME = 2011-03-16T16:40:53.000Z
SPACECRAFT_ORIENTATION = (0.0,-1.0,0.0)
^MEX_ORIENTATION_DESC = "MEX_ORIENTATION_DESC.TXT"
SPACECRAFT_POINTING_MODE = ACROSSTRACK
^MEX_POINTING_DESC = "MEX_POINTING_DESC.TXT"
RIGHT_ASCENSION = -1e+32
DECLINATION = -1e+32
OFFSET_ANGLE = -0.8
SPACECRAFT_SOLAR_DISTANCE = 2.06706e+08
TARGET_NAME = MARS
/* CAMERA DATA ELEMENTS */
DETECTOR_TEMPERATURE = 16.3315
FOCAL_PLANE_TEMPERATURE = 8.9911
INST_CMPRS_NAME = "DISCRETE COSINE TRANSFORMATION (DCT)"
INST_CMPRS_RATIO = 8.45794
INST_CMPRS_QUALITY = 0
INST_CMPRS_QUANTZ_TBL_ID = 0
INSTRUMENT_TEMPERATURE = 11.234
LENS_TEMPERATURE = 9.195
MACROPIXEL_SIZE = 2
MISSING_FRAMES = 0
PIXEL_SUBSAMPLING_FLAG = N
SIGNAL_CHAIN_ID = 3
/* RADIOMETRIC DATA ELEMENTS */
BANDWIDTH = 81.0
CENTER_FILTER_WAVELENGTH = 955.5
RADIANCE_OFFSET = 0.950234
RADIANCE_SCALING_FACTOR = 0.0103151
REFLECTANCE_SCALING_FACTOR = 0.000950843
MEX:REFLECTANCE_OFFSET = 0.087592
/* IMAGE OBJECT DEFINITIONS */
OBJECT = IMAGE
  INTERCHANGE_FORMAT = BINARY
  LINES = 11706
  LINE_SAMPLES = 7189
  SAMPLE_TYPE = UNSIGNED_INTEGER
  SAMPLE_BITS = 8
  BANDS = 1
  BAND_STORAGE_TYPE = BAND_SEQUENTIAL
  MAXIMUM = 209
  MEAN = 24.483
  MINIMUM = 1
  STANDARD_DEVIATION = 14.8501
END_OBJECT = IMAGE
/* MAP OBJECT DEFINITIONS */
OBJECT = IMAGE_MAP_PROJECTION
  ^DATA_SET_MAP_PROJECTION_CATALOG= "DSMAP.CAT"
  A_AXIS_RADIUS = 3396.0
  B_AXIS_RADIUS = 3396.0
  C_AXIS_RADIUS = 3396.0
  CENTER_LATITUDE = -90.0
  CENTER_LONGITUDE = 0.0
  COORDINATE_SYSTEM_NAME = PLANETOGRAPHIC
  COORDINATE_SYSTEM_TYPE = "BODY-FIXED ROTATING"
  EASTERNMOST_LONGITUDE = 360.0
  FIRST_STANDARD_PARALLEL = "N/A"
  LINE_FIRST_PIXEL = 1
  LINE_LAST_PIXEL = 11706
  LINE_PROJECTION_OFFSET = 2757.75
  MAP_PROJECTION_ROTATION = 0.0
  MAP_PROJECTION_TYPE = STEREOGRAPHIC
  MAP_RESOLUTION = 592.713803866667
  MAP_SCALE = 0.1
  MAXIMUM_LATITUDE = -75.02209999999999
  MINIMUM_LATITUDE = -90.0
  POSITIVE_LONGITUDE_DIRECTION = EAST
  REFERENCE_LATITUDE = "N/A"
  REFERENCE_LONGITUDE = "N/A"
  SAMPLE_FIRST_PIXEL = 1
  SAMPLE_LAST_PIXEL = 7189
  SAMPLE_PROJECTION_OFFSET = 4346.25
  SECOND_STANDARD_PARALLEL = "N/A"
  WESTERNMOST_LONGITUDE = 0.0
END_OBJECT = IMAGE_MAP_PROJECTION
END
