PDS_VERSION_ID = PDS3
/* FILE DATA ELEMENTS */
RECORD_TYPE = UNDEFINED
/* POINTERS TO DATA OBJECTS */
^IMAGE = ("H9152_0000_GR4.TIF")
/* IDENTIFICATION DATA ELEMENTS */
DATA_SET_ID = "MEX-M-HRSC-4-REFDR-MAPPROJECT-EXT3-V4.0"
DATA_SET_NAME = "MARS EXPRESS HRSC MAP PROJECTED REFDR EXTENSION3 V4.0"
DETECTOR_ID = MEX_HRSC_GREEN
EVENT_TYPE = "MARS-CLOUD-VARIABLE-Gl-At"
INSTRUMENT_HOST_ID = MEX
INSTRUMENT_HOST_NAME = "MARS EXPRESS"
INSTRUMENT_ID = HRSC
INSTRUMENT_NAME = "HIGH RESOLUTION STEREO CAMERA"
MISSION_NAME = "MARS EXPRESS"
MISSION_PHASE_NAME = ME_Phase_22
PROCESSING_LEVEL_ID = 4
PRODUCT_CREATION_TIME = 2023-02-04T05:05:37.000Z
PRODUCT_ID = "H9152_0000_GR4.TIF"
RELEASE_ID = 0006
REVISION_ID = 0000
/* QUALITY DATA ELEMENTS */
DATA_QUALITY_ID = 1
DATA_QUALITY_DESC = "Data calculated based on original SPICE kernels"
/* TIME DATA ELEMENTS */
SPACECRAFT_CLOCK_START_COUNT = "1/0247140714.09039"
SPACECRAFT_CLOCK_STOP_COUNT = "1/0247142096.48132"
START_TIME = 2011-03-02T10:13:28.073Z
STOP_TIME = 2011-03-02T10:30:39.209Z
/* ORBITAL DATA ELEMENTS */
ASCENDING_NODE_LONGITUDE = 42.54
MAXIMUM_RESOLUTION = 0.0946
FOOTPRINT_POINT_LATITUDE = (-78.6126,-78.9711,-79.2617,-79.4305, -79.4314,-79.4512,-80.3724,-81.2826, -82.1822,-83.0708,-83.9498,-84.8185, -85.676,-86.5225,-87.3573,-88.1776, -88.9718,-89.6163,-89.262,-88.1254, -87.3541,-86.5868,-85.8265,-85.0731, -84.3265,-83.5888,-82.8595,-82.137, -81.4238,-80.7176,-80.019,-79.328, -78.6443,-77.9678,-77.2983,-76.6359, -75.9805,-74.6897,-73.4256,-72.1869, -70.969,-69.7797,-68.6125,-67.4642, -66.3364,-65.2375,-64.9663,-64.957, -65.1068,-65.1707,-65.216,-65.2311, -65.2185,-65.1504,-65.0813,-64.9354, -64.7416,-64.5872,-64.5664,-64.5591, -65.5932,-66.9185,-67.9993,-69.1007, -70.2228,-71.3695,-72.5331,-73.7155, -74.9154,-76.131,-77.3555,-77.9714, -78.5861,-79.2032,-79.8152,-80.423, -81.0231,-81.6119,-82.1847,-82.7347, -83.2538,-83.7316,-84.1546,-84.5062, -84.8608,-84.9538,-84.9197,-84.7564, -84.4714,-84.0779,-83.5919,-83.029, -82.4028,-81.7244,-81.0024,-80.2436, -79.0471,-78.6347,-78.6126)
FOOTPRINT_POINT_LONGITUDE = (156.614,151.274,144.77,135.751,135.532 ,135.184,134.965,134.714,134.418, 134.069,133.609,133.008,132.209,131.051 ,129.194,125.705,116.797,70.361,345.098 ,327.414,324.225,322.488,321.378, 320.619,320.073,319.633,319.271,318.986 ,318.725,318.506,318.315,318.142, 317.988,317.848,317.72,317.6,317.489, 317.286,317.101,316.931,316.773,316.621 ,316.479,316.359,316.231,316.088, 316.052,316.051,313.166,311.379,309.372 ,307.815,305.152,302.282,300.525, 297.913,295.329,293.624,293.412,293.335 ,293.08,292.681,292.287,291.809,291.233 ,290.537,289.696,288.671,287.412, 285.854,283.892,282.725,281.399,279.898 ,278.175,276.194,273.904,271.239, 268.124,264.464,260.153,255.075,249.123 ,242.229,230.151,221.312,212.258,203.45 ,195.268,187.954,181.585,176.128, 171.488,167.552,164.204,161.346,157.795 ,156.775,156.614)
ORBIT_NUMBER = 9152
ORBITAL_ECCENTRICITY = 0.579
ORBITAL_INCLINATION = 86.83
ORBITAL_SEMIMAJOR_AXIS = 8850.38
PERIAPSIS_ALTITUDE = 331.13
PERIAPSIS_ARGUMENT_ANGLE = 198.43
PERIAPSIS_TIME = 2011-03-02T09:55:51.000Z
SPACECRAFT_ORIENTATION = (0.0,-1.0,0.0)
^MEX_ORIENTATION_DESC = "MEX_ORIENTATION_DESC.TXT"
SPACECRAFT_POINTING_MODE = ACROSSTRACK
^MEX_POINTING_DESC = "MEX_POINTING_DESC.TXT"
RIGHT_ASCENSION = -1e+32
DECLINATION = -1e+32
OFFSET_ANGLE = -0.8
SPACECRAFT_SOLAR_DISTANCE = 2.06707e+08
TARGET_NAME = MARS
/* CAMERA DATA ELEMENTS */
DETECTOR_TEMPERATURE = 18.3705
FOCAL_PLANE_TEMPERATURE = 8.9911
INST_CMPRS_NAME = "DISCRETE COSINE TRANSFORMATION (DCT)"
INST_CMPRS_RATIO = 10.2083
INST_CMPRS_QUALITY = 0
INST_CMPRS_QUANTZ_TBL_ID = 0
INSTRUMENT_TEMPERATURE = 11.4379
LENS_TEMPERATURE = 9.3989
MACROPIXEL_SIZE = 2
PIXEL_SUBSAMPLING_FLAG = N
SIGNAL_CHAIN_ID = 2
/* RADIOMETRIC DATA ELEMENTS */
BANDWIDTH = 88.0
CENTER_FILTER_WAVELENGTH = 538.0
RADIANCE_OFFSET = 1.22336
RADIANCE_SCALING_FACTOR = 0.0385717
REFLECTANCE_SCALING_FACTOR = 0.00141896
MEX:REFLECTANCE_OFFSET = 0.0450043
/* IMAGE OBJECT DEFINITIONS */
OBJECT = IMAGE
  INTERCHANGE_FORMAT = BINARY
  LINES = 13858
  LINE_SAMPLES = 22586
  SAMPLE_TYPE = UNSIGNED_INTEGER
  SAMPLE_BITS = 8
  BANDS = 1
  BAND_STORAGE_TYPE = BAND_SEQUENTIAL
  MAXIMUM = 255
  MEAN = 90.6138
  MINIMUM = 8
  STANDARD_DEVIATION = 55.3024
END_OBJECT = IMAGE
/* MAP OBJECT DEFINITIONS */
OBJECT = IMAGE_MAP_PROJECTION
  ^DATA_SET_MAP_PROJECTION_CATALOG= "DSMAP.CAT"
  A_AXIS_RADIUS = 3396.0
  B_AXIS_RADIUS = 3396.0
  C_AXIS_RADIUS = 3396.0
  CENTER_LATITUDE = 0.0
  CENTER_LONGITUDE = 299.0
  COORDINATE_SYSTEM_NAME = PLANETOGRAPHIC
  COORDINATE_SYSTEM_TYPE = "BODY-FIXED ROTATING"
  EASTERNMOST_LONGITUDE = 360.0
  FIRST_STANDARD_PARALLEL = "N/A"
  LINE_FIRST_PIXEL = 1
  LINE_LAST_PIXEL = 13858
  LINE_PROJECTION_OFFSET = -38315.0
  MAP_PROJECTION_ROTATION = 0.0
  MAP_PROJECTION_TYPE = SINUSOIDAL
  MAP_RESOLUTION = 592.713803866667
  MAP_SCALE = 0.1
  MAXIMUM_LATITUDE = -64.5591
  MINIMUM_LATITUDE = -90.0
  POSITIVE_LONGITUDE_DIRECTION = EAST
  REFERENCE_LATITUDE = "N/A"
  REFERENCE_LONGITUDE = "N/A"
  SAMPLE_FIRST_PIXEL = 1
  SAMPLE_LAST_PIXEL = 22586
  SAMPLE_PROJECTION_OFFSET = 17847.0
  SECOND_STANDARD_PARALLEL = "N/A"
  WESTERNMOST_LONGITUDE = 0.0
END_OBJECT = IMAGE_MAP_PROJECTION
END
