PDS_VERSION_ID = PDS3
/* FILE DATA ELEMENTS */
RECORD_TYPE = UNDEFINED
/* POINTERS TO DATA OBJECTS */
^IMAGE = ("H8995_0000_S14.TIF")
/* IDENTIFICATION DATA ELEMENTS */
DATA_SET_ID = "MEX-M-HRSC-4-REFDR-MAPPROJECT-EXT3-V4.0"
DATA_SET_NAME = "MARS EXPRESS HRSC MAP PROJECTED REFDR EXTENSION3 V4.0"
DETECTOR_ID = MEX_HRSC_S1
EVENT_TYPE = "MARS-GLOBAL-VARIABLE-Gl-At"
INSTRUMENT_HOST_ID = MEX
INSTRUMENT_HOST_NAME = "MARS EXPRESS"
INSTRUMENT_ID = HRSC
INSTRUMENT_NAME = "HIGH RESOLUTION STEREO CAMERA"
MISSION_NAME = "MARS EXPRESS"
MISSION_PHASE_NAME = ME_Phase_22
PROCESSING_LEVEL_ID = 4
PRODUCT_CREATION_TIME = 2023-02-03T21:13:30.000Z
PRODUCT_ID = "H8995_0000_S14.TIF"
RELEASE_ID = 0005
REVISION_ID = 0000
/* QUALITY DATA ELEMENTS */
DATA_QUALITY_ID = 1
DATA_QUALITY_DESC = "Data calculated based on original SPICE kernels"
/* TIME DATA ELEMENTS */
SPACECRAFT_CLOCK_START_COUNT = "1/0243187142.09064"
SPACECRAFT_CLOCK_STOP_COUNT = "1/0243188316.35762"
START_TIME = 2011-01-15T15:59:04.892Z
STOP_TIME = 2011-01-15T16:06:10.547Z
/* ORBITAL DATA ELEMENTS */
ASCENDING_NODE_LONGITUDE = 45.56
MAXIMUM_RESOLUTION = 0.0711
FOOTPRINT_POINT_LATITUDE = (-81.2095,-81.6863,-81.8724,-82.0364, -82.1772,-82.3129,-82.319,-82.2149, -81.4032,-80.5599,-80.1316,-79.6999, -79.0385,-78.593,-78.1411,-77.6887, -77.2283,-76.7645,-76.2946,-75.5781, -75.1015,-74.6224,-74.1495,-73.4402, -72.969,-72.4979,-72.0312,-71.3323, -70.637,-70.1756,-69.7162,-69.2575, -68.8001,-68.347,-67.886,-67.4451, -66.9958,-66.5479,-66.0913,-65.6512, -65.2068,-64.7667,-64.3254,-63.8861, -63.2298,-62.3552,-61.7103,-60.6439, -60.0002,-59.7877,-59.6973,-59.7019, -59.6851,-59.6657,-59.6353,-59.5835, -59.488,-59.3879,-59.3056,-59.297, -59.2951,-59.9314,-60.7719,-61.8235, -62.8948,-63.7554,-64.4073,-64.8433, -65.2799,-65.7237,-66.1639,-66.6059, -67.267,-67.711,-68.1578,-68.8343, -69.2846,-69.9569,-70.6276,-71.0854, -71.5391,-71.9954,-72.4547,-72.9109, -73.3755,-73.8353,-74.5277,-74.9872, -75.6738,-76.1236,-76.5677,-77.0027, -77.4335,-77.8584,-78.4853,-79.2993, -80.0819,-80.8294,-81.0136,-81.2095)
FOOTPRINT_POINT_LONGITUDE = (142.234,147.974,150.812,153.774, 156.858,160.665,160.869,161.384,162.708 ,163.854,164.356,164.815,165.453, 165.835,166.195,166.521,166.83,167.117, 167.388,167.766,167.994,168.211,168.406 ,168.678,168.845,169.003,169.147, 169.349,169.533,169.646,169.753,169.854 ,169.949,170.037,170.129,170.199, 170.273,170.344,170.42,170.479,170.54, 170.596,170.651,170.702,170.775,170.866 ,170.923,171.009,171.06,171.075,171.081 ,170.124,168.498,167.545,166.596, 165.365,163.667,162.26,161.416,161.322, 161.288,161.197,161.058,160.857,160.63, 160.423,160.253,160.131,160.002,159.867 ,159.723,159.571,159.326,159.15,158.965 ,158.668,158.454,158.109,157.731,157.46 ,157.172,156.866,156.54,156.191,155.82, 155.423,154.773,154.301,153.534,152.983 ,152.398,151.778,151.117,150.413, 149.267,147.55,145.583,143.325,142.705, 142.234)
ORBIT_NUMBER = 8995
ORBITAL_ECCENTRICITY = 0.579
ORBITAL_INCLINATION = 86.83
ORBITAL_SEMIMAJOR_AXIS = 8809.24
PERIAPSIS_ALTITUDE = 324.71
PERIAPSIS_ARGUMENT_ANGLE = 225.4
PERIAPSIS_TIME = 2011-01-15T15:46:00.000Z
SPACECRAFT_ORIENTATION = (0.0,-1.0,0.0)
^MEX_ORIENTATION_DESC = "MEX_ORIENTATION_DESC.TXT"
SPACECRAFT_POINTING_MODE = NADIR
^MEX_POINTING_DESC = "MEX_POINTING_DESC.TXT"
RIGHT_ASCENSION = -1e+32
DECLINATION = -1e+32
OFFSET_ANGLE = -1e+32
SPACECRAFT_SOLAR_DISTANCE = 2.09587e+08
TARGET_NAME = MARS
/* CAMERA DATA ELEMENTS */
DETECTOR_TEMPERATURE = 17.351
FOCAL_PLANE_TEMPERATURE = 8.1755
INST_CMPRS_NAME = "DISCRETE COSINE TRANSFORMATION (DCT)"
INST_CMPRS_RATIO = 9.05398
INST_CMPRS_QUALITY = 0
INST_CMPRS_QUANTZ_TBL_ID = 0
INSTRUMENT_TEMPERATURE = 11.0301
LENS_TEMPERATURE = 8.3794
MACROPIXEL_SIZE = 2
MISSING_FRAMES = 0
PIXEL_SUBSAMPLING_FLAG = N
SIGNAL_CHAIN_ID = 1
/* RADIOMETRIC DATA ELEMENTS */
BANDWIDTH = 180.0
CENTER_FILTER_WAVELENGTH = 677.0
RADIANCE_OFFSET = 3.77857
RADIANCE_SCALING_FACTOR = 0.027542
REFLECTANCE_SCALING_FACTOR = 0.000631191
MEX:REFLECTANCE_OFFSET = 0.086595
/* IMAGE OBJECT DEFINITIONS */
OBJECT = IMAGE
  INTERCHANGE_FORMAT = BINARY
  LINES = 13574
  LINE_SAMPLES = 4479
  SAMPLE_TYPE = UNSIGNED_INTEGER
  SAMPLE_BITS = 8
  BANDS = 1
  BAND_STORAGE_TYPE = BAND_SEQUENTIAL
  MAXIMUM = 255
  MEAN = 120.773
  MINIMUM = 1
  STANDARD_DEVIATION = 67.1657
END_OBJECT = IMAGE
/* MAP OBJECT DEFINITIONS */
OBJECT = IMAGE_MAP_PROJECTION
  ^DATA_SET_MAP_PROJECTION_CATALOG= "DSMAP.CAT"
  A_AXIS_RADIUS = 3396.0
  B_AXIS_RADIUS = 3396.0
  C_AXIS_RADIUS = 3396.0
  CENTER_LATITUDE = 0.0
  CENTER_LONGITUDE = 164.0
  COORDINATE_SYSTEM_NAME = PLANETOGRAPHIC
  COORDINATE_SYSTEM_TYPE = "BODY-FIXED ROTATING"
  EASTERNMOST_LONGITUDE = 171.081
  FIRST_STANDARD_PARALLEL = "N/A"
  LINE_FIRST_PIXEL = 1
  LINE_LAST_PIXEL = 13574
  LINE_PROJECTION_OFFSET = -35166.25
  MAP_PROJECTION_ROTATION = 0.0
  MAP_PROJECTION_TYPE = SINUSOIDAL
  MAP_RESOLUTION = 592.713803866667
  MAP_SCALE = 0.1
  MAXIMUM_LATITUDE = -59.2951
  MINIMUM_LATITUDE = -82.319
  POSITIVE_LONGITUDE_DIRECTION = EAST
  REFERENCE_LATITUDE = "N/A"
  REFERENCE_LONGITUDE = "N/A"
  SAMPLE_FIRST_PIXEL = 1
  SAMPLE_LAST_PIXEL = 4479
  SAMPLE_PROJECTION_OFFSET = 2121.25
  SECOND_STANDARD_PARALLEL = "N/A"
  WESTERNMOST_LONGITUDE = 142.234
END_OBJECT = IMAGE_MAP_PROJECTION
END
