PDS_VERSION_ID = PDS3
/* FILE DATA ELEMENTS */
RECORD_TYPE = UNDEFINED
/* POINTERS TO DATA OBJECTS */
^IMAGE = ("H8990_0000_BL4.TIF")
/* IDENTIFICATION DATA ELEMENTS */
DATA_SET_ID = "MEX-M-HRSC-4-REFDR-MAPPROJECT-EXT3-V4.0"
DATA_SET_NAME = "MARS EXPRESS HRSC MAP PROJECTED REFDR EXTENSION3 V4.0"
DETECTOR_ID = MEX_HRSC_BLUE
EVENT_TYPE = "MARS-AURORA-VARIABLE-Ot-At"
INSTRUMENT_HOST_ID = MEX
INSTRUMENT_HOST_NAME = "MARS EXPRESS"
INSTRUMENT_ID = HRSC
INSTRUMENT_NAME = "HIGH RESOLUTION STEREO CAMERA"
MISSION_NAME = "MARS EXPRESS"
MISSION_PHASE_NAME = ME_Phase_22
PROCESSING_LEVEL_ID = 4
PRODUCT_CREATION_TIME = 2023-02-03T21:13:30.000Z
PRODUCT_ID = "H8990_0000_BL4.TIF"
RELEASE_ID = 0005
REVISION_ID = 0000
/* QUALITY DATA ELEMENTS */
DATA_QUALITY_ID = 1
DATA_QUALITY_DESC = "Data calculated based on original SPICE kernels"
/* TIME DATA ELEMENTS */
SPACECRAFT_CLOCK_START_COUNT = "1/0243059853.07301"
SPACECRAFT_CLOCK_STOP_COUNT = "1/0243060767.14674"
START_TIME = 2011-01-14T04:38:46.369Z
STOP_TIME = 2011-01-14T04:52:47.791Z
/* ORBITAL DATA ELEMENTS */
ASCENDING_NODE_LONGITUDE = 45.65
MAXIMUM_RESOLUTION = 0.0591
FOOTPRINT_POINT_LATITUDE = (-29.2764,-29.5718,-29.9511,-30.4984, -30.8652,-31.1567,-31.6211,-31.9887, -32.5888,-33.0638,-33.5099,-34.1495, -34.6678,-35.0826,-35.6086,-35.9523, -35.9072,-35.9892,-37.1112,-37.8896, -38.6642,-39.6921,-40.3812,-41.0632, -41.9045,-42.7447,-43.9979,-45.0767, -46.2288,-46.8845,-47.7644,-48.8995, -50.0866,-51.021,-51.6373,-52.3232, -52.3371,-52.324,-51.8675,-51.3479, -50.6358,-50.0205,-49.5825,-48.8725, -47.8288,-47.0062,-46.4316,-45.87, -45.0919,-44.6389,-44.1831,-44.412, -44.3882,-43.7925,-43.5125,-42.6881, -42.2119,-41.1713,-41.5778,-40.4077, -40.3248,-39.4406,-39.8655,-39.0908, -39.439,-38.6457,-38.9978,-38.3821, -38.1645,-37.7399,-38.0942,-37.3662, -37.8233,-36.8718,-37.2628,-36.3678, -36.7567,-36.0586,-36.3613,-35.7223, -36.1023,-35.2652,-35.4716,-34.5983, -34.902,-33.9323,-33.0939,-33.4431, -32.7808,-32.5102,-31.9313,-31.3373, -30.743,-30.3415,-29.8225,-30.163, -29.4142,-29.6777,-29.3629,-29.2764)
FOOTPRINT_POINT_LONGITUDE = (178.489,177.867,177.074,175.941, 175.188,174.593,173.652,172.911,171.71, 170.767,169.885,168.629,167.616,166.809 ,165.789,165.124,165.379,165.407, 165.513,165.581,165.671,165.821,165.902 ,166.023,166.242,166.472,166.865, 167.258,167.749,168.049,168.605,169.216 ,170.063,170.841,171.4,172.074,172.088, 172.109,172.858,173.683,174.877,175.887 ,176.652,177.816,179.593,181.055,182.09 ,183.158,184.538,185.387,186.256, 185.798,185.64,186.369,184.89,185.271, 184.397,184.05,183.067,183.084,182.025, 182.816,181.783,182.355,181.474,182.09, 181.199,181.697,180.963,181.637,180.739 ,181.835,180.729,181.518,180.546, 181.222,180.251,180.729,179.931,180.858 ,179.9,180.307,179.334,180.194,179.39, 179.182,179.808,178.903,178.998,178.289 ,179.123,177.996,178.868,178.079,178.99 ,178.093,178.76,178.025,178.502, 178.489)
ORBIT_NUMBER = 8990
ORBITAL_ECCENTRICITY = 0.579
ORBITAL_INCLINATION = 86.84
ORBITAL_SEMIMAJOR_AXIS = 8807.16
PERIAPSIS_ALTITUDE = 324.02
PERIAPSIS_ARGUMENT_ANGLE = 226.28
PERIAPSIS_TIME = 2011-01-14T04:47:39.000Z
SPACECRAFT_ORIENTATION = (0.0,-1.0,0.0)
^MEX_ORIENTATION_DESC = "MEX_ORIENTATION_DESC.TXT"
SPACECRAFT_POINTING_MODE = INERT
^MEX_POINTING_DESC = "MEX_POINTING_DESC.TXT"
RIGHT_ASCENSION = 45.276
DECLINATION = 62.926
OFFSET_ANGLE = -1e+32
SPACECRAFT_SOLAR_DISTANCE = 2.09745e+08
TARGET_NAME = MARS
/* CAMERA DATA ELEMENTS */
DETECTOR_TEMPERATURE = 18.1666
FOCAL_PLANE_TEMPERATURE = 7.5638
INST_CMPRS_NAME = NONE
INST_CMPRS_RATIO = 1.0
INST_CMPRS_QUALITY = -2147483648
INST_CMPRS_QUANTZ_TBL_ID = -2147483648
INSTRUMENT_TEMPERATURE = 10.6223
LENS_TEMPERATURE = 7.9716
MACROPIXEL_SIZE = 2
MISSING_FRAMES = 0
PIXEL_SUBSAMPLING_FLAG = N
SIGNAL_CHAIN_ID = 2
/* RADIOMETRIC DATA ELEMENTS */
BANDWIDTH = 76.0
CENTER_FILTER_WAVELENGTH = 444.0
RADIANCE_OFFSET = 0.0
RADIANCE_SCALING_FACTOR = 5.14251e-05
REFLECTANCE_SCALING_FACTOR = 2.32444e-06
MEX:REFLECTANCE_OFFSET = 0.0
/* IMAGE OBJECT DEFINITIONS */
OBJECT = IMAGE
  INTERCHANGE_FORMAT = BINARY
  LINES = 24597
  LINE_SAMPLES = 17743
  SAMPLE_TYPE = UNSIGNED_INTEGER
  SAMPLE_BITS = 8
  BANDS = 1
  BAND_STORAGE_TYPE = BAND_SEQUENTIAL
  MAXIMUM = 254
  MEAN = 7.62702
  MINIMUM = 1
  STANDARD_DEVIATION = 17.7724
END_OBJECT = IMAGE
/* MAP OBJECT DEFINITIONS */
OBJECT = IMAGE_MAP_PROJECTION
  ^DATA_SET_MAP_PROJECTION_CATALOG= "DSMAP.CAT"
  A_AXIS_RADIUS = 3396.0
  B_AXIS_RADIUS = 3396.0
  C_AXIS_RADIUS = 3396.0
  CENTER_LATITUDE = 0.0
  CENTER_LONGITUDE = 173.0
  COORDINATE_SYSTEM_NAME = PLANETOGRAPHIC
  COORDINATE_SYSTEM_TYPE = "BODY-FIXED ROTATING"
  EASTERNMOST_LONGITUDE = 186.369
  FIRST_STANDARD_PARALLEL = "N/A"
  LINE_FIRST_PIXEL = 1
  LINE_LAST_PIXEL = 24597
  LINE_PROJECTION_OFFSET = -37037.25
  MAP_PROJECTION_ROTATION = 0.0
  MAP_PROJECTION_TYPE = SINUSOIDAL
  MAP_RESOLUTION = 1185.42760773333
  MAP_SCALE = 0.05
  MAXIMUM_LATITUDE = -29.2764
  MINIMUM_LATITUDE = -52.3371
  POSITIVE_LONGITUDE_DIRECTION = EAST
  REFERENCE_LATITUDE = "N/A"
  REFERENCE_LONGITUDE = "N/A"
  SAMPLE_FIRST_PIXEL = 1
  SAMPLE_LAST_PIXEL = 17743
  SAMPLE_PROJECTION_OFFSET = 4936.75
  SECOND_STANDARD_PARALLEL = "N/A"
  WESTERNMOST_LONGITUDE = 165.124
END_OBJECT = IMAGE_MAP_PROJECTION
END
