PDS_VERSION_ID = PDS3
/* FILE DATA ELEMENTS */
RECORD_TYPE = UNDEFINED
/* POINTERS TO DATA OBJECTS */
^IMAGE = ("H8858_0000_S24.TIF")
/* IDENTIFICATION DATA ELEMENTS */
DATA_SET_ID = "MEX-M-HRSC-4-REFDR-MAPPROJECT-EXT3-V4.0"
DATA_SET_NAME = "MARS EXPRESS HRSC MAP PROJECTED REFDR EXTENSION3 V4.0"
DETECTOR_ID = MEX_HRSC_S2
EVENT_TYPE = "MARS-LOCAL-STEREO-Gl-Pf-La"
INSTRUMENT_HOST_ID = MEX
INSTRUMENT_HOST_NAME = "MARS EXPRESS"
INSTRUMENT_ID = HRSC
INSTRUMENT_NAME = "HIGH RESOLUTION STEREO CAMERA"
MISSION_NAME = "MARS EXPRESS"
MISSION_PHASE_NAME = ME_Phase_22
PROCESSING_LEVEL_ID = 4
PRODUCT_CREATION_TIME = 2023-02-03T21:13:30.000Z
PRODUCT_ID = "H8858_0000_S24.TIF"
RELEASE_ID = 0005
REVISION_ID = 0000
/* QUALITY DATA ELEMENTS */
DATA_QUALITY_ID = 1
DATA_QUALITY_DESC = "Data calculated based on original SPICE kernels"
/* TIME DATA ELEMENTS */
SPACECRAFT_CLOCK_START_COUNT = "1/0239737398.09069"
SPACECRAFT_CLOCK_STOP_COUNT = "1/0239737626.39876"
START_TIME = 2010-12-06T17:45:30.505Z
STOP_TIME = 2010-12-06T17:47:07.321Z
/* ORBITAL DATA ELEMENTS */
ASCENDING_NODE_LONGITUDE = 48.16
MAXIMUM_RESOLUTION = 0.0582
FOOTPRINT_POINT_LATITUDE = (-74.2447,-74.282,-74.3078,-74.3525, -74.3904,-74.4132,-74.4525,-74.4856, -74.517,-74.5465,-74.5743,-74.6003, -74.6275,-74.6549,-74.6575,-74.7597, -74.6196,-74.4797,-74.3405,-74.2477, -74.1548,-74.0622,-73.9709,-73.8322, -73.7396,-73.6477,-73.5106,-73.4187, -73.2359,-73.0576,-72.9205,-72.8271, -72.7349,-72.5526,-72.3721,-72.193, -71.9713,-71.7969,-71.6187,-71.4402, -71.2189,-71.044,-70.7807,-70.6046, -70.4292,-70.298,-70.2544,-70.2528, -70.2451,-70.2371,-70.2249,-70.2159, -70.1989,-70.1847,-70.1738,-70.1512, -70.1297,-70.1174,-70.1006,-70.0864, -70.0679,-70.0525,-70.0331,-70.0165, -69.9912,-69.9734,-69.9461,-69.9177, -69.9129,-69.9114,-70.0842,-70.2565, -70.4284,-70.5565,-70.7311,-70.9084, -71.1709,-71.3458,-71.6093,-71.7856, -71.9585,-72.089,-72.2636,-72.3547, -72.4937,-72.7162,-72.8512,-72.9857, -73.2097,-73.3894,-73.5695,-73.7051, -73.7954,-73.8864,-74.023,-74.114, -74.2046,-74.2955,-74.3412,-74.2447)
FOOTPRINT_POINT_LONGITUDE = (130.909,131.481,131.89,132.631,133.291 ,133.706,134.455,135.123,135.793, 136.465,137.141,137.819,138.585,139.44, 139.526,139.626,139.706,139.785,139.863 ,139.914,139.964,140.013,140.063, 140.135,140.182,140.229,140.298,140.344 ,140.433,140.523,140.586,140.626, 140.666,140.747,140.826,140.905,141.001 ,141.078,141.151,141.221,141.307, 141.376,141.475,141.538,141.6,141.646, 141.661,141.662,141.345,141.025,140.546 ,140.227,139.67,139.194,138.877,138.324 ,137.771,137.455,137.061,136.746, 136.353,136.039,135.647,135.335,134.866 ,134.554,134.087,133.621,133.543, 133.515,133.432,133.349,133.265,133.202 ,133.112,133.015,132.872,132.775, 132.624,132.52,132.42,132.343,132.236, 132.175,132.078,131.931,131.838,131.744 ,131.584,131.453,131.318,131.213, 131.143,131.07,130.959,130.884,130.81, 130.733,130.694,130.909)
ORBIT_NUMBER = 8858
ORBITAL_ECCENTRICITY = 0.578
ORBITAL_INCLINATION = 86.84
ORBITAL_SEMIMAJOR_AXIS = 8771.77
PERIAPSIS_ALTITUDE = 322.62
PERIAPSIS_ARGUMENT_ANGLE = 248.72
PERIAPSIS_TIME = 2010-12-06T17:34:39.000Z
SPACECRAFT_ORIENTATION = (0.0,-1.0,0.0)
^MEX_ORIENTATION_DESC = "MEX_ORIENTATION_DESC.TXT"
SPACECRAFT_POINTING_MODE = NADIR
^MEX_POINTING_DESC = "MEX_POINTING_DESC.TXT"
RIGHT_ASCENSION = -1e+32
DECLINATION = -1e+32
OFFSET_ANGLE = -1e+32
SPACECRAFT_SOLAR_DISTANCE = 2.15103e+08
TARGET_NAME = MARS
/* CAMERA DATA ELEMENTS */
DETECTOR_TEMPERATURE = 18.5744
FOCAL_PLANE_TEMPERATURE = 7.9716
INST_CMPRS_NAME = "DISCRETE COSINE TRANSFORMATION (DCT)"
INST_CMPRS_RATIO = 9.93508
INST_CMPRS_QUALITY = 0
INST_CMPRS_QUANTZ_TBL_ID = 0
INSTRUMENT_TEMPERATURE = 11.0301
LENS_TEMPERATURE = 8.3794
MACROPIXEL_SIZE = 2
MISSING_FRAMES = 0
PIXEL_SUBSAMPLING_FLAG = N
SIGNAL_CHAIN_ID = 1
/* RADIOMETRIC DATA ELEMENTS */
BANDWIDTH = 178.0
CENTER_FILTER_WAVELENGTH = 679.0
RADIANCE_OFFSET = 4.87046
RADIANCE_SCALING_FACTOR = 0.0399903
REFLECTANCE_SCALING_FACTOR = 0.000979882
MEX:REFLECTANCE_OFFSET = 0.119341
/* IMAGE OBJECT DEFINITIONS */
OBJECT = IMAGE
  INTERCHANGE_FORMAT = BINARY
  LINES = 5762
  LINE_SAMPLES = 3567
  SAMPLE_TYPE = UNSIGNED_INTEGER
  SAMPLE_BITS = 8
  BANDS = 1
  BAND_STORAGE_TYPE = BAND_SEQUENTIAL
  MAXIMUM = 255
  MEAN = 66.4372
  MINIMUM = 1
  STANDARD_DEVIATION = 21.7299
END_OBJECT = IMAGE
/* MAP OBJECT DEFINITIONS */
OBJECT = IMAGE_MAP_PROJECTION
  ^DATA_SET_MAP_PROJECTION_CATALOG= "DSMAP.CAT"
  A_AXIS_RADIUS = 3396.0
  B_AXIS_RADIUS = 3396.0
  C_AXIS_RADIUS = 3396.0
  CENTER_LATITUDE = 0.0
  CENTER_LONGITUDE = 136.0
  COORDINATE_SYSTEM_NAME = PLANETOGRAPHIC
  COORDINATE_SYSTEM_TYPE = "BODY-FIXED ROTATING"
  EASTERNMOST_LONGITUDE = 141.662
  FIRST_STANDARD_PARALLEL = "N/A"
  LINE_FIRST_PIXEL = 1
  LINE_LAST_PIXEL = 5762
  LINE_PROJECTION_OFFSET = -82886.75
  MAP_PROJECTION_ROTATION = 0.0
  MAP_PROJECTION_TYPE = SINUSOIDAL
  MAP_RESOLUTION = 1185.42760773333
  MAP_SCALE = 0.05
  MAXIMUM_LATITUDE = -69.9114
  MINIMUM_LATITUDE = -74.7597
  POSITIVE_LONGITUDE_DIRECTION = EAST
  REFERENCE_LATITUDE = "N/A"
  REFERENCE_LONGITUDE = "N/A"
  SAMPLE_FIRST_PIXEL = 1
  SAMPLE_LAST_PIXEL = 3567
  SAMPLE_PROJECTION_OFFSET = 1559.75
  SECOND_STANDARD_PARALLEL = "N/A"
  WESTERNMOST_LONGITUDE = 130.694
END_OBJECT = IMAGE_MAP_PROJECTION
END
