PDS_VERSION_ID = PDS3
/* FILE DATA ELEMENTS */
RECORD_TYPE = UNDEFINED
/* POINTERS TO DATA OBJECTS */
^IMAGE = ("H8856_0000_ND4.TIF")
/* IDENTIFICATION DATA ELEMENTS */
DATA_SET_ID = "MEX-M-HRSC-4-REFDR-MAPPROJECT-EXT3-V4.0"
DATA_SET_NAME = "MARS EXPRESS HRSC MAP PROJECTED REFDR EXTENSION3 V4.0"
DETECTOR_ID = MEX_HRSC_NADIR
EVENT_TYPE = "MARS-GLOBAL-VARIABLE-Gl-At"
INSTRUMENT_HOST_ID = MEX
INSTRUMENT_HOST_NAME = "MARS EXPRESS"
INSTRUMENT_ID = HRSC
INSTRUMENT_NAME = "HIGH RESOLUTION STEREO CAMERA"
MISSION_NAME = "MARS EXPRESS"
MISSION_PHASE_NAME = ME_Phase_22
PROCESSING_LEVEL_ID = 4
PRODUCT_CREATION_TIME = 2023-02-03T21:13:30.000Z
PRODUCT_ID = "H8856_0000_ND4.TIF"
RELEASE_ID = 0005
REVISION_ID = 0000
/* QUALITY DATA ELEMENTS */
DATA_QUALITY_ID = 1
DATA_QUALITY_DESC = "Data calculated based on original SPICE kernels"
/* TIME DATA ELEMENTS */
SPACECRAFT_CLOCK_START_COUNT = "1/0239687126.09138"
SPACECRAFT_CLOCK_STOP_COUNT = "1/0239687621.09774"
START_TIME = 2010-12-06T03:46:36.573Z
STOP_TIME = 2010-12-06T03:50:57.560Z
/* ORBITAL DATA ELEMENTS */
ASCENDING_NODE_LONGITUDE = 48.19
MAXIMUM_RESOLUTION = 0.0558
FOOTPRINT_POINT_LATITUDE = (-69.0627,-69.1308,-69.1886,-69.2723, -69.334,-69.3674,-69.3691,-69.3735, -68.9522,-68.6721,-68.3928,-68.1139, -67.836,-67.5588,-67.2823,-67.0065, -66.7314,-66.4571,-66.1835,-65.9105, -65.6383,-65.3668,-65.0961,-64.826, -64.5567,-64.288,-64.0202,-63.7531, -63.4867,-63.2211,-62.9562,-62.6921, -62.4286,-62.1659,-61.9039,-61.6426, -61.3821,-61.1223,-60.8633,-60.3475, -59.8346,-59.3246,-58.8175,-58.3134, -57.8123,-57.3141,-56.8188,-56.3264, -56.2037,-56.1807,-56.1728,-56.1611, -56.1414,-56.1109,-56.089,-56.0588, -56.0086,-56.0054,-56.0045,-56.4908, -56.98,-57.4722,-57.9674,-58.4656, -58.9667,-59.4707,-59.9776,-60.4875, -61.0003,-61.2577,-61.516,-61.7749, -62.0346,-62.295,-62.556,-62.8178, -63.0804,-63.3437,-63.6077,-63.8725, -64.1379,-64.404,-64.6709,-64.9385, -65.2067,-65.4756,-65.7452,-66.0156, -66.2866,-66.5582,-66.8306,-67.1035, -67.3772,-67.6517,-67.9267,-68.2023, -68.4787,-68.8943,-69.0331,-69.0627)
FOOTPRINT_POINT_LONGITUDE = (339.073,340.158,341.183,342.924, 344.546,345.657,345.722,345.829,345.955 ,346.034,346.113,346.183,346.257, 346.328,346.396,346.464,346.529,346.593 ,346.655,346.714,346.772,346.828, 346.883,346.935,346.987,347.035,347.084 ,347.133,347.18,347.226,347.271,347.315 ,347.356,347.397,347.436,347.475, 347.513,347.55,347.587,347.656,347.723, 347.785,347.844,347.902,347.958,348.011 ,348.06,348.109,348.12,348.123,347.025, 346.234,345.322,344.29,343.683,342.957, 341.922,341.862,341.839,341.791,341.745 ,341.694,341.64,341.588,341.527,341.46, 341.387,341.31,341.227,341.182,341.136, 341.089,341.04,340.99,340.937,340.881, 340.827,340.77,340.713,340.653,340.59, 340.524,340.458,340.389,340.316,340.242 ,340.165,340.086,340.003,339.918, 339.829,339.736,339.642,339.547,339.445 ,339.341,339.233,339.062,339.004, 339.073)
ORBIT_NUMBER = 8856
ORBITAL_ECCENTRICITY = 0.578
ORBITAL_INCLINATION = 86.85
ORBITAL_SEMIMAJOR_AXIS = 8771.15
PERIAPSIS_ALTITUDE = 322.08
PERIAPSIS_ARGUMENT_ANGLE = 249.06
PERIAPSIS_TIME = 2010-12-06T03:35:25.000Z
SPACECRAFT_ORIENTATION = (0.0,-1.0,0.0)
^MEX_ORIENTATION_DESC = "MEX_ORIENTATION_DESC.TXT"
SPACECRAFT_POINTING_MODE = NADIR
^MEX_POINTING_DESC = "MEX_POINTING_DESC.TXT"
RIGHT_ASCENSION = -1e+32
DECLINATION = -1e+32
OFFSET_ANGLE = -1e+32
SPACECRAFT_SOLAR_DISTANCE = 2.15199e+08
TARGET_NAME = MARS
/* CAMERA DATA ELEMENTS */
DETECTOR_TEMPERATURE = 18.3705
FOCAL_PLANE_TEMPERATURE = 9.195
INST_CMPRS_NAME = "DISCRETE COSINE TRANSFORMATION (DCT)"
INST_CMPRS_RATIO = 7.35502
INST_CMPRS_QUALITY = 0
INST_CMPRS_QUANTZ_TBL_ID = 0
INSTRUMENT_TEMPERATURE = 11.234
LENS_TEMPERATURE = 9.6028
MACROPIXEL_SIZE = 2
MISSING_FRAMES = 0
PIXEL_SUBSAMPLING_FLAG = N
SIGNAL_CHAIN_ID = 0
/* RADIOMETRIC DATA ELEMENTS */
BANDWIDTH = 177.0
CENTER_FILTER_WAVELENGTH = 677.5
RADIANCE_OFFSET = 4.78879
RADIANCE_SCALING_FACTOR = 0.0433375
REFLECTANCE_SCALING_FACTOR = 0.00106617
MEX:REFLECTANCE_OFFSET = 0.117812
/* IMAGE OBJECT DEFINITIONS */
OBJECT = IMAGE
  INTERCHANGE_FORMAT = BINARY
  LINES = 15849
  LINE_SAMPLES = 4842
  SAMPLE_TYPE = UNSIGNED_INTEGER
  SAMPLE_BITS = 8
  BANDS = 1
  BAND_STORAGE_TYPE = BAND_SEQUENTIAL
  MAXIMUM = 255
  MEAN = 114.787
  MINIMUM = 1
  STANDARD_DEVIATION = 61.1226
END_OBJECT = IMAGE
/* MAP OBJECT DEFINITIONS */
OBJECT = IMAGE_MAP_PROJECTION
  ^DATA_SET_MAP_PROJECTION_CATALOG= "DSMAP.CAT"
  A_AXIS_RADIUS = 3396.0
  B_AXIS_RADIUS = 3396.0
  C_AXIS_RADIUS = 3396.0
  CENTER_LATITUDE = 0.0
  CENTER_LONGITUDE = 344.0
  COORDINATE_SYSTEM_NAME = PLANETOGRAPHIC
  COORDINATE_SYSTEM_TYPE = "BODY-FIXED ROTATING"
  EASTERNMOST_LONGITUDE = 348.123
  FIRST_STANDARD_PARALLEL = "N/A"
  LINE_FIRST_PIXEL = 1
  LINE_LAST_PIXEL = 15849
  LINE_PROJECTION_OFFSET = -66390.0
  MAP_PROJECTION_ROTATION = 0.0
  MAP_PROJECTION_TYPE = SINUSOIDAL
  MAP_RESOLUTION = 1185.42760773333
  MAP_SCALE = 0.05
  MAXIMUM_LATITUDE = -56.0045
  MINIMUM_LATITUDE = -69.37350000000001
  POSITIVE_LONGITUDE_DIRECTION = EAST
  REFERENCE_LATITUDE = "N/A"
  REFERENCE_LONGITUDE = "N/A"
  SAMPLE_FIRST_PIXEL = 1
  SAMPLE_LAST_PIXEL = 4842
  SAMPLE_PROJECTION_OFFSET = 2121.0
  SECOND_STANDARD_PARALLEL = "N/A"
  WESTERNMOST_LONGITUDE = 339.004
END_OBJECT = IMAGE_MAP_PROJECTION
END
