PDS_VERSION_ID = PDS3
/* FILE DATA ELEMENTS */
RECORD_TYPE = UNDEFINED
/* POINTERS TO DATA OBJECTS */
^IMAGE = ("H8841_0000_S14.TIF")
/* IDENTIFICATION DATA ELEMENTS */
DATA_SET_ID = "MEX-M-HRSC-4-REFDR-MAPPROJECT-EXT3-V4.0"
DATA_SET_NAME = "MARS EXPRESS HRSC MAP PROJECTED REFDR EXTENSION3 V4.0"
DETECTOR_ID = MEX_HRSC_S1
EVENT_TYPE = "MARS-GLOBAL-VARIABLE-Gl-Ot-At"
INSTRUMENT_HOST_ID = MEX
INSTRUMENT_HOST_NAME = "MARS EXPRESS"
INSTRUMENT_ID = HRSC
INSTRUMENT_NAME = "HIGH RESOLUTION STEREO CAMERA"
MISSION_NAME = "MARS EXPRESS"
MISSION_PHASE_NAME = ME_Phase_22
PROCESSING_LEVEL_ID = 4
PRODUCT_CREATION_TIME = 2023-02-03T21:13:30.000Z
PRODUCT_ID = "H8841_0000_S14.TIF"
RELEASE_ID = 0005
REVISION_ID = 0000
/* QUALITY DATA ELEMENTS */
DATA_QUALITY_ID = 1
DATA_QUALITY_DESC = "Data calculated based on original SPICE kernels"
/* TIME DATA ELEMENTS */
SPACECRAFT_CLOCK_START_COUNT = "1/0239309212.08258"
SPACECRAFT_CLOCK_STOP_COUNT = "1/0239309417.48521"
START_TIME = 2010-12-01T18:46:54.848Z
STOP_TIME = 2010-12-01T18:48:31.028Z
/* ORBITAL DATA ELEMENTS */
ASCENDING_NODE_LONGITUDE = 48.48
MAXIMUM_RESOLUTION = 0.0723
FOOTPRINT_POINT_LATITUDE = (-82.5191,-82.6342,-82.7813,-82.8946, -83.0319,-83.1414,-83.1461,-83.0668, -82.9011,-82.6188,-82.3936,-82.1105, -81.8815,-81.7652,-81.6485,-81.4735, -81.2983,-81.181,-81.0046,-80.8829, -80.6458,-80.5253,-80.3444,-80.1634, -80.0434,-79.9201,-79.7354,-79.6118, -79.4883,-79.3648,-79.1794,-79.0534, -78.9269,-78.8005,-78.6108,-78.4844, -78.3589,-78.2308,-78.1016,-77.9721, -77.7784,-77.6491,-77.4549,-77.3239, -77.1918,-77.0597,-76.9936,-76.9911, -76.9605,-76.9213,-76.889,-76.836, -76.8014,-76.749,-76.7174,-76.6758, -76.6032,-76.5985,-76.5981,-76.729, -76.859,-76.9882,-77.1139,-77.2979, -77.4241,-77.5465,-77.6725,-77.7983, -77.9219,-78.0442,-78.2288,-78.3518, -78.4739,-78.5964,-78.7782,-78.8976, -79.0169,-79.1362,-79.2552,-79.4334, -79.552,-79.6676,-79.7832,-79.9562, -80.0715,-80.2438,-80.3586,-80.4729, -80.6961,-80.8075,-80.9187,-81.1397, -81.414,-81.6275,-81.7868,-81.9456, -82.1559,-82.3637,-82.414,-82.5191)
FOOTPRINT_POINT_LONGITUDE = (54.9552,56.4696,58.5935,60.4135,62.895 ,65.1621,65.267,65.8025,66.3131,67.132, 67.7344,68.4405,68.9728,69.231,69.4828, 69.8459,70.1942,70.4195,70.7479,70.969, 71.3685,71.5677,71.8565,72.1338,72.3109 ,72.4886,72.746,72.9133,73.0766,73.2356 ,73.4672,73.6197,73.7692,73.9149, 74.1272,74.2648,74.3964,74.5307,74.6615 ,74.7901,74.9765,75.0976,75.2749, 75.3909,75.5055,75.6175,75.6728,75.6749 ,74.9075,73.9983,73.3033,72.1972, 71.5102,70.6981,70.1566,69.4846,68.4197 ,68.3536,68.3301,68.1746,68.0157, 67.8534,67.6907,67.4413,67.2703,67.0959 ,66.9173,66.7348,66.5512,66.3649, 66.0772,65.8801,65.6786,65.4724,65.1571 ,64.9437,64.7255,64.502,64.2734,63.9203 ,63.678,63.4355,63.1872,62.8036,62.5398 ,62.1321,61.8518,61.5646,60.982,60.6795 ,60.3693,59.7251,58.873,58.166,57.6108, 57.0325,56.2241,55.3726,55.1576, 54.9552)
ORBIT_NUMBER = 8841
ORBITAL_ECCENTRICITY = 0.578
ORBITAL_INCLINATION = 86.85
ORBITAL_SEMIMAJOR_AXIS = 8767.61
PERIAPSIS_ALTITUDE = 320.87
PERIAPSIS_ARGUMENT_ANGLE = 251.63
PERIAPSIS_TIME = 2010-12-01T18:41:09.000Z
SPACECRAFT_ORIENTATION = (0.0,-1.0,0.0)
^MEX_ORIENTATION_DESC = "MEX_ORIENTATION_DESC.TXT"
SPACECRAFT_POINTING_MODE = NADIR
^MEX_POINTING_DESC = "MEX_POINTING_DESC.TXT"
RIGHT_ASCENSION = -1e+32
DECLINATION = -1e+32
OFFSET_ANGLE = -1e+32
SPACECRAFT_SOLAR_DISTANCE = 2.15931e+08
TARGET_NAME = MARS
/* CAMERA DATA ELEMENTS */
DETECTOR_TEMPERATURE = 17.5549
FOCAL_PLANE_TEMPERATURE = 8.3794
INST_CMPRS_NAME = "DISCRETE COSINE TRANSFORMATION (DCT)"
INST_CMPRS_RATIO = 16.9592
INST_CMPRS_QUALITY = 0
INST_CMPRS_QUANTZ_TBL_ID = 0
INSTRUMENT_TEMPERATURE = 11.0301
LENS_TEMPERATURE = 8.3794
MACROPIXEL_SIZE = 4
MISSING_FRAMES = 0
PIXEL_SUBSAMPLING_FLAG = N
SIGNAL_CHAIN_ID = 1
/* RADIOMETRIC DATA ELEMENTS */
BANDWIDTH = 180.0
CENTER_FILTER_WAVELENGTH = 677.0
RADIANCE_OFFSET = 2.79541
RADIANCE_SCALING_FACTOR = 0.0256378
REFLECTANCE_SCALING_FACTOR = 0.000623665
MEX:REFLECTANCE_OFFSET = 0.068001
/* IMAGE OBJECT DEFINITIONS */
OBJECT = IMAGE
  INTERCHANGE_FORMAT = BINARY
  LINES = 7690
  LINE_SAMPLES = 4183
  SAMPLE_TYPE = UNSIGNED_INTEGER
  SAMPLE_BITS = 8
  BANDS = 1
  BAND_STORAGE_TYPE = BAND_SEQUENTIAL
  MAXIMUM = 255
  MEAN = 61.9493
  MINIMUM = 1
  STANDARD_DEVIATION = 35.0634
END_OBJECT = IMAGE
/* MAP OBJECT DEFINITIONS */
OBJECT = IMAGE_MAP_PROJECTION
  ^DATA_SET_MAP_PROJECTION_CATALOG= "DSMAP.CAT"
  A_AXIS_RADIUS = 3396.0
  B_AXIS_RADIUS = 3396.0
  C_AXIS_RADIUS = 3396.0
  CENTER_LATITUDE = 0.0
  CENTER_LONGITUDE = 68.0
  COORDINATE_SYSTEM_NAME = PLANETOGRAPHIC
  COORDINATE_SYSTEM_TYPE = "BODY-FIXED ROTATING"
  EASTERNMOST_LONGITUDE = 75.67489999999999
  FIRST_STANDARD_PARALLEL = "N/A"
  LINE_FIRST_PIXEL = 1
  LINE_LAST_PIXEL = 7690
  LINE_PROJECTION_OFFSET = -90761.375
  MAP_PROJECTION_ROTATION = 0.0
  MAP_PROJECTION_TYPE = SINUSOIDAL
  MAP_RESOLUTION = 1185.42760773333
  MAP_SCALE = 0.05
  MAXIMUM_LATITUDE = -76.5981
  MINIMUM_LATITUDE = -83.1461
  POSITIVE_LONGITUDE_DIRECTION = EAST
  REFERENCE_LATITUDE = "N/A"
  REFERENCE_LONGITUDE = "N/A"
  SAMPLE_FIRST_PIXEL = 1
  SAMPLE_LAST_PIXEL = 4183
  SAMPLE_PROJECTION_OFFSET = 2059.125
  SECOND_STANDARD_PARALLEL = "N/A"
  WESTERNMOST_LONGITUDE = 54.9552
END_OBJECT = IMAGE_MAP_PROJECTION
END
