PDS_VERSION_ID = PDS3
/* FILE DATA ELEMENTS */
RECORD_TYPE = UNDEFINED
/* POINTERS TO DATA OBJECTS */
^IMAGE = ("H8828_0000_ND4.TIF")
/* IDENTIFICATION DATA ELEMENTS */
DATA_SET_ID = "MEX-M-HRSC-4-REFDR-MAPPROJECT-EXT3-V4.0"
DATA_SET_NAME = "MARS EXPRESS HRSC MAP PROJECTED REFDR EXTENSION3 V4.0"
DETECTOR_ID = MEX_HRSC_NADIR
EVENT_TYPE = "MARS-AURORA-SYSTEMTEST-Tc-Ot"
INSTRUMENT_HOST_ID = MEX
INSTRUMENT_HOST_NAME = "MARS EXPRESS"
INSTRUMENT_ID = HRSC
INSTRUMENT_NAME = "HIGH RESOLUTION STEREO CAMERA"
MISSION_NAME = "MARS EXPRESS"
MISSION_PHASE_NAME = ME_Phase_22
PROCESSING_LEVEL_ID = 4
PRODUCT_CREATION_TIME = 2023-02-03T21:13:30.000Z
PRODUCT_ID = "H8828_0000_ND4.TIF"
RELEASE_ID = 0005
REVISION_ID = 0000
/* QUALITY DATA ELEMENTS */
DATA_QUALITY_ID = 1
DATA_QUALITY_DESC = "Data calculated based on original SPICE kernels"
/* TIME DATA ELEMENTS */
SPACECRAFT_CLOCK_START_COUNT = "1/0238980798.09064"
SPACECRAFT_CLOCK_STOP_COUNT = "1/0238981559.49050"
START_TIME = 2010-11-27T23:33:36.086Z
STOP_TIME = 2010-11-27T23:45:55.968Z
/* ORBITAL DATA ELEMENTS */
ASCENDING_NODE_LONGITUDE = 48.72
MAXIMUM_RESOLUTION = 0.0127
FOOTPRINT_POINT_LATITUDE = (-27.7922,-27.7924,-27.7756,-27.7751, -27.777,-29.3321,-30.9112,-32.5141, -34.1406,-35.7904,-36.6239,-37.4632, -38.3081,-39.1586,-40.0146,-40.876, -41.7427,-42.6149,-43.4922,-44.3745, -45.2619,-46.1542,-47.0513,-47.9531, -48.8594,-49.7702,-50.6853,-51.6046, -52.5278,-53.4549,-54.3858,-55.3203, -56.2581,-57.1992,-58.1433,-59.0902, -60.0399,-60.992,-61.9464,-62.9029, -63.8612,-64.8211,-65.7825,-66.745, -67.7084,-68.6725,-69.6369,-70.6014, -72.0476,-72.5294,-72.7933,-72.6099, -72.6078,-72.6029,-71.174,-70.2193, -69.2635,-68.307,-67.3502,-66.3936, -65.4374,-64.4816,-63.5268,-62.5735, -61.6218,-60.6721,-59.7245,-58.7791, -57.8362,-56.8959,-55.9585,-55.0245, -54.0938,-53.1665,-52.2428,-51.3231, -50.4074,-49.4957,-48.5885,-47.6858, -46.7877,-45.8943,-45.0057,-44.1222, -43.2435,-42.3704,-41.5023,-40.6396, -39.7822,-38.9303,-38.0841,-37.2436, -36.4088,-34.7567,-33.1282,-31.5236, -29.9433,-28.3874,-28.0022,-27.7922)
FOOTPRINT_POINT_LONGITUDE = (163.247,161.807,160.248,160.218, 160.191,160.225,160.261,160.302,160.346 ,160.394,160.419,160.447,160.476, 160.508,160.541,160.574,160.609,160.65, 160.691,160.733,160.778,160.827,160.878 ,160.932,160.99,161.051,161.118,161.189 ,161.262,161.34,161.425,161.517,161.615 ,161.719,161.831,161.944,162.076, 162.212,162.359,162.52,162.695,162.887, 163.093,163.319,163.565,163.837,164.135 ,164.466,165.036,165.248,165.37,169.017 ,169.053,169.073,168.197,167.689, 167.234,166.826,166.457,166.123,165.821 ,165.55,165.304,165.079,164.872,164.683 ,164.51,164.353,164.211,164.082,163.965 ,163.855,163.757,163.668,163.588, 163.515,163.45,163.392,163.34,163.292, 163.249,163.212,163.181,163.152,163.13, 163.108,163.092,163.08,163.072,163.069, 163.067,163.069,163.072,163.087,163.112 ,163.145,163.185,163.234,163.247, 163.247)
ORBIT_NUMBER = 8828
ORBITAL_ECCENTRICITY = 0.578
ORBITAL_INCLINATION = 86.85
ORBITAL_SEMIMAJOR_AXIS = 8766.68
PERIAPSIS_ALTITUDE = 321.45
PERIAPSIS_ARGUMENT_ANGLE = 253.84
PERIAPSIS_TIME = 2010-11-27T23:46:08.000Z
SPACECRAFT_ORIENTATION = (0.0,-1.0,0.0)
^MEX_ORIENTATION_DESC = "MEX_ORIENTATION_DESC.TXT"
SPACECRAFT_POINTING_MODE = NADIR
^MEX_POINTING_DESC = "MEX_POINTING_DESC.TXT"
RIGHT_ASCENSION = -1e+32
DECLINATION = -1e+32
OFFSET_ANGLE = -1e+32
SPACECRAFT_SOLAR_DISTANCE = 2.16581e+08
TARGET_NAME = MARS
/* CAMERA DATA ELEMENTS */
DETECTOR_TEMPERATURE = 18.1666
FOCAL_PLANE_TEMPERATURE = 7.5638
INST_CMPRS_NAME = NONE
INST_CMPRS_RATIO = 1.0
INST_CMPRS_QUALITY = -2147483648
INST_CMPRS_QUANTZ_TBL_ID = -2147483648
INSTRUMENT_TEMPERATURE = 11.0301
LENS_TEMPERATURE = 7.9716
MACROPIXEL_SIZE = 1
MISSING_FRAMES = 0
PIXEL_SUBSAMPLING_FLAG = N
SIGNAL_CHAIN_ID = 0
/* RADIOMETRIC DATA ELEMENTS */
BANDWIDTH = 177.0
CENTER_FILTER_WAVELENGTH = 677.5
RADIANCE_OFFSET = 0.0
RADIANCE_SCALING_FACTOR = 3.12918e-05
REFLECTANCE_SCALING_FACTOR = 7.79761e-07
MEX:REFLECTANCE_OFFSET = 0.0
/* IMAGE OBJECT DEFINITIONS */
OBJECT = IMAGE
  INTERCHANGE_FORMAT = BINARY
  LINES = 213451
  LINE_SAMPLES = 17622
  SAMPLE_TYPE = UNSIGNED_INTEGER
  SAMPLE_BITS = 8
  BANDS = 1
  BAND_STORAGE_TYPE = BAND_SEQUENTIAL
  MAXIMUM = 254
  MEAN = 1.2963
  MINIMUM = 1
  STANDARD_DEVIATION = 3.83394
END_OBJECT = IMAGE
/* MAP OBJECT DEFINITIONS */
OBJECT = IMAGE_MAP_PROJECTION
  ^DATA_SET_MAP_PROJECTION_CATALOG= "DSMAP.CAT"
  A_AXIS_RADIUS = 3396.0
  B_AXIS_RADIUS = 3396.0
  C_AXIS_RADIUS = 3396.0
  CENTER_LATITUDE = 0.0
  CENTER_LONGITUDE = 162.0
  COORDINATE_SYSTEM_NAME = PLANETOGRAPHIC
  COORDINATE_SYSTEM_TYPE = "BODY-FIXED ROTATING"
  EASTERNMOST_LONGITUDE = 169.073
  FIRST_STANDARD_PARALLEL = "N/A"
  LINE_FIRST_PIXEL = 1
  LINE_LAST_PIXEL = 213451
  LINE_PROJECTION_OFFSET = -131698.0
  MAP_PROJECTION_ROTATION = 0.0
  MAP_PROJECTION_TYPE = SINUSOIDAL
  MAP_RESOLUTION = 4741.71043093333
  MAP_SCALE = 0.0125
  MAXIMUM_LATITUDE = -27.7751
  MINIMUM_LATITUDE = -72.7933
  POSITIVE_LONGITUDE_DIRECTION = EAST
  REFERENCE_LATITUDE = "N/A"
  REFERENCE_LONGITUDE = "N/A"
  SAMPLE_FIRST_PIXEL = 1
  SAMPLE_LAST_PIXEL = 17622
  SAMPLE_PROJECTION_OFFSET = 7590.0
  SECOND_STANDARD_PARALLEL = "N/A"
  WESTERNMOST_LONGITUDE = 160.191
END_OBJECT = IMAGE_MAP_PROJECTION
END
