PDS_VERSION_ID = PDS3
/* FILE DATA ELEMENTS */
RECORD_TYPE = UNDEFINED
/* POINTERS TO DATA OBJECTS */
^IMAGE = ("H8821_0009_BL4.TIF")
/* IDENTIFICATION DATA ELEMENTS */
DATA_SET_ID = "MEX-M-HRSC-4-REFDR-MAPPROJECT-EXT3-V4.0"
DATA_SET_NAME = "MARS EXPRESS HRSC MAP PROJECTED REFDR EXTENSION3 V4.0"
DETECTOR_ID = MEX_HRSC_BLUE
EVENT_TYPE = "MARS-CLOUD-VARIABLE-Ot-At"
INSTRUMENT_HOST_ID = MEX
INSTRUMENT_HOST_NAME = "MARS EXPRESS"
INSTRUMENT_ID = HRSC
INSTRUMENT_NAME = "HIGH RESOLUTION STEREO CAMERA"
MISSION_NAME = "MARS EXPRESS"
MISSION_PHASE_NAME = ME_Phase_22
PROCESSING_LEVEL_ID = 4
PRODUCT_CREATION_TIME = 2023-02-03T21:13:30.000Z
PRODUCT_ID = "H8821_0009_BL4.TIF"
RELEASE_ID = 0005
REVISION_ID = 0000
/* QUALITY DATA ELEMENTS */
DATA_QUALITY_ID = 1
DATA_QUALITY_DESC = "Data calculated based on original SPICE kernels"
/* TIME DATA ELEMENTS */
SPACECRAFT_CLOCK_START_COUNT = "1/0238807389.07279"
SPACECRAFT_CLOCK_STOP_COUNT = "1/0238808088.29686"
START_TIME = 2010-11-25T23:25:31.476Z
STOP_TIME = 2010-11-25T23:34:49.180Z
/* ORBITAL DATA ELEMENTS */
ASCENDING_NODE_LONGITUDE = 48.85
MAXIMUM_RESOLUTION = 0.237
FOOTPRINT_POINT_LATITUDE = (-15.8321,-15.7692,-15.669,-15.5691, -15.4695,-15.37,-15.2708,-15.1716, -15.0728,-14.9739,-14.8749,-14.7756, -14.6759,-14.5637,-14.5512,-14.5596, -14.1158,-13.4527,-12.5732,-12.1297, -11.6897,-11.2502,-10.5931,-9.49861, -8.84521,-8.19361,-7.32032,-6.66534, -5.79152,-4.9203,-4.05199,-3.40102, -2.31616,-1.44838,-0.580677,0.286787, 0.937422,1.80543,2.67409,3.3255,4.19572 ,4.84924,5.28657,5.94007,7.02739, 7.24603,7.26663,7.20557,7.11307,7.05111 ,6.95685,6.89272,6.80175,6.72467, 6.66363,6.60256,6.54146,6.4494,6.36934, 6.31159,6.24707,6.18618,6.11046,6.04837 ,5.9565,5.86462,5.80364,5.69632,5.68102 ,5.67508,4.606,3.75185,2.89816,2.2582, 1.40502,0.552097,-0.0876326,-0.94136, -1.58081,-2.43495,-3.07453,-3.92906, -4.78507,-5.42472,-6.28204,-7.1407, -8.01174,-9.07822,-9.72386,-10.5867, -11.455,-12.1097,-12.5484,-12.9936, -13.8451,-14.289,-14.7281,-15.5992, -15.8205,-15.8321)
FOOTPRINT_POINT_LONGITUDE = (319.023,319.546,320.379,321.207, 322.033,322.855,323.677,324.498,325.317 ,326.137,326.958,327.782,328.609, 329.542,329.646,329.692,329.691,329.693 ,329.699,329.698,329.7,329.703,329.709, 329.721,329.734,329.75,329.763,329.772, 329.782,329.797,329.82,329.839,329.872, 329.901,329.93,329.96,329.986,330.025, 330.067,330.098,330.147,330.185,330.216 ,330.254,330.315,330.33,330.332,329.806 ,329.013,328.487,327.698,327.174, 326.398,325.753,325.24,324.728,324.216, 323.451,322.813,322.306,321.798,321.291 ,320.658,320.152,319.394,318.635, 318.128,317.24,317.113,317.068,317.188, 317.282,317.375,317.443,317.534,317.623 ,317.688,317.771,317.837,317.919, 317.983,318.064,318.142,318.204,318.28, 318.355,318.417,318.517,318.571,318.641 ,318.707,318.753,318.783,318.808, 318.885,318.911,318.94,319.003,319.017, 319.023)
ORBIT_NUMBER = 8821
ORBITAL_ECCENTRICITY = 0.578
ORBITAL_INCLINATION = 86.85
ORBITAL_SEMIMAJOR_AXIS = 8765.87
PERIAPSIS_ALTITUDE = 321.37
PERIAPSIS_ARGUMENT_ANGLE = 255.03
PERIAPSIS_TIME = 2010-11-25T22:48:49.000Z
SPACECRAFT_ORIENTATION = (0.0,-1.0,0.0)
^MEX_ORIENTATION_DESC = "MEX_ORIENTATION_DESC.TXT"
SPACECRAFT_POINTING_MODE = INERT
^MEX_POINTING_DESC = "MEX_POINTING_DESC.TXT"
RIGHT_ASCENSION = 335.656
DECLINATION = 65.169
OFFSET_ANGLE = -1e+32
SPACECRAFT_SOLAR_DISTANCE = 2.16936e+08
TARGET_NAME = MARS
/* CAMERA DATA ELEMENTS */
DETECTOR_TEMPERATURE = 21.429
FOCAL_PLANE_TEMPERATURE = 9.195
INST_CMPRS_NAME = "DISCRETE COSINE TRANSFORMATION (DCT)"
INST_CMPRS_RATIO = 10.3688
INST_CMPRS_QUALITY = 0
INST_CMPRS_QUANTZ_TBL_ID = 0
INSTRUMENT_TEMPERATURE = 16.1276
LENS_TEMPERATURE = 9.8067
MACROPIXEL_SIZE = 2
MISSING_FRAMES = 0
PIXEL_SUBSAMPLING_FLAG = N
SIGNAL_CHAIN_ID = 2
/* RADIOMETRIC DATA ELEMENTS */
BANDWIDTH = 76.0
CENTER_FILTER_WAVELENGTH = 444.0
RADIANCE_OFFSET = 1.37252
RADIANCE_SCALING_FACTOR = 0.00265799
REFLECTANCE_SCALING_FACTOR = 0.000128516
MEX:REFLECTANCE_OFFSET = 0.0663623
/* IMAGE OBJECT DEFINITIONS */
OBJECT = IMAGE
  INTERCHANGE_FORMAT = BINARY
  LINES = 6848
  LINE_SAMPLES = 3907
  SAMPLE_TYPE = UNSIGNED_INTEGER
  SAMPLE_BITS = 8
  BANDS = 1
  BAND_STORAGE_TYPE = BAND_SEQUENTIAL
  MAXIMUM = 255
  MEAN = 158.401
  MINIMUM = 1
  STANDARD_DEVIATION = 32.9309
END_OBJECT = IMAGE
/* MAP OBJECT DEFINITIONS */
OBJECT = IMAGE_MAP_PROJECTION
  ^DATA_SET_MAP_PROJECTION_CATALOG= "DSMAP.CAT"
  A_AXIS_RADIUS = 3396.0
  B_AXIS_RADIUS = 3396.0
  C_AXIS_RADIUS = 3396.0
  CENTER_LATITUDE = 0.0
  CENTER_LONGITUDE = 324.0
  COORDINATE_SYSTEM_NAME = PLANETOGRAPHIC
  COORDINATE_SYSTEM_TYPE = "BODY-FIXED ROTATING"
  EASTERNMOST_LONGITUDE = 330.332
  FIRST_STANDARD_PARALLEL = "N/A"
  LINE_FIRST_PIXEL = 1
  LINE_LAST_PIXEL = 6848
  LINE_PROJECTION_OFFSET = 2153.0
  MAP_PROJECTION_ROTATION = 0.0
  MAP_PROJECTION_TYPE = SINUSOIDAL
  MAP_RESOLUTION = 296.356901933333
  MAP_SCALE = 0.2
  MAXIMUM_LATITUDE = 7.26663
  MINIMUM_LATITUDE = -15.8321
  POSITIVE_LONGITUDE_DIRECTION = EAST
  REFERENCE_LATITUDE = "N/A"
  REFERENCE_LONGITUDE = "N/A"
  SAMPLE_FIRST_PIXEL = 1
  SAMPLE_LAST_PIXEL = 3907
  SAMPLE_PROJECTION_OFFSET = 2044.0
  SECOND_STANDARD_PARALLEL = "N/A"
  WESTERNMOST_LONGITUDE = 317.068
END_OBJECT = IMAGE_MAP_PROJECTION
END
