PDS_VERSION_ID = PDS3
/* FILE DATA ELEMENTS */
RECORD_TYPE = UNDEFINED
/* POINTERS TO DATA OBJECTS */
^IMAGE = ("H8806_0000_S24.TIF")
/* IDENTIFICATION DATA ELEMENTS */
DATA_SET_ID = "MEX-M-HRSC-4-REFDR-MAPPROJECT-EXT3-V4.0"
DATA_SET_NAME = "MARS EXPRESS HRSC MAP PROJECTED REFDR EXTENSION3 V4.0"
DETECTOR_ID = MEX_HRSC_S2
EVENT_TYPE = "MARS-GLOBAL-VARIABLE-Gl-At"
INSTRUMENT_HOST_ID = MEX
INSTRUMENT_HOST_NAME = "MARS EXPRESS"
INSTRUMENT_ID = HRSC
INSTRUMENT_NAME = "HIGH RESOLUTION STEREO CAMERA"
MISSION_NAME = "MARS EXPRESS"
MISSION_PHASE_NAME = ME_Phase_22
PROCESSING_LEVEL_ID = 4
PRODUCT_CREATION_TIME = 2023-02-03T21:13:30.000Z
PRODUCT_ID = "H8806_0000_S24.TIF"
RELEASE_ID = 0005
REVISION_ID = 0000
/* QUALITY DATA ELEMENTS */
DATA_QUALITY_ID = 1
DATA_QUALITY_DESC = "Data calculated based on original SPICE kernels"
/* TIME DATA ELEMENTS */
SPACECRAFT_CLOCK_START_COUNT = "1/0238428152.08252"
SPACECRAFT_CLOCK_STOP_COUNT = "1/0238428538.12643"
START_TIME = 2010-11-21T14:02:34.821Z
STOP_TIME = 2010-11-21T14:05:50.679Z
/* ORBITAL DATA ELEMENTS */
ASCENDING_NODE_LONGITUDE = 49.13
MAXIMUM_RESOLUTION = 0.0901
FOOTPRINT_POINT_LATITUDE = (-67.9868,-67.9627,-67.9351,-67.8826, -67.8456,-67.7608,-67.758,-67.6558, -67.2858,-66.9133,-66.5417,-66.2939, -66.0477,-65.8003,-65.4305,-65.1843, -64.9397,-64.5712,-64.2029,-63.9572, -63.7127,-63.3462,-62.9805,-62.7383, -62.4945,-62.2511,-62.0089,-61.7664, -61.5245,-61.2832,-61.0423,-60.8008, -60.4392,-60.0789,-59.8384,-59.5989, -59.2397,-58.9991,-58.7598,-58.5198, -58.2806,-58.0413,-57.6824,-57.2056, -56.6109,-56.1366,-55.6605,-55.5422, -55.5374,-55.5703,-55.6204,-55.6385, -55.6642,-55.6907,-55.6964,-55.6968, -55.6975,-56.0581,-56.4188,-57.0173, -57.2571,-57.6185,-57.8595,-58.2196, -58.578,-58.8176,-59.0583,-59.3008, -59.543,-59.7838,-60.1447,-60.6156, -60.8578,-61.0988,-61.3415,-61.5847, -61.8319,-62.0844,-62.4479,-62.8142, -63.0586,-63.3034,-63.5491,-63.7958, -64.0413,-64.4106,-64.6573,-64.9057, -65.1526,-65.3994,-65.6468,-65.8951, -66.2665,-66.5138,-66.8871,-67.1359, -67.3851,-67.7593,-67.884,-67.9868)
FOOTPRINT_POINT_LONGITUDE = (59.3475,58.6339,57.9223,56.7706, 56.0656,54.6602,54.6164,54.5736,54.7059 ,54.8318,54.9527,55.0305,55.1066, 55.1802,55.2871,55.3561,55.4236,55.5209 ,55.6143,55.6743,55.7331,55.8183, 55.9002,55.9536,56.0048,56.0548,56.1038 ,56.1513,56.1977,56.2431,56.2873,56.33, 56.392,56.4519,56.4903,56.5279,56.5823, 56.6169,56.6509,56.6836,56.7156,56.7467 ,56.7914,56.8485,56.9153,56.9654, 57.0117,57.023,57.0234,57.5998,58.5935, 59.2155,60.0475,60.8778,61.4214,61.4633 ,61.4772,61.4398,61.4015,61.3376, 61.3112,61.2699,61.2419,61.1999,61.1582 ,61.1295,61.0996,61.0681,61.0363,61.005 ,60.9573,60.8995,60.865,60.8309,60.795, 60.7581,60.7175,60.6723,60.6148,60.5535 ,60.5116,60.4686,60.4241,60.378,60.332, 60.2605,60.2113,60.1596,60.1082,60.0559 ,60.002,59.9461,59.8611,59.8034,59.712, 59.6494,59.5851,59.4855,59.4515, 59.3475)
ORBIT_NUMBER = 8806
ORBITAL_ECCENTRICITY = 0.578
ORBITAL_INCLINATION = 86.84
ORBITAL_SEMIMAJOR_AXIS = 8763.5
PERIAPSIS_ALTITUDE = 320.8
PERIAPSIS_ARGUMENT_ANGLE = 257.57
PERIAPSIS_TIME = 2010-11-21T13:54:25.000Z
SPACECRAFT_ORIENTATION = (0.0,1.0,0.0)
^MEX_ORIENTATION_DESC = "MEX_ORIENTATION_DESC.TXT"
SPACECRAFT_POINTING_MODE = NADIR
^MEX_POINTING_DESC = "MEX_POINTING_DESC.TXT"
RIGHT_ASCENSION = -1e+32
DECLINATION = -1e+32
OFFSET_ANGLE = -1e+32
SPACECRAFT_SOLAR_DISTANCE = 2.17709e+08
TARGET_NAME = MARS
/* CAMERA DATA ELEMENTS */
DETECTOR_TEMPERATURE = 18.5744
FOCAL_PLANE_TEMPERATURE = 8.1755
INST_CMPRS_NAME = "DISCRETE COSINE TRANSFORMATION (DCT)"
INST_CMPRS_RATIO = 11.6834
INST_CMPRS_QUALITY = 0
INST_CMPRS_QUANTZ_TBL_ID = 0
INSTRUMENT_TEMPERATURE = 11.234
LENS_TEMPERATURE = 8.5833
MACROPIXEL_SIZE = 4
MISSING_FRAMES = 0
PIXEL_SUBSAMPLING_FLAG = N
SIGNAL_CHAIN_ID = 1
/* RADIOMETRIC DATA ELEMENTS */
BANDWIDTH = 178.0
CENTER_FILTER_WAVELENGTH = 679.0
RADIANCE_OFFSET = 5.44562
RADIANCE_SCALING_FACTOR = 0.0291947
REFLECTANCE_SCALING_FACTOR = 0.000732795
MEX:REFLECTANCE_OFFSET = 0.136687
/* IMAGE OBJECT DEFINITIONS */
OBJECT = IMAGE
  INTERCHANGE_FORMAT = BINARY
  LINES = 7310
  LINE_SAMPLES = 2051
  SAMPLE_TYPE = UNSIGNED_INTEGER
  SAMPLE_BITS = 8
  BANDS = 1
  BAND_STORAGE_TYPE = BAND_SEQUENTIAL
  MAXIMUM = 255
  MEAN = 127.868
  MINIMUM = 1
  STANDARD_DEVIATION = 49.8558
END_OBJECT = IMAGE
/* MAP OBJECT DEFINITIONS */
OBJECT = IMAGE_MAP_PROJECTION
  ^DATA_SET_MAP_PROJECTION_CATALOG= "DSMAP.CAT"
  A_AXIS_RADIUS = 3396.0
  B_AXIS_RADIUS = 3396.0
  C_AXIS_RADIUS = 3396.0
  CENTER_LATITUDE = 0.0
  CENTER_LONGITUDE = 58.0
  COORDINATE_SYSTEM_NAME = PLANETOGRAPHIC
  COORDINATE_SYSTEM_TYPE = "BODY-FIXED ROTATING"
  EASTERNMOST_LONGITUDE = 61.4772
  FIRST_STANDARD_PARALLEL = "N/A"
  LINE_FIRST_PIXEL = 1
  LINE_LAST_PIXEL = 7310
  LINE_PROJECTION_OFFSET = -32918.75
  MAP_PROJECTION_ROTATION = 0.0
  MAP_PROJECTION_TYPE = SINUSOIDAL
  MAP_RESOLUTION = 592.713803866667
  MAP_SCALE = 0.1
  MAXIMUM_LATITUDE = -55.5374
  MINIMUM_LATITUDE = -67.9868
  POSITIVE_LONGITUDE_DIRECTION = EAST
  REFERENCE_LATITUDE = "N/A"
  REFERENCE_LONGITUDE = "N/A"
  SAMPLE_FIRST_PIXEL = 1
  SAMPLE_LAST_PIXEL = 2051
  SAMPLE_PROJECTION_OFFSET = 820.25
  SECOND_STANDARD_PARALLEL = "N/A"
  WESTERNMOST_LONGITUDE = 54.5736
END_OBJECT = IMAGE_MAP_PROJECTION
END
