PDS_VERSION_ID = PDS3
/* FILE DATA ELEMENTS */
RECORD_TYPE = UNDEFINED
/* POINTERS TO DATA OBJECTS */
^IMAGE = ("H8756_0000_IR4.TIF")
/* IDENTIFICATION DATA ELEMENTS */
DATA_SET_ID = "MEX-M-HRSC-4-REFDR-MAPPROJECT-EXT3-V4.0"
DATA_SET_NAME = "MARS EXPRESS HRSC MAP PROJECTED REFDR EXTENSION3 V4.0"
DETECTOR_ID = MEX_HRSC_IR
EVENT_TYPE = "MARS-REGIONAL-VARIABLE-Gl-At"
INSTRUMENT_HOST_ID = MEX
INSTRUMENT_HOST_NAME = "MARS EXPRESS"
INSTRUMENT_ID = HRSC
INSTRUMENT_NAME = "HIGH RESOLUTION STEREO CAMERA"
MISSION_NAME = "MARS EXPRESS"
MISSION_PHASE_NAME = ME_Phase_22
PROCESSING_LEVEL_ID = 4
PRODUCT_CREATION_TIME = 2023-02-03T21:13:30.000Z
PRODUCT_ID = "H8756_0000_IR4.TIF"
RELEASE_ID = 0005
REVISION_ID = 0000
/* QUALITY DATA ELEMENTS */
DATA_QUALITY_ID = 1
DATA_QUALITY_DESC = "Data calculated based on original SPICE kernels"
/* TIME DATA ELEMENTS */
SPACECRAFT_CLOCK_START_COUNT = "1/0237168878.09133"
SPACECRAFT_CLOCK_STOP_COUNT = "1/0237169073.39026"
START_TIME = 2010-11-07T00:15:36.745Z
STOP_TIME = 2010-11-07T00:17:47.766Z
/* ORBITAL DATA ELEMENTS */
ASCENDING_NODE_LONGITUDE = 50.08
MAXIMUM_RESOLUTION = 0.0573
FOOTPRINT_POINT_LATITUDE = (-83.9334,-83.8421,-83.7684,-83.6912, -83.6109,-83.5275,-83.4135,-83.408, -83.4665,-83.2707,-83.1395,-82.9415, -82.8086,-82.6746,-82.54,-82.4048, -82.2693,-81.9286,-81.6543,-81.3789, -81.1021,-80.8241,-80.4065,-80.1262, -79.9668,-79.7993,-79.6316,-79.4635, -79.2954,-79.1273,-78.9591,-78.791, -78.6236,-78.3731,-78.2049,-78.0369, -77.7844,-77.6157,-77.4452,-77.1911, -76.9396,-76.7716,-76.6041,-76.3524, -76.1844,-75.9321,-75.8481,-75.8276, -75.9004,-75.946,-75.9782,-76.0117, -76.0601,-76.1034,-76.1055,-76.1072, -76.2775,-76.448,-76.619,-76.7903, -76.961,-77.1326,-77.302,-77.5604, -77.732,-77.9035,-78.081,-78.338, -78.5112,-78.6833,-78.8602,-79.0333, -79.2073,-79.3795,-79.5471,-79.719, -79.8922,-80.0647,-80.2367,-80.4905, -80.7805,-81.0708,-81.3582,-81.575, -81.8633,-82.0796,-82.2235,-82.3675, -82.5832,-82.7267,-82.87,-83.013, -83.1559,-83.2989,-83.4418,-83.5841, -83.7247,-83.9348,-84.0052,-83.9334)
FOOTPRINT_POINT_LONGITUDE = (118.077,116.121,114.676,113.269, 111.903,110.576,108.891,108.812,108.339 ,109.337,109.967,110.865,111.436, 111.988,112.519,113.031,113.524,114.679 ,115.532,116.327,117.07,117.767,118.728 ,119.325,119.648,119.975,120.29,120.596 ,120.891,121.176,121.451,121.717, 121.973,122.339,122.577,122.806,123.139 ,123.354,123.566,123.869,124.154, 124.338,124.515,124.774,124.941,125.184 ,125.263,125.282,126.516,127.351, 127.982,128.671,129.793,130.873,130.927 ,130.945,130.829,130.711,130.589, 130.465,130.336,130.204,130.065,129.856 ,129.71,129.559,129.413,129.17,129.004, 128.831,128.661,128.478,128.29,128.092, 127.88,127.668,127.451,127.224,126.989, 126.627,126.191,125.727,125.226,124.829 ,124.265,123.815,123.5,123.173,122.659, 122.299,121.923,121.532,121.124,120.699 ,120.256,119.791,119.303,118.528, 118.259,118.077)
ORBIT_NUMBER = 8756
ORBITAL_ECCENTRICITY = 0.578
ORBITAL_INCLINATION = 86.84
ORBITAL_SEMIMAJOR_AXIS = 8760.89
PERIAPSIS_ALTITUDE = 321.23
PERIAPSIS_ARGUMENT_ANGLE = 266.01
PERIAPSIS_TIME = 2010-11-07T00:12:47.000Z
SPACECRAFT_ORIENTATION = (0.0,1.0,0.0)
^MEX_ORIENTATION_DESC = "MEX_ORIENTATION_DESC.TXT"
SPACECRAFT_POINTING_MODE = ACROSSTRACK
^MEX_POINTING_DESC = "MEX_POINTING_DESC.TXT"
RIGHT_ASCENSION = -1e+32
DECLINATION = -1e+32
OFFSET_ANGLE = -0.3
SPACECRAFT_SOLAR_DISTANCE = 2.20387e+08
TARGET_NAME = MARS
/* CAMERA DATA ELEMENTS */
DETECTOR_TEMPERATURE = 17.1471
FOCAL_PLANE_TEMPERATURE = 7.7677
INST_CMPRS_NAME = "DISCRETE COSINE TRANSFORMATION (DCT)"
INST_CMPRS_RATIO = 4.3309
INST_CMPRS_QUALITY = 0
INST_CMPRS_QUANTZ_TBL_ID = 0
INSTRUMENT_TEMPERATURE = 10.8262
LENS_TEMPERATURE = 7.9716
MACROPIXEL_SIZE = 4
MISSING_FRAMES = 0
PIXEL_SUBSAMPLING_FLAG = N
SIGNAL_CHAIN_ID = 2
/* RADIOMETRIC DATA ELEMENTS */
BANDWIDTH = 81.0
CENTER_FILTER_WAVELENGTH = 955.5
RADIANCE_OFFSET = 0.0807078
RADIANCE_SCALING_FACTOR = 0.00518575
REFLECTANCE_SCALING_FACTOR = 0.000543388
MEX:REFLECTANCE_OFFSET = 0.00845695
/* IMAGE OBJECT DEFINITIONS */
OBJECT = IMAGE
  INTERCHANGE_FORMAT = BINARY
  LINES = 9675
  LINE_SAMPLES = 4194
  SAMPLE_TYPE = UNSIGNED_INTEGER
  SAMPLE_BITS = 8
  BANDS = 1
  BAND_STORAGE_TYPE = BAND_SEQUENTIAL
  MAXIMUM = 255
  MEAN = 62.9732
  MINIMUM = 1
  STANDARD_DEVIATION = 41.2629
END_OBJECT = IMAGE
/* MAP OBJECT DEFINITIONS */
OBJECT = IMAGE_MAP_PROJECTION
  ^DATA_SET_MAP_PROJECTION_CATALOG= "DSMAP.CAT"
  A_AXIS_RADIUS = 3396.0
  B_AXIS_RADIUS = 3396.0
  C_AXIS_RADIUS = 3396.0
  CENTER_LATITUDE = 0.0
  CENTER_LONGITUDE = 123.0
  COORDINATE_SYSTEM_NAME = PLANETOGRAPHIC
  COORDINATE_SYSTEM_TYPE = "BODY-FIXED ROTATING"
  EASTERNMOST_LONGITUDE = 130.945
  FIRST_STANDARD_PARALLEL = "N/A"
  LINE_FIRST_PIXEL = 1
  LINE_LAST_PIXEL = 9675
  LINE_PROJECTION_OFFSET = -89943.125
  MAP_PROJECTION_ROTATION = 0.0
  MAP_PROJECTION_TYPE = SINUSOIDAL
  MAP_RESOLUTION = 1185.42760773333
  MAP_SCALE = 0.05
  MAXIMUM_LATITUDE = -75.8276
  MINIMUM_LATITUDE = -84.0052
  POSITIVE_LONGITUDE_DIRECTION = EAST
  REFERENCE_LATITUDE = "N/A"
  REFERENCE_LONGITUDE = "N/A"
  SAMPLE_FIRST_PIXEL = 1
  SAMPLE_LAST_PIXEL = 4194
  SAMPLE_PROJECTION_OFFSET = 1982.875
  SECOND_STANDARD_PARALLEL = "N/A"
  WESTERNMOST_LONGITUDE = 108.339
END_OBJECT = IMAGE_MAP_PROJECTION
END
