PDS_VERSION_ID = PDS3
/* FILE DATA ELEMENTS */
RECORD_TYPE = UNDEFINED
/* POINTERS TO DATA OBJECTS */
^IMAGE = ("H8737_0000_BL4.TIF")
/* IDENTIFICATION DATA ELEMENTS */
DATA_SET_ID = "MEX-M-HRSC-4-REFDR-MAPPROJECT-EXT3-V4.0"
DATA_SET_NAME = "MARS EXPRESS HRSC MAP PROJECTED REFDR EXTENSION3 V4.0"
DETECTOR_ID = MEX_HRSC_BLUE
EVENT_TYPE = "MARS-REGIONAL-MAPPING-Im-Fl-Gl"
INSTRUMENT_HOST_ID = MEX
INSTRUMENT_HOST_NAME = "MARS EXPRESS"
INSTRUMENT_ID = HRSC
INSTRUMENT_NAME = "HIGH RESOLUTION STEREO CAMERA"
MISSION_NAME = "MARS EXPRESS"
MISSION_PHASE_NAME = ME_Phase_22
PROCESSING_LEVEL_ID = 4
PRODUCT_CREATION_TIME = 2023-02-03T21:13:30.000Z
PRODUCT_ID = "H8737_0000_BL4.TIF"
RELEASE_ID = 0005
REVISION_ID = 0000
/* QUALITY DATA ELEMENTS */
DATA_QUALITY_ID = 1
DATA_QUALITY_DESC = "Data calculated based on original SPICE kernels"
/* TIME DATA ELEMENTS */
SPACECRAFT_CLOCK_START_COUNT = "1/0236690818.09052"
SPACECRAFT_CLOCK_STOP_COUNT = "1/0236691365.63738"
START_TIME = 2010-11-01T11:27:41.374Z
STOP_TIME = 2010-11-01T11:33:32.409Z
/* ORBITAL DATA ELEMENTS */
ASCENDING_NODE_LONGITUDE = 50.44
MAXIMUM_RESOLUTION = 0.0848
FOOTPRINT_POINT_LATITUDE = (-58.3912,-58.3473,-58.3093,-58.2785, -58.277,-58.2588,-57.6242,-56.9801, -56.3257,-55.6616,-55.1567,-54.474, -53.7815,-53.0784,-52.7215,-52.3633, -52.0008,-51.6354,-51.2681,-50.8971, -50.5219,-50.1449,-49.7641,-49.3791, -48.9911,-48.6005,-48.2063,-47.8086, -47.4069,-47.0013,-46.5921,-46.1802, -45.7631,-45.3425,-44.918,-44.4896, -44.057,-43.6203,-43.1793,-42.7342, -42.2901,-41.8474,-41.4091,-40.9721, -40.5359,-40.1018,-39.6697,-39.239, -39.0242,-38.8754,-38.8874,-38.8992, -38.9019,-38.8972,-38.8898,-38.8894, -38.8909,-39.3225,-39.7568,-40.1924, -40.6303,-41.0697,-41.5114,-41.9544, -42.3996,-42.8466,-43.5164,-43.9572, -44.3934,-44.826,-45.2544,-45.6787, -46.0987,-46.515,-46.927,-47.3356, -47.7403,-48.1413,-48.539,-48.9333, -49.3245,-49.7113,-50.0952,-50.4755, -50.8517,-51.2244,-51.7782,-52.3263, -52.8686,-53.4045,-53.759,-54.1095, -54.802,-55.4826,-56.1536,-56.8147, -57.4664,-58.1088,-58.2671,-58.3912)
FOOTPRINT_POINT_LONGITUDE = (278.737,277.073,276.056,275.359, 275.328,275.286,275.365,275.439,275.508 ,275.573,275.618,275.675,275.73,275.781 ,275.804,275.827,275.849,275.87,275.89, 275.911,275.928,275.946,275.961,275.977 ,275.991,276.005,276.018,276.03,276.04, 276.05,276.059,276.069,276.075,276.081, 276.086,276.09,276.093,276.095,276.096, 276.096,276.095,276.092,276.092,276.09, 276.086,276.08,276.074,276.066,276.061, 276.058,276.681,277.637,278.337,279.373 ,279.968,280.005,280.017,280.005, 279.991,279.977,279.962,279.947,279.931 ,279.916,279.899,279.882,279.856, 279.837,279.819,279.8,279.779,279.759, 279.74,279.719,279.699,279.678,279.656, 279.634,279.611,279.589,279.565,279.541 ,279.516,279.492,279.472,279.448, 279.413,279.373,279.329,279.282,279.249 ,279.219,279.16,279.099,279.034,278.967 ,278.898,278.826,278.808,278.737)
ORBIT_NUMBER = 8737
ORBITAL_ECCENTRICITY = 0.578
ORBITAL_INCLINATION = 86.83
ORBITAL_SEMIMAJOR_AXIS = 8760.76
PERIAPSIS_ALTITUDE = 320.71
PERIAPSIS_ARGUMENT_ANGLE = 269.24
PERIAPSIS_TIME = 2010-11-01T11:19:24.000Z
SPACECRAFT_ORIENTATION = (0.0,1.0,0.0)
^MEX_ORIENTATION_DESC = "MEX_ORIENTATION_DESC.TXT"
SPACECRAFT_POINTING_MODE = ACROSSTRACK
^MEX_POINTING_DESC = "MEX_POINTING_DESC.TXT"
RIGHT_ASCENSION = -1e+32
DECLINATION = -1e+32
OFFSET_ANGLE = -0.18
SPACECRAFT_SOLAR_DISTANCE = 2.21436e+08
TARGET_NAME = MARS
/* CAMERA DATA ELEMENTS */
DETECTOR_TEMPERATURE = 18.1666
FOCAL_PLANE_TEMPERATURE = 7.7677
INST_CMPRS_NAME = "DISCRETE COSINE TRANSFORMATION (DCT)"
INST_CMPRS_RATIO = 14.111
INST_CMPRS_QUALITY = 0
INST_CMPRS_QUANTZ_TBL_ID = 0
INSTRUMENT_TEMPERATURE = 11.0301
LENS_TEMPERATURE = 8.5833
MACROPIXEL_SIZE = 4
MISSING_FRAMES = 0
PIXEL_SUBSAMPLING_FLAG = N
SIGNAL_CHAIN_ID = 2
/* RADIOMETRIC DATA ELEMENTS */
BANDWIDTH = 76.0
CENTER_FILTER_WAVELENGTH = 444.0
RADIANCE_OFFSET = 0.642785
RADIANCE_SCALING_FACTOR = 0.00559195
REFLECTANCE_SCALING_FACTOR = 0.000281717
MEX:REFLECTANCE_OFFSET = 0.0323829
/* IMAGE OBJECT DEFINITIONS */
OBJECT = IMAGE
  INTERCHANGE_FORMAT = BINARY
  LINES = 11561
  LINE_SAMPLES = 1884
  SAMPLE_TYPE = UNSIGNED_INTEGER
  SAMPLE_BITS = 8
  BANDS = 1
  BAND_STORAGE_TYPE = BAND_SEQUENTIAL
  MAXIMUM = 255
  MEAN = 66.8221
  MINIMUM = 1
  STANDARD_DEVIATION = 68.8101
END_OBJECT = IMAGE
/* MAP OBJECT DEFINITIONS */
OBJECT = IMAGE_MAP_PROJECTION
  ^DATA_SET_MAP_PROJECTION_CATALOG= "DSMAP.CAT"
  A_AXIS_RADIUS = 3396.0
  B_AXIS_RADIUS = 3396.0
  C_AXIS_RADIUS = 3396.0
  CENTER_LATITUDE = 0.0
  CENTER_LONGITUDE = 278.0
  COORDINATE_SYSTEM_NAME = PLANETOGRAPHIC
  COORDINATE_SYSTEM_TYPE = "BODY-FIXED ROTATING"
  EASTERNMOST_LONGITUDE = 280.017
  FIRST_STANDARD_PARALLEL = "N/A"
  LINE_FIRST_PIXEL = 1
  LINE_LAST_PIXEL = 11561
  LINE_PROJECTION_OFFSET = -23039.625
  MAP_PROJECTION_ROTATION = 0.0
  MAP_PROJECTION_TYPE = SINUSOIDAL
  MAP_RESOLUTION = 592.713803866667
  MAP_SCALE = 0.1
  MAXIMUM_LATITUDE = -38.8754
  MINIMUM_LATITUDE = -58.3912
  POSITIVE_LONGITUDE_DIRECTION = EAST
  REFERENCE_LATITUDE = "N/A"
  REFERENCE_LONGITUDE = "N/A"
  SAMPLE_FIRST_PIXEL = 1
  SAMPLE_LAST_PIXEL = 1884
  SAMPLE_PROJECTION_OFFSET = 930.375
  SECOND_STANDARD_PARALLEL = "N/A"
  WESTERNMOST_LONGITUDE = 275.286
END_OBJECT = IMAGE_MAP_PROJECTION
END
