PDS_VERSION_ID = PDS3
/* FILE DATA ELEMENTS */
RECORD_TYPE = UNDEFINED
/* POINTERS TO DATA OBJECTS */
^IMAGE = ("H8730_0000_S24.TIF")
/* IDENTIFICATION DATA ELEMENTS */
DATA_SET_ID = "MEX-M-HRSC-4-REFDR-MAPPROJECT-EXT3-V4.0"
DATA_SET_NAME = "MARS EXPRESS HRSC MAP PROJECTED REFDR EXTENSION3 V4.0"
DETECTOR_ID = MEX_HRSC_S2
EVENT_TYPE = "MARS-REGIONAL-MAPPING-Te-Im-Fl"
INSTRUMENT_HOST_ID = MEX
INSTRUMENT_HOST_NAME = "MARS EXPRESS"
INSTRUMENT_ID = HRSC
INSTRUMENT_NAME = "HIGH RESOLUTION STEREO CAMERA"
MISSION_NAME = "MARS EXPRESS"
MISSION_PHASE_NAME = ME_Phase_22
PROCESSING_LEVEL_ID = 4
PRODUCT_CREATION_TIME = 2023-02-03T21:13:30.000Z
PRODUCT_ID = "H8730_0000_S24.TIF"
RELEASE_ID = 0005
REVISION_ID = 0000
/* QUALITY DATA ELEMENTS */
DATA_QUALITY_ID = 1
DATA_QUALITY_DESC = "Data calculated based on original SPICE kernels"
/* TIME DATA ELEMENTS */
SPACECRAFT_CLOCK_START_COUNT = "1/0236514570.09053"
SPACECRAFT_CLOCK_STOP_COUNT = "1/0236514979.22761"
START_TIME = 2010-10-30T10:29:32.812Z
STOP_TIME = 2010-10-30T10:33:14.329Z
/* ORBITAL DATA ELEMENTS */
ASCENDING_NODE_LONGITUDE = 50.58
MAXIMUM_RESOLUTION = 0.0427
FOOTPRINT_POINT_LATITUDE = (-56.8943,-56.8967,-56.8955,-56.8918, -56.8856,-56.8771,-56.8662,-56.8655, -56.7923,-56.4365,-56.0791,-55.5981, -54.8616,-54.3649,-53.9865,-53.4804, -53.2238,-52.9674,-52.7087,-52.4485, -52.188,-51.9239,-51.6597,-51.394, -51.1249,-50.8564,-50.5841,-50.176, -49.8993,-49.6236,-49.2032,-48.9229, -48.6394,-48.3546,-48.0666,-47.7788, -47.4872,-47.1955,-46.9001,-46.6039, -46.3036,-45.8517,-45.5476,-45.2406, -44.9329,-44.6211,-44.1502,-43.8355, -43.5148,-43.1966,-43.0372,-42.9757, -42.9789,-42.9828,-42.9817,-42.9771, -42.9681,-42.9508,-42.9499,-42.9504, -43.4363,-43.7568,-44.0745,-44.3909, -44.7039,-45.0149,-45.3232,-45.786, -46.0914,-46.3893,-46.6867,-46.9835, -47.2793,-47.5727,-48.0088,-48.443, -48.7266,-49.0108,-49.2924,-49.7132, -49.992,-50.2679,-50.6788,-50.9502, -51.3509,-51.7468,-52.0124,-52.4109, -52.6722,-52.9357,-53.194,-53.7029, -54.0818,-54.3353,-54.8319,-55.5707, -56.0564,-56.6568,-56.7749,-56.8943)
FOOTPRINT_POINT_LONGITUDE = (275.769,275.078,274.579,274.085, 273.594,273.106,272.621,272.591,272.583 ,272.613,272.641,272.678,272.729, 272.761,272.784,272.813,272.827,272.841 ,272.854,272.867,272.879,272.891, 272.902,272.913,272.924,272.934,272.944 ,272.958,272.966,272.975,272.986, 272.994,273.001,273.007,273.013,273.019 ,273.024,273.029,273.033,273.037, 273.041,273.045,273.047,273.049,273.051 ,273.052,273.053,273.053,273.052, 273.052,273.051,273.051,273.604,274.095 ,274.753,275.183,275.715,276.418, 276.451,276.464,276.451,276.444,276.435 ,276.427,276.418,276.41,276.402,276.386 ,276.376,276.368,276.36,276.351,276.341 ,276.331,276.315,276.298,276.289, 276.278,276.267,276.249,276.236,276.224 ,276.206,276.193,276.177,276.161, 276.148,276.124,276.11,276.094,276.078, 276.053,276.031,276.015,275.985,275.935 ,275.901,275.858,275.849,275.769)
ORBIT_NUMBER = 8730
ORBITAL_ECCENTRICITY = 0.578
ORBITAL_INCLINATION = 86.83
ORBITAL_SEMIMAJOR_AXIS = 8760.65
PERIAPSIS_ALTITUDE = 320.62
PERIAPSIS_ARGUMENT_ANGLE = 270.42
PERIAPSIS_TIME = 2010-10-30T10:21:50.000Z
SPACECRAFT_ORIENTATION = (0.0,1.0,0.0)
^MEX_ORIENTATION_DESC = "MEX_ORIENTATION_DESC.TXT"
SPACECRAFT_POINTING_MODE = ACROSSTRACK
^MEX_POINTING_DESC = "MEX_POINTING_DESC.TXT"
RIGHT_ASCENSION = -1e+32
DECLINATION = -1e+32
OFFSET_ANGLE = -0.687
SPACECRAFT_SOLAR_DISTANCE = 2.21826e+08
TARGET_NAME = MARS
/* CAMERA DATA ELEMENTS */
DETECTOR_TEMPERATURE = 18.3705
FOCAL_PLANE_TEMPERATURE = 7.7677
INST_CMPRS_NAME = "DISCRETE COSINE TRANSFORMATION (DCT)"
INST_CMPRS_RATIO = 11.3953
INST_CMPRS_QUALITY = 0
INST_CMPRS_QUANTZ_TBL_ID = 0
INSTRUMENT_TEMPERATURE = 11.0301
LENS_TEMPERATURE = 8.3794
MACROPIXEL_SIZE = 2
MISSING_FRAMES = 0
PIXEL_SUBSAMPLING_FLAG = N
SIGNAL_CHAIN_ID = 1
/* RADIOMETRIC DATA ELEMENTS */
BANDWIDTH = 178.0
CENTER_FILTER_WAVELENGTH = 679.0
RADIANCE_OFFSET = 3.95752
RADIANCE_SCALING_FACTOR = 0.0176089
REFLECTANCE_SCALING_FACTOR = 0.000458863
MEX:REFLECTANCE_OFFSET = 0.103127
/* IMAGE OBJECT DEFINITIONS */
OBJECT = IMAGE
  INTERCHANGE_FORMAT = BINARY
  LINES = 16486
  LINE_SAMPLES = 3280
  SAMPLE_TYPE = UNSIGNED_INTEGER
  SAMPLE_BITS = 8
  BANDS = 1
  BAND_STORAGE_TYPE = BAND_SEQUENTIAL
  MAXIMUM = 255
  MEAN = 71.7377
  MINIMUM = 1
  STANDARD_DEVIATION = 41.9354
END_OBJECT = IMAGE
/* MAP OBJECT DEFINITIONS */
OBJECT = IMAGE_MAP_PROJECTION
  ^DATA_SET_MAP_PROJECTION_CATALOG= "DSMAP.CAT"
  A_AXIS_RADIUS = 3396.0
  B_AXIS_RADIUS = 3396.0
  C_AXIS_RADIUS = 3396.0
  CENTER_LATITUDE = 0.0
  CENTER_LONGITUDE = 275.0
  COORDINATE_SYSTEM_NAME = PLANETOGRAPHIC
  COORDINATE_SYSTEM_TYPE = "BODY-FIXED ROTATING"
  EASTERNMOST_LONGITUDE = 276.464
  FIRST_STANDARD_PARALLEL = "N/A"
  LINE_FIRST_PIXEL = 1
  LINE_LAST_PIXEL = 16486
  LINE_PROJECTION_OFFSET = -50880.75
  MAP_PROJECTION_ROTATION = 0.0
  MAP_PROJECTION_TYPE = SINUSOIDAL
  MAP_RESOLUTION = 1185.42760773333
  MAP_SCALE = 0.05
  MAXIMUM_LATITUDE = -42.9499
  MINIMUM_LATITUDE = -56.8967
  POSITIVE_LONGITUDE_DIRECTION = EAST
  REFERENCE_LATITUDE = "N/A"
  REFERENCE_LONGITUDE = "N/A"
  SAMPLE_FIRST_PIXEL = 1
  SAMPLE_LAST_PIXEL = 3280
  SAMPLE_PROJECTION_OFFSET = 1882.75
  SECOND_STANDARD_PARALLEL = "N/A"
  WESTERNMOST_LONGITUDE = 272.583
END_OBJECT = IMAGE_MAP_PROJECTION
END
