PDS_VERSION_ID = PDS3
/* FILE DATA ELEMENTS */
RECORD_TYPE = UNDEFINED
/* POINTERS TO DATA OBJECTS */
^IMAGE = ("H8721_0000_ND4.TIF")
/* IDENTIFICATION DATA ELEMENTS */
DATA_SET_ID = "MEX-M-HRSC-4-REFDR-MAPPROJECT-EXT3-V4.0"
DATA_SET_NAME = "MARS EXPRESS HRSC MAP PROJECTED REFDR EXTENSION3 V4.0"
DETECTOR_ID = MEX_HRSC_NADIR
EVENT_TYPE = "MARS-REGIONAL-MAPPING-Im-Fl-Mw"
INSTRUMENT_HOST_ID = MEX
INSTRUMENT_HOST_NAME = "MARS EXPRESS"
INSTRUMENT_ID = HRSC
INSTRUMENT_NAME = "HIGH RESOLUTION STEREO CAMERA"
MISSION_NAME = "MARS EXPRESS"
MISSION_PHASE_NAME = ME_Phase_22
PROCESSING_LEVEL_ID = 4
PRODUCT_CREATION_TIME = 2023-02-03T21:13:30.000Z
PRODUCT_ID = "H8721_0000_ND4.TIF"
RELEASE_ID = 0005
REVISION_ID = 0000
/* QUALITY DATA ELEMENTS */
DATA_QUALITY_ID = 1
DATA_QUALITY_DESC = "Data calculated based on original SPICE kernels"
/* TIME DATA ELEMENTS */
SPACECRAFT_CLOCK_START_COUNT = "1/0236287960.08248"
SPACECRAFT_CLOCK_STOP_COUNT = "1/0236288488.51581"
START_TIME = 2010-10-27T19:33:33.151Z
STOP_TIME = 2010-10-27T19:39:15.119Z
/* ORBITAL DATA ELEMENTS */
ASCENDING_NODE_LONGITUDE = 50.74
MAXIMUM_RESOLUTION = 0.0217
FOOTPRINT_POINT_LATITUDE = (-54.9915,-54.974,-54.94,-54.8786, -54.8771,-54.873,-54.413,-53.7915, -53.1613,-52.5225,-51.7099,-51.0498, -50.3796,-49.5238,-49.1787,-48.8295, -48.4784,-47.9459,-47.5883,-47.2268, -46.8624,-46.4954,-46.1253,-45.7521, -45.375,-44.9949,-44.612,-44.2256, -43.836,-43.4429,-43.0466,-42.6465, -42.2426,-41.8357,-41.4246,-40.8011, -40.3853,-39.9712,-39.5589,-39.1486, -38.74,-38.3335,-37.9286,-37.5256, -37.1245,-36.7254,-36.5265,-36.4888, -36.4981,-36.5071,-36.5114,-36.5138, -36.5122,-36.5054,-36.505,-36.5051, -36.9064,-37.3094,-37.7143,-38.1209, -38.5294,-38.9398,-39.3518,-39.7657, -40.1815,-40.5991,-41.0185,-41.4362, -41.8501,-42.2602,-42.6668,-43.0695, -43.4686,-43.8643,-44.2564,-44.6453, -45.0307,-45.4132,-45.7923,-46.1676, -46.5398,-46.9093,-47.276,-47.6392, -47.999,-48.3568,-48.7121,-49.0629, -49.5854,-50.1018,-50.4457,-51.1194, -51.7832,-52.4375,-52.9215,-53.5592, -54.1879,-54.8078,-54.9619,-54.9915)
FOOTPRINT_POINT_LONGITUDE = (114.954,114.253,113.199,111.758, 111.726,111.67,111.719,111.775,111.828, 111.882,111.944,111.998,112.041,112.087 ,112.106,112.124,112.14,112.16,112.174, 112.188,112.203,112.218,112.226,112.236 ,112.246,112.255,112.263,112.271, 112.277,112.282,112.287,112.291,112.292 ,112.298,112.299,112.298,112.299, 112.297,112.293,112.29,112.284,112.282, 112.273,112.266,112.258,112.251,112.247 ,112.246,112.751,113.411,113.915, 114.495,115.346,116.119,116.157,116.176 ,116.162,116.148,116.132,116.118, 116.102,116.083,116.069,116.052,116.034 ,116.016,115.997,115.978,115.959, 115.938,115.915,115.897,115.875,115.853 ,115.831,115.812,115.79,115.768,115.745 ,115.722,115.699,115.675,115.651, 115.626,115.601,115.573,115.549,115.523 ,115.484,115.444,115.416,115.36,115.302 ,115.243,115.195,115.133,115.069, 115.003,114.986,114.954)
ORBIT_NUMBER = 8721
ORBITAL_ECCENTRICITY = 0.578
ORBITAL_INCLINATION = 86.84
ORBITAL_SEMIMAJOR_AXIS = 8760.47
PERIAPSIS_ALTITUDE = 320.22
PERIAPSIS_ARGUMENT_ANGLE = 271.93
PERIAPSIS_TIME = 2010-10-27T19:24:55.000Z
SPACECRAFT_ORIENTATION = (0.0,1.0,0.0)
^MEX_ORIENTATION_DESC = "MEX_ORIENTATION_DESC.TXT"
SPACECRAFT_POINTING_MODE = ACROSSTRACK
^MEX_POINTING_DESC = "MEX_POINTING_DESC.TXT"
RIGHT_ASCENSION = -1e+32
DECLINATION = -1e+32
OFFSET_ANGLE = 0.21
SPACECRAFT_SOLAR_DISTANCE = 2.2233e+08
TARGET_NAME = MARS
/* CAMERA DATA ELEMENTS */
DETECTOR_TEMPERATURE = 18.1666
FOCAL_PLANE_TEMPERATURE = 7.7677
INST_CMPRS_NAME = "DISCRETE COSINE TRANSFORMATION (DCT)"
INST_CMPRS_RATIO = 8.45847
INST_CMPRS_QUALITY = 0
INST_CMPRS_QUANTZ_TBL_ID = 0
INSTRUMENT_TEMPERATURE = 11.0301
LENS_TEMPERATURE = 8.1755
MACROPIXEL_SIZE = 1
MISSING_FRAMES = 1
PIXEL_SUBSAMPLING_FLAG = N
SIGNAL_CHAIN_ID = 0
/* RADIOMETRIC DATA ELEMENTS */
BANDWIDTH = 177.0
CENTER_FILTER_WAVELENGTH = 677.5
RADIANCE_OFFSET = 4.36703
RADIANCE_SCALING_FACTOR = 0.0219559
REFLECTANCE_SCALING_FACTOR = 0.000576537
MEX:REFLECTANCE_OFFSET = 0.114673
/* IMAGE OBJECT DEFINITIONS */
OBJECT = IMAGE
  INTERCHANGE_FORMAT = BINARY
  LINES = 43867
  LINE_SAMPLES = 7492
  SAMPLE_TYPE = UNSIGNED_INTEGER
  SAMPLE_BITS = 8
  BANDS = 1
  BAND_STORAGE_TYPE = BAND_SEQUENTIAL
  MAXIMUM = 255
  MEAN = 112.95
  MINIMUM = 1
  STANDARD_DEVIATION = 46.2478
END_OBJECT = IMAGE
/* MAP OBJECT DEFINITIONS */
OBJECT = IMAGE_MAP_PROJECTION
  ^DATA_SET_MAP_PROJECTION_CATALOG= "DSMAP.CAT"
  A_AXIS_RADIUS = 3396.0
  B_AXIS_RADIUS = 3396.0
  C_AXIS_RADIUS = 3396.0
  CENTER_LATITUDE = 0.0
  CENTER_LONGITUDE = 114.0
  COORDINATE_SYSTEM_NAME = PLANETOGRAPHIC
  COORDINATE_SYSTEM_TYPE = "BODY-FIXED ROTATING"
  EASTERNMOST_LONGITUDE = 116.176
  FIRST_STANDARD_PARALLEL = "N/A"
  LINE_FIRST_PIXEL = 1
  LINE_LAST_PIXEL = 43867
  LINE_PROJECTION_OFFSET = -86511.0
  MAP_PROJECTION_ROTATION = 0.0
  MAP_PROJECTION_TYPE = SINUSOIDAL
  MAP_RESOLUTION = 2370.85521546667
  MAP_SCALE = 0.025
  MAXIMUM_LATITUDE = -36.4888
  MINIMUM_LATITUDE = -54.9915
  POSITIVE_LONGITUDE_DIRECTION = EAST
  REFERENCE_LATITUDE = "N/A"
  REFERENCE_LONGITUDE = "N/A"
  SAMPLE_FIRST_PIXEL = 1
  SAMPLE_LAST_PIXEL = 7492
  SAMPLE_PROJECTION_OFFSET = 3343.0
  SECOND_STANDARD_PARALLEL = "N/A"
  WESTERNMOST_LONGITUDE = 111.67
END_OBJECT = IMAGE_MAP_PROJECTION
END
