PDS_VERSION_ID = PDS3
/* FILE DATA ELEMENTS */
RECORD_TYPE = UNDEFINED
/* POINTERS TO DATA OBJECTS */
^IMAGE = ("H8706_0000_ND4.TIF")
/* IDENTIFICATION DATA ELEMENTS */
DATA_SET_ID = "MEX-M-HRSC-4-REFDR-MAPPROJECT-EXT3-V4.0"
DATA_SET_NAME = "MARS EXPRESS HRSC MAP PROJECTED REFDR EXTENSION3 V4.0"
DETECTOR_ID = MEX_HRSC_NADIR
EVENT_TYPE = "MARS-REGIONAL-MAPPING-Te-Im-Fl"
INSTRUMENT_HOST_ID = MEX
INSTRUMENT_HOST_NAME = "MARS EXPRESS"
INSTRUMENT_ID = HRSC
INSTRUMENT_NAME = "HIGH RESOLUTION STEREO CAMERA"
MISSION_NAME = "MARS EXPRESS"
MISSION_PHASE_NAME = ME_Phase_21
PROCESSING_LEVEL_ID = 4
PRODUCT_CREATION_TIME = 2023-02-03T21:13:30.000Z
PRODUCT_ID = "H8706_0000_ND4.TIF"
RELEASE_ID = 0005
REVISION_ID = 0000
/* QUALITY DATA ELEMENTS */
DATA_QUALITY_ID = 1
DATA_QUALITY_DESC = "Data calculated based on original SPICE kernels"
/* TIME DATA ELEMENTS */
SPACECRAFT_CLOCK_START_COUNT = "1/0235910229.07296"
SPACECRAFT_CLOCK_STOP_COUNT = "1/0235910711.53955"
START_TIME = 2010-10-23T10:37:58.500Z
STOP_TIME = 2010-10-23T10:43:16.536Z
/* ORBITAL DATA ELEMENTS */
ASCENDING_NODE_LONGITUDE = 51.02
MAXIMUM_RESOLUTION = 0.0204
FOOTPRINT_POINT_LATITUDE = (-54.7803,-54.7566,-54.7239,-54.6839, -54.6826,-54.6792,-54.091,-53.4956, -52.8923,-52.1259,-51.5031,-50.8716, -50.3927,-50.0704,-49.7455,-49.419, -49.0888,-48.5897,-48.2547,-47.9157, -47.5749,-47.2313,-46.8842,-46.5353, -46.1835,-45.8283,-45.4712,-45.1113, -44.7472,-44.3806,-44.0113,-43.6395, -43.2636,-42.8845,-42.5024,-42.1169, -41.7283,-41.3362,-40.9406,-40.5416, -40.1388,-39.733,-39.3289,-38.9266, -38.5259,-38.1268,-37.7294,-37.3337, -37.1366,-37.1209,-37.136,-37.1431, -37.1431,-37.1374,-37.137,-37.1373, -37.5346,-37.9336,-38.3342,-38.7365, -39.1405,-39.5462,-39.9535,-40.5629, -40.9644,-41.3623,-41.7567,-42.1476, -42.5352,-42.9194,-43.3006,-43.6782, -44.0525,-44.4235,-44.792,-45.158, -45.5196,-45.8785,-46.2356,-46.5891, -46.9396,-47.2884,-47.6336,-47.9757, -48.3164,-48.6528,-49.1542,-49.486, -49.8138,-50.1404,-50.464,-50.945, -51.5793,-52.2046,-52.6685,-53.279, -53.8815,-54.6228,-54.7685,-54.7803)
FOOTPRINT_POINT_LONGITUDE = (209.611,208.625,207.611,206.627, 206.597,206.548,206.602,206.654,206.702 ,206.758,206.801,206.841,206.869, 206.888,206.905,206.923,206.939,206.962 ,206.976,206.991,206.999,207.011, 207.023,207.033,207.045,207.055,207.063 ,207.071,207.079,207.085,207.087, 207.097,207.102,207.105,207.107,207.107 ,207.108,207.109,207.109,207.108, 207.107,207.104,207.101,207.098,207.094 ,207.087,207.079,207.072,207.068, 207.068,208.032,208.96,209.854,210.642, 210.678,210.695,210.681,210.668,210.654 ,210.638,210.623,210.607,210.591, 210.567,210.55,210.536,210.519,210.501, 210.482,210.464,210.446,210.431,210.41, 210.391,210.372,210.353,210.333,210.313 ,210.293,210.272,210.251,210.231, 210.208,210.187,210.166,210.145,210.111 ,210.089,210.066,210.042,210.019, 209.985,209.933,209.883,209.843,209.788 ,209.738,209.662,209.647,209.611)
ORBIT_NUMBER = 8706
ORBITAL_ECCENTRICITY = 0.578
ORBITAL_INCLINATION = 86.84
ORBITAL_SEMIMAJOR_AXIS = 8760.56
PERIAPSIS_ALTITUDE = 320.09
PERIAPSIS_ARGUMENT_ANGLE = 274.48
PERIAPSIS_TIME = 2010-10-23T10:30:00.000Z
SPACECRAFT_ORIENTATION = (0.0,1.0,0.0)
^MEX_ORIENTATION_DESC = "MEX_ORIENTATION_DESC.TXT"
SPACECRAFT_POINTING_MODE = NADIR
^MEX_POINTING_DESC = "MEX_POINTING_DESC.TXT"
RIGHT_ASCENSION = -1e+32
DECLINATION = -1e+32
OFFSET_ANGLE = -1e+32
SPACECRAFT_SOLAR_DISTANCE = 2.23174e+08
TARGET_NAME = MARS
/* CAMERA DATA ELEMENTS */
DETECTOR_TEMPERATURE = 18.1666
FOCAL_PLANE_TEMPERATURE = 7.5638
INST_CMPRS_NAME = "DISCRETE COSINE TRANSFORMATION (DCT)"
INST_CMPRS_RATIO = 6.4941
INST_CMPRS_QUALITY = 0
INST_CMPRS_QUANTZ_TBL_ID = 0
INSTRUMENT_TEMPERATURE = 10.8262
LENS_TEMPERATURE = 8.1755
MACROPIXEL_SIZE = 1
MISSING_FRAMES = 0
PIXEL_SUBSAMPLING_FLAG = N
SIGNAL_CHAIN_ID = 0
/* RADIOMETRIC DATA ELEMENTS */
BANDWIDTH = 177.0
CENTER_FILTER_WAVELENGTH = 677.5
RADIANCE_OFFSET = 3.30948
RADIANCE_SCALING_FACTOR = 0.0225413
REFLECTANCE_SCALING_FACTOR = 0.000596411
MEX:REFLECTANCE_OFFSET = 0.087564
/* IMAGE OBJECT DEFINITIONS */
OBJECT = IMAGE
  INTERCHANGE_FORMAT = BINARY
  LINES = 41867
  LINE_SAMPLES = 6856
  SAMPLE_TYPE = UNSIGNED_INTEGER
  SAMPLE_BITS = 8
  BANDS = 1
  BAND_STORAGE_TYPE = BAND_SEQUENTIAL
  MAXIMUM = 255
  MEAN = 102.171
  MINIMUM = 1
  STANDARD_DEVIATION = 48.4815
END_OBJECT = IMAGE
/* MAP OBJECT DEFINITIONS */
OBJECT = IMAGE_MAP_PROJECTION
  ^DATA_SET_MAP_PROJECTION_CATALOG= "DSMAP.CAT"
  A_AXIS_RADIUS = 3396.0
  B_AXIS_RADIUS = 3396.0
  C_AXIS_RADIUS = 3396.0
  CENTER_LATITUDE = 0.0
  CENTER_LONGITUDE = 209.0
  COORDINATE_SYSTEM_NAME = PLANETOGRAPHIC
  COORDINATE_SYSTEM_TYPE = "BODY-FIXED ROTATING"
  EASTERNMOST_LONGITUDE = 210.695
  FIRST_STANDARD_PARALLEL = "N/A"
  LINE_FIRST_PIXEL = 1
  LINE_LAST_PIXEL = 41867
  LINE_PROJECTION_OFFSET = -88010.0
  MAP_PROJECTION_ROTATION = 0.0
  MAP_PROJECTION_TYPE = SINUSOIDAL
  MAP_RESOLUTION = 2370.85521546667
  MAP_SCALE = 0.025
  MAXIMUM_LATITUDE = -37.1209
  MINIMUM_LATITUDE = -54.7803
  POSITIVE_LONGITUDE_DIRECTION = EAST
  REFERENCE_LATITUDE = "N/A"
  REFERENCE_LONGITUDE = "N/A"
  SAMPLE_FIRST_PIXEL = 1
  SAMPLE_LAST_PIXEL = 6856
  SAMPLE_PROJECTION_OFFSET = 3653.0
  SECOND_STANDARD_PARALLEL = "N/A"
  WESTERNMOST_LONGITUDE = 206.548
END_OBJECT = IMAGE_MAP_PROJECTION
END
