PDS_VERSION_ID = PDS3
/* FILE DATA ELEMENTS */
RECORD_TYPE = UNDEFINED
/* POINTERS TO DATA OBJECTS */
^IMAGE = ("H8703_0000_BL4.TIF")
/* IDENTIFICATION DATA ELEMENTS */
DATA_SET_ID = "MEX-M-HRSC-4-REFDR-MAPPROJECT-EXT3-V4.0"
DATA_SET_NAME = "MARS EXPRESS HRSC MAP PROJECTED REFDR EXTENSION3 V4.0"
DETECTOR_ID = MEX_HRSC_BLUE
EVENT_TYPE = "MARS-REGIONAL-MAPPING-Te-Im-Fl"
INSTRUMENT_HOST_ID = MEX
INSTRUMENT_HOST_NAME = "MARS EXPRESS"
INSTRUMENT_ID = HRSC
INSTRUMENT_NAME = "HIGH RESOLUTION STEREO CAMERA"
MISSION_NAME = "MARS EXPRESS"
MISSION_PHASE_NAME = ME_Phase_21
PROCESSING_LEVEL_ID = 4
PRODUCT_CREATION_TIME = 2023-02-03T21:13:30.000Z
PRODUCT_ID = "H8703_0000_BL4.TIF"
RELEASE_ID = 0005
REVISION_ID = 0000
/* QUALITY DATA ELEMENTS */
DATA_QUALITY_ID = 1
DATA_QUALITY_DESC = "Data calculated based on original SPICE kernels"
/* TIME DATA ELEMENTS */
SPACECRAFT_CLOCK_START_COUNT = "1/0235834830.09144"
SPACECRAFT_CLOCK_STOP_COUNT = "1/0235835312.42044"
START_TIME = 2010-10-22T13:41:23.604Z
STOP_TIME = 2010-10-22T13:45:45.865Z
/* ORBITAL DATA ELEMENTS */
ASCENDING_NODE_LONGITUDE = 51.08
MAXIMUM_RESOLUTION = 0.1023
FOOTPRINT_POINT_LATITUDE = (-45.4109,-45.4103,-45.4075,-45.4027, -45.3958,-45.387,-45.3718,-45.371, -45.358,-44.9466,-44.6703,-44.3917, -44.1123,-43.8301,-43.4042,-42.974, -42.685,-42.3936,-41.9564,-41.6653, -41.3753,-41.0861,-40.7977,-40.51, -40.223,-39.9369,-39.6516,-39.367, -39.0832,-38.7999,-38.5181,-38.2363, -37.9557,-37.6756,-37.3963,-37.1177, -36.84,-36.4236,-36.1477,-35.5995, -34.781,-34.2391,-33.7001,-33.1643, -32.6317,-32.1024,-31.5764,-31.4454, -31.4079,-31.4088,-31.4081,-31.4065, -31.4009,-31.3966,-31.3909,-31.3812, -31.3686,-31.3677,-31.3688,-31.8985, -32.431,-32.9666,-33.5054,-34.0475, -34.5921,-35.1387,-35.4132,-35.6887, -35.9652,-36.3795,-36.6589,-37.0785, -37.359,-37.64,-37.9217,-38.3442, -38.6278,-38.9134,-39.1983,-39.4841, -39.9141,-40.2016,-40.4898,-40.7788, -41.0686,-41.359,-41.6501,-41.942, -42.3813,-42.6745,-42.9645,-43.397, -43.6833,-43.9672,-44.3899,-44.67, -44.9473,-45.2242,-45.3613,-45.4109)
FOOTPRINT_POINT_LONGITUDE = (157.742,157.153,156.684,156.217, 155.751,155.288,154.651,154.622,154.6, 154.605,154.608,154.611,154.613,154.615 ,154.617,154.618,154.618,154.618, 154.617,154.615,154.614,154.612,154.61, 154.607,154.604,154.601,154.597,154.593 ,154.589,154.584,154.58,154.575,154.57, 154.564,154.558,154.551,154.545,154.533 ,154.525,154.511,154.486,154.468, 154.448,154.428,154.407,154.386,154.363 ,154.358,154.356,154.881,155.269, 155.728,156.364,156.719,157.074,157.572 ,158.107,158.143,158.155,158.146, 158.137,158.127,158.117,158.105,158.094 ,158.085,158.08,158.075,158.068,158.063 ,158.054,158.042,158.034,158.027,158.02 ,158.012,158.004,157.993,157.985, 157.977,157.965,157.957,157.948,157.939 ,157.93,157.922,157.913,157.903,157.889 ,157.879,157.869,157.854,157.843, 157.833,157.817,157.806,157.795,157.783 ,157.777,157.742)
ORBIT_NUMBER = 8703
ORBITAL_ECCENTRICITY = 0.578
ORBITAL_INCLINATION = 86.83
ORBITAL_SEMIMAJOR_AXIS = 8762.01
PERIAPSIS_ALTITUDE = 321.49
PERIAPSIS_ARGUMENT_ANGLE = 274.99
PERIAPSIS_TIME = 2010-10-22T13:31:02.000Z
SPACECRAFT_ORIENTATION = (0.0,1.0,0.0)
^MEX_ORIENTATION_DESC = "MEX_ORIENTATION_DESC.TXT"
SPACECRAFT_POINTING_MODE = ACROSSTRACK
^MEX_POINTING_DESC = "MEX_POINTING_DESC.TXT"
RIGHT_ASCENSION = -1e+32
DECLINATION = -1e+32
OFFSET_ANGLE = -0.42
SPACECRAFT_SOLAR_DISTANCE = 2.23343e+08
TARGET_NAME = MARS
/* CAMERA DATA ELEMENTS */
DETECTOR_TEMPERATURE = 17.9627
FOCAL_PLANE_TEMPERATURE = 7.5638
INST_CMPRS_NAME = "DISCRETE COSINE TRANSFORMATION (DCT)"
INST_CMPRS_RATIO = 16.5377
INST_CMPRS_QUALITY = 0
INST_CMPRS_QUANTZ_TBL_ID = 0
INSTRUMENT_TEMPERATURE = 10.8262
LENS_TEMPERATURE = 7.9716
MACROPIXEL_SIZE = 4
MISSING_FRAMES = 0
PIXEL_SUBSAMPLING_FLAG = N
SIGNAL_CHAIN_ID = 2
/* RADIOMETRIC DATA ELEMENTS */
BANDWIDTH = 76.0
CENTER_FILTER_WAVELENGTH = 444.0
RADIANCE_OFFSET = 0.869208
RADIANCE_SCALING_FACTOR = 0.00255649
REFLECTANCE_SCALING_FACTOR = 0.000131021
MEX:REFLECTANCE_OFFSET = 0.0445472
/* IMAGE OBJECT DEFINITIONS */
OBJECT = IMAGE
  INTERCHANGE_FORMAT = BINARY
  LINES = 8321
  LINE_SAMPLES = 1984
  SAMPLE_TYPE = UNSIGNED_INTEGER
  SAMPLE_BITS = 8
  BANDS = 1
  BAND_STORAGE_TYPE = BAND_SEQUENTIAL
  MAXIMUM = 255
  MEAN = 103.811
  MINIMUM = 1
  STANDARD_DEVIATION = 35.1082
END_OBJECT = IMAGE
/* MAP OBJECT DEFINITIONS */
OBJECT = IMAGE_MAP_PROJECTION
  ^DATA_SET_MAP_PROJECTION_CATALOG= "DSMAP.CAT"
  A_AXIS_RADIUS = 3396.0
  B_AXIS_RADIUS = 3396.0
  C_AXIS_RADIUS = 3396.0
  CENTER_LATITUDE = 0.0
  CENTER_LONGITUDE = 156.0
  COORDINATE_SYSTEM_NAME = PLANETOGRAPHIC
  COORDINATE_SYSTEM_TYPE = "BODY-FIXED ROTATING"
  EASTERNMOST_LONGITUDE = 158.155
  FIRST_STANDARD_PARALLEL = "N/A"
  LINE_FIRST_PIXEL = 1
  LINE_LAST_PIXEL = 8321
  LINE_PROJECTION_OFFSET = -18591.125
  MAP_PROJECTION_ROTATION = 0.0
  MAP_PROJECTION_TYPE = SINUSOIDAL
  MAP_RESOLUTION = 592.713803866667
  MAP_SCALE = 0.1
  MAXIMUM_LATITUDE = -31.3677
  MINIMUM_LATITUDE = -45.4109
  POSITIVE_LONGITUDE_DIRECTION = EAST
  REFERENCE_LATITUDE = "N/A"
  REFERENCE_LONGITUDE = "N/A"
  SAMPLE_FIRST_PIXEL = 1
  SAMPLE_LAST_PIXEL = 1984
  SAMPLE_PROJECTION_OFFSET = 868.875
  SECOND_STANDARD_PARALLEL = "N/A"
  WESTERNMOST_LONGITUDE = 154.356
END_OBJECT = IMAGE_MAP_PROJECTION
END
