PDS_VERSION_ID = PDS3
/* FILE DATA ELEMENTS */
RECORD_TYPE = UNDEFINED
/* POINTERS TO DATA OBJECTS */
^IMAGE = ("H8699_0000_RE4.TIF")
/* IDENTIFICATION DATA ELEMENTS */
DATA_SET_ID = "MEX-M-HRSC-4-REFDR-MAPPROJECT-EXT3-V4.0"
DATA_SET_NAME = "MARS EXPRESS HRSC MAP PROJECTED REFDR EXTENSION3 V4.0"
DETECTOR_ID = MEX_HRSC_RED
EVENT_TYPE = "MARS-REGIONAL-MAPPING-Te-Im-Fl"
INSTRUMENT_HOST_ID = MEX
INSTRUMENT_HOST_NAME = "MARS EXPRESS"
INSTRUMENT_ID = HRSC
INSTRUMENT_NAME = "HIGH RESOLUTION STEREO CAMERA"
MISSION_NAME = "MARS EXPRESS"
MISSION_PHASE_NAME = ME_Phase_21
PROCESSING_LEVEL_ID = 4
PRODUCT_CREATION_TIME = 2023-02-03T21:13:30.000Z
PRODUCT_ID = "H8699_0000_RE4.TIF"
RELEASE_ID = 0005
REVISION_ID = 0000
/* QUALITY DATA ELEMENTS */
DATA_QUALITY_ID = 1
DATA_QUALITY_DESC = "Data calculated based on original SPICE kernels"
/* TIME DATA ELEMENTS */
SPACECRAFT_CLOCK_START_COUNT = "1/0235734033.07288"
SPACECRAFT_CLOCK_STOP_COUNT = "1/0235734586.49317"
START_TIME = 2010-10-21T09:40:44.201Z
STOP_TIME = 2010-10-21T09:45:56.805Z
/* ORBITAL DATA ELEMENTS */
ASCENDING_NODE_LONGITUDE = 51.16
MAXIMUM_RESOLUTION = 0.0889
FOOTPRINT_POINT_LATITUDE = (-49.5833,-49.5915,-49.5883,-49.5773, -49.5769,-49.5292,-49.0676,-48.6032, -47.9851,-47.3562,-46.7087,-46.0554, -45.2284,-44.8952,-44.5553,-44.0418, -43.6967,-43.3482,-42.822,-42.4695, -42.1011,-41.7365,-41.3725,-41.0051, -40.6351,-40.2628,-39.889,-39.5105, -39.1324,-38.745,-38.1412,-37.7468, -37.3484,-36.9476,-36.5337,-35.9232, -35.5052,-35.084,-34.6618,-34.2341, -33.8013,-33.3652,-32.925,-32.4814, -32.0356,-31.5844,-31.1284,-30.8991, -30.8706,-30.8658,-30.8601,-30.8501, -30.8402,-30.822,-30.7897,-30.7888, -30.7904,-31.2509,-31.7094,-32.163, -32.6129,-33.0569,-33.4969,-33.9328, -34.364,-34.7912,-35.2157,-35.6358, -36.0501,-36.4624,-36.8706,-37.2751, -37.6781,-38.0765,-38.6994,-39.0834, -39.4656,-39.8468,-40.2254,-40.5994, -40.9707,-41.3386,-41.7033,-42.2467, -42.7846,-43.1407,-43.492,-44.0035, -44.3572,-44.6959,-45.2006,-45.7021, -46.0358,-46.684,-47.6474,-48.2845, -48.9043,-49.3629,-49.5164,-49.5833)
FOOTPRINT_POINT_LONGITUDE = (207.06,205.932,205.085,204.247,204.221 ,204.212,204.226,204.239,204.255, 204.269,204.28,204.29,204.3,204.303, 204.305,204.308,204.309,204.31,204.31, 204.309,204.307,204.305,204.302,204.299 ,204.296,204.292,204.288,204.283, 204.278,204.272,204.262,204.254,204.246 ,204.237,204.226,204.211,204.199, 204.187,204.174,204.161,204.146,204.131 ,204.116,204.099,204.082,204.065, 204.046,204.036,204.035,204.645,205.097 ,205.647,206.265,206.756,207.483, 207.516,207.527,207.523,207.519,207.515 ,207.51,207.506,207.502,207.497,207.492 ,207.487,207.481,207.475,207.47,207.464 ,207.458,207.451,207.444,207.436, 207.421,207.416,207.41,207.402,207.395, 207.387,207.379,207.371,207.363,207.349 ,207.334,207.323,207.313,207.306, 207.289,207.281,207.267,207.251,207.238 ,207.221,207.185,207.156,207.133, 207.115,207.109,207.06)
ORBIT_NUMBER = 8699
ORBITAL_ECCENTRICITY = 0.578
ORBITAL_INCLINATION = 86.84
ORBITAL_SEMIMAJOR_AXIS = 8760.99
PERIAPSIS_ALTITUDE = 320.21
PERIAPSIS_ARGUMENT_ANGLE = 275.67
PERIAPSIS_TIME = 2010-10-21T09:32:21.000Z
SPACECRAFT_ORIENTATION = (0.0,1.0,0.0)
^MEX_ORIENTATION_DESC = "MEX_ORIENTATION_DESC.TXT"
SPACECRAFT_POINTING_MODE = ACROSSTRACK
^MEX_POINTING_DESC = "MEX_POINTING_DESC.TXT"
RIGHT_ASCENSION = -1e+32
DECLINATION = -1e+32
OFFSET_ANGLE = -0.687
SPACECRAFT_SOLAR_DISTANCE = 2.23569e+08
TARGET_NAME = MARS
/* CAMERA DATA ELEMENTS */
DETECTOR_TEMPERATURE = 19.39
FOCAL_PLANE_TEMPERATURE = 7.3599
INST_CMPRS_NAME = "DISCRETE COSINE TRANSFORMATION (DCT)"
INST_CMPRS_RATIO = 16.5651
INST_CMPRS_QUALITY = 0
INST_CMPRS_QUANTZ_TBL_ID = 0
INSTRUMENT_TEMPERATURE = 10.0106
LENS_TEMPERATURE = 7.9716
MACROPIXEL_SIZE = 4
MISSING_FRAMES = 2
PIXEL_SUBSAMPLING_FLAG = N
SIGNAL_CHAIN_ID = 2
/* RADIOMETRIC DATA ELEMENTS */
BANDWIDTH = 48.0
CENTER_FILTER_WAVELENGTH = 748.0
RADIANCE_OFFSET = 1.02097
RADIANCE_SCALING_FACTOR = 0.00350334
REFLECTANCE_SCALING_FACTOR = 0.000399605
MEX:REFLECTANCE_OFFSET = 0.116456
/* IMAGE OBJECT DEFINITIONS */
OBJECT = IMAGE
  INTERCHANGE_FORMAT = BINARY
  LINES = 11109
  LINE_SAMPLES = 1977
  SAMPLE_TYPE = UNSIGNED_INTEGER
  SAMPLE_BITS = 8
  BANDS = 1
  BAND_STORAGE_TYPE = BAND_SEQUENTIAL
  MAXIMUM = 255
  MEAN = 114.044
  MINIMUM = 1
  STANDARD_DEVIATION = 26.4063
END_OBJECT = IMAGE
/* MAP OBJECT DEFINITIONS */
OBJECT = IMAGE_MAP_PROJECTION
  ^DATA_SET_MAP_PROJECTION_CATALOG= "DSMAP.CAT"
  A_AXIS_RADIUS = 3396.0
  B_AXIS_RADIUS = 3396.0
  C_AXIS_RADIUS = 3396.0
  CENTER_LATITUDE = 0.0
  CENTER_LONGITUDE = 206.0
  COORDINATE_SYSTEM_NAME = PLANETOGRAPHIC
  COORDINATE_SYSTEM_TYPE = "BODY-FIXED ROTATING"
  EASTERNMOST_LONGITUDE = 207.527
  FIRST_STANDARD_PARALLEL = "N/A"
  LINE_FIRST_PIXEL = 1
  LINE_LAST_PIXEL = 11109
  LINE_PROJECTION_OFFSET = -18252.625
  MAP_PROJECTION_ROTATION = 0.0
  MAP_PROJECTION_TYPE = SINUSOIDAL
  MAP_RESOLUTION = 592.713803866667
  MAP_SCALE = 0.1
  MAXIMUM_LATITUDE = -30.7888
  MINIMUM_LATITUDE = -49.5915
  POSITIVE_LONGITUDE_DIRECTION = EAST
  REFERENCE_LATITUDE = "N/A"
  REFERENCE_LONGITUDE = "N/A"
  SAMPLE_FIRST_PIXEL = 1
  SAMPLE_LAST_PIXEL = 1977
  SAMPLE_PROJECTION_OFFSET = 1115.625
  SECOND_STANDARD_PARALLEL = "N/A"
  WESTERNMOST_LONGITUDE = 204.035
END_OBJECT = IMAGE_MAP_PROJECTION
END
