PDS_VERSION_ID = PDS3
/* FILE DATA ELEMENTS */
RECORD_TYPE = UNDEFINED
/* POINTERS TO DATA OBJECTS */
^IMAGE = ("H8676_0000_S24.TIF")
/* IDENTIFICATION DATA ELEMENTS */
DATA_SET_ID = "MEX-M-HRSC-4-REFDR-MAPPROJECT-EXT3-V4.0"
DATA_SET_NAME = "MARS EXPRESS HRSC MAP PROJECTED REFDR EXTENSION3 V4.0"
DETECTOR_ID = MEX_HRSC_S2
EVENT_TYPE = "MARS-REGIONAL-MAPPING-Im-Fl"
INSTRUMENT_HOST_ID = MEX
INSTRUMENT_HOST_NAME = "MARS EXPRESS"
INSTRUMENT_ID = HRSC
INSTRUMENT_NAME = "HIGH RESOLUTION STEREO CAMERA"
MISSION_NAME = "MARS EXPRESS"
MISSION_PHASE_NAME = ME_Phase_21
PROCESSING_LEVEL_ID = 4
PRODUCT_CREATION_TIME = 2023-02-03T21:13:30.000Z
PRODUCT_ID = "H8676_0000_S24.TIF"
RELEASE_ID = 0005
REVISION_ID = 0000
/* QUALITY DATA ELEMENTS */
DATA_QUALITY_ID = 1
DATA_QUALITY_DESC = "Data calculated based on original SPICE kernels"
/* TIME DATA ELEMENTS */
SPACECRAFT_CLOCK_START_COUNT = "1/0235154912.08256"
SPACECRAFT_CLOCK_STOP_COUNT = "1/0235155266.04046"
START_TIME = 2010-10-14T16:48:34.795Z
STOP_TIME = 2010-10-14T16:51:23.013Z
/* ORBITAL DATA ELEMENTS */
ASCENDING_NODE_LONGITUDE = 51.59
MAXIMUM_RESOLUTION = 0.0463
FOOTPRINT_POINT_LATITUDE = (-44.4399,-44.436,-44.4282,-44.4195, -44.4087,-44.3959,-44.378,-44.3769, -44.3229,-43.8626,-43.5762,-43.1067, -42.7264,-42.437,-42.0505,-41.6586, -41.1666,-40.869,-40.5683,-40.3663, -40.1645,-39.9606,-39.7559,-39.5513, -39.3441,-39.1361,-38.9296,-38.6138, -38.4034,-38.1915,-37.9789,-37.7657, -37.5505,-37.3342,-37.0069,-36.7859, -36.5668,-36.3448,-36.1235,-35.8999, -35.5647,-35.3377,-35.1104,-34.7654, -34.5357,-34.3029,-34.0698,-33.954, -33.9028,-33.9096,-33.9167,-33.9218, -33.9284,-33.9324,-33.9377,-33.9366, -33.933,-33.9292,-33.9287,-33.9293, -34.2805,-34.5146,-34.8609,-35.0915, -35.3195,-35.5479,-35.8861,-36.1117, -36.3355,-36.5498,-36.7712,-36.997, -37.2125,-37.4295,-37.757,-37.9778, -38.295,-38.5078,-38.7174,-38.9286, -39.1369,-39.346,-39.556,-39.7619, -39.9679,-40.1725,-40.3739,-40.5756, -40.7781,-40.9775,-41.4746,-41.8675, -42.2582,-42.6459,-43.1259,-43.5059, -43.88,-44.2525,-44.3446,-44.4399)
FOOTPRINT_POINT_LONGITUDE = (38.8604,38.4781,37.9686,37.5612, 37.1545,36.7476,36.2636,36.2382,36.212, 36.2254,36.2302,36.2418,36.2494,36.2549 ,36.2613,36.2673,36.2742,36.2779,36.281 ,36.2828,36.2844,36.2859,36.2872, 36.2884,36.2892,36.2899,36.2908,36.2912 ,36.2914,36.2914,36.2915,36.2911, 36.2908,36.29,36.2882,36.2864,36.2849, 36.2833,36.2816,36.2797,36.2768,36.2742 ,36.2715,36.2667,36.2636,36.2599, 36.2562,36.2545,36.2536,36.513,36.8312, 37.0912,37.4953,37.7839,38.2457,38.5635 ,38.9109,39.2006,39.2296,39.2401, 39.2319,39.2263,39.2181,39.2123,39.2067 ,39.2009,39.1921,39.186,39.1796,39.1766 ,39.1701,39.1617,39.157,39.1506,39.1402 ,39.1312,39.1228,39.1157,39.1096, 39.1027,39.0958,39.0885,39.0807,39.0733 ,39.0659,39.0588,39.0519,39.0448, 39.0373,39.0298,39.0111,38.9955,38.9794 ,38.963,38.9415,38.9248,38.908,38.8909, 38.8866,38.8604)
ORBIT_NUMBER = 8676
ORBITAL_ECCENTRICITY = 0.578
ORBITAL_INCLINATION = 86.83
ORBITAL_SEMIMAJOR_AXIS = 8763.58
PERIAPSIS_ALTITUDE = 320.7
PERIAPSIS_ARGUMENT_ANGLE = 279.55
PERIAPSIS_TIME = 2010-10-14T16:40:00.000Z
SPACECRAFT_ORIENTATION = (0.0,1.0,0.0)
^MEX_ORIENTATION_DESC = "MEX_ORIENTATION_DESC.TXT"
SPACECRAFT_POINTING_MODE = NADIR
^MEX_POINTING_DESC = "MEX_POINTING_DESC.TXT"
RIGHT_ASCENSION = -1e+32
DECLINATION = -1e+32
OFFSET_ANGLE = -1e+32
SPACECRAFT_SOLAR_DISTANCE = 2.24875e+08
TARGET_NAME = MARS
/* CAMERA DATA ELEMENTS */
DETECTOR_TEMPERATURE = 18.1666
FOCAL_PLANE_TEMPERATURE = 7.5638
INST_CMPRS_NAME = "DISCRETE COSINE TRANSFORMATION (DCT)"
INST_CMPRS_RATIO = 13.7517
INST_CMPRS_QUALITY = 0
INST_CMPRS_QUANTZ_TBL_ID = 0
INSTRUMENT_TEMPERATURE = 10.8262
LENS_TEMPERATURE = 7.9716
MACROPIXEL_SIZE = 2
MISSING_FRAMES = 0
PIXEL_SUBSAMPLING_FLAG = N
SIGNAL_CHAIN_ID = 1
/* RADIOMETRIC DATA ELEMENTS */
BANDWIDTH = 178.0
CENTER_FILTER_WAVELENGTH = 679.0
RADIANCE_OFFSET = 3.16833
RADIANCE_SCALING_FACTOR = 0.0180548
REFLECTANCE_SCALING_FACTOR = 0.000483502
MEX:REFLECTANCE_OFFSET = 0.0848467
/* IMAGE OBJECT DEFINITIONS */
OBJECT = IMAGE
  INTERCHANGE_FORMAT = BINARY
  LINES = 12412
  LINE_SAMPLES = 3254
  SAMPLE_TYPE = UNSIGNED_INTEGER
  SAMPLE_BITS = 8
  BANDS = 1
  BAND_STORAGE_TYPE = BAND_SEQUENTIAL
  MAXIMUM = 255
  MEAN = 76.9964
  MINIMUM = 1
  STANDARD_DEVIATION = 19.2253
END_OBJECT = IMAGE
/* MAP OBJECT DEFINITIONS */
OBJECT = IMAGE_MAP_PROJECTION
  ^DATA_SET_MAP_PROJECTION_CATALOG= "DSMAP.CAT"
  A_AXIS_RADIUS = 3396.0
  B_AXIS_RADIUS = 3396.0
  C_AXIS_RADIUS = 3396.0
  CENTER_LATITUDE = 0.0
  CENTER_LONGITUDE = 38.0
  COORDINATE_SYSTEM_NAME = PLANETOGRAPHIC
  COORDINATE_SYSTEM_TYPE = "BODY-FIXED ROTATING"
  EASTERNMOST_LONGITUDE = 39.2401
  FIRST_STANDARD_PARALLEL = "N/A"
  LINE_FIRST_PIXEL = 1
  LINE_LAST_PIXEL = 12412
  LINE_PROJECTION_OFFSET = -40193.75
  MAP_PROJECTION_ROTATION = 0.0
  MAP_PROJECTION_TYPE = SINUSOIDAL
  MAP_RESOLUTION = 1185.42760773333
  MAP_SCALE = 0.05
  MAXIMUM_LATITUDE = -33.9028
  MINIMUM_LATITUDE = -44.4399
  POSITIVE_LONGITUDE_DIRECTION = EAST
  REFERENCE_LATITUDE = "N/A"
  REFERENCE_LONGITUDE = "N/A"
  SAMPLE_FIRST_PIXEL = 1
  SAMPLE_LAST_PIXEL = 3254
  SAMPLE_PROJECTION_OFFSET = 1895.75
  SECOND_STANDARD_PARALLEL = "N/A"
  WESTERNMOST_LONGITUDE = 36.212
END_OBJECT = IMAGE_MAP_PROJECTION
END
