PDS_VERSION_ID = PDS3
/* FILE DATA ELEMENTS */
RECORD_TYPE = UNDEFINED
/* POINTERS TO DATA OBJECTS */
^IMAGE = ("H8651_0000_S24.TIF")
/* IDENTIFICATION DATA ELEMENTS */
DATA_SET_ID = "MEX-M-HRSC-4-REFDR-MAPPROJECT-EXT3-V4.0"
DATA_SET_NAME = "MARS EXPRESS HRSC MAP PROJECTED REFDR EXTENSION3 V4.0"
DETECTOR_ID = MEX_HRSC_S2
EVENT_TYPE = "MARS-REGIONAL-MAPPING-Vo-Fl-Gl"
INSTRUMENT_HOST_ID = MEX
INSTRUMENT_HOST_NAME = "MARS EXPRESS"
INSTRUMENT_ID = HRSC
INSTRUMENT_NAME = "HIGH RESOLUTION STEREO CAMERA"
MISSION_NAME = "MARS EXPRESS"
MISSION_PHASE_NAME = ME_Phase_21
PROCESSING_LEVEL_ID = 4
PRODUCT_CREATION_TIME = 2023-02-03T21:13:30.000Z
PRODUCT_ID = "H8651_0000_S24.TIF"
RELEASE_ID = 0005
REVISION_ID = 0000
/* QUALITY DATA ELEMENTS */
DATA_QUALITY_ID = 1
DATA_QUALITY_DESC = "Data calculated based on original SPICE kernels"
/* TIME DATA ELEMENTS */
SPACECRAFT_CLOCK_START_COUNT = "1/0234525161.07305"
SPACECRAFT_CLOCK_STOP_COUNT = "1/0234525437.62582"
START_TIME = 2010-10-07T09:52:43.747Z
STOP_TIME = 2010-10-07T09:55:39.334Z
/* ORBITAL DATA ELEMENTS */
ASCENDING_NODE_LONGITUDE = 52.06
MAXIMUM_RESOLUTION = 0.0314
FOOTPRINT_POINT_LATITUDE = (-57.9474,-57.9188,-57.8934,-57.8562, -57.855,-57.7628,-57.4277,-56.9824, -56.7593,-56.5357,-56.3131,-56.0901, -55.8672,-55.5323,-55.0892,-54.8658, -54.641,-54.3056,-53.9706,-53.6359, -53.3022,-52.745,-52.301,-52.0748, -51.8464,-51.6188,-51.3921,-51.1663, -50.8188,-50.5859,-50.3538,-50.1225, -49.7693,-49.5318,-49.2949,-49.0582, -48.8173,-48.5749,-48.3333,-47.971, -47.7235,-47.3529,-47.1058,-46.8538, -46.5968,-46.34,-46.214,-46.1626, -46.1813,-46.2077,-46.2183,-46.2298, -46.2344,-46.2347,-46.2355,-46.4877, -46.741,-47.1196,-47.4913,-47.7387, -48.1095,-48.3538,-48.5959,-48.8398, -49.0814,-49.3192,-49.6754,-50.0326, -50.2674,-50.4999,-50.7321,-50.9649, -51.1982,-51.4257,-51.767,-51.9948, -52.2229,-52.5607,-52.8951,-53.2299, -53.4529,-53.6768,-53.9004,-54.1235, -54.3475,-54.5711,-54.906,-55.2423, -55.6885,-55.9132,-56.1377,-56.3612, -56.5841,-56.8076,-57.0318,-57.2552, -57.4797,-57.7033,-57.8149,-57.9474)
FOOTPRINT_POINT_LONGITUDE = (74.9173,74.0307,73.3957,72.6025, 72.5798,72.5383,72.5849,72.6452,72.6742 ,72.7025,72.7304,72.7576,72.7843, 72.8229,72.8738,72.8976,72.9205,72.9543 ,72.9872,73.019,73.0501,73.099,73.1367, 73.1556,73.1735,73.1913,73.209,73.2265, 73.252,73.2684,73.2846,73.3006,73.3241, 73.3393,73.3542,73.3688,73.3829,73.397, 73.4109,73.4309,73.4439,73.4629,73.475, 73.4863,73.4964,73.506,73.5115,73.5136, 73.9815,74.5894,74.9864,75.5707,75.8982 ,75.9216,75.9299,75.9169,75.9032, 75.8826,75.8617,75.8478,75.8258,75.8104 ,75.796,75.7805,75.7655,75.75,75.7268, 75.7026,75.6859,75.6696,75.6532,75.6363 ,75.6188,75.6016,75.5754,75.5575, 75.5392,75.5111,75.4827,75.4535,75.4338 ,75.4134,75.3929,75.3724,75.351,75.3297 ,75.2973,75.2635,75.2185,75.1946, 75.1704,75.1465,75.1227,75.0981,75.0726 ,75.0473,75.0209,74.9947,74.9816, 74.9173)
ORBIT_NUMBER = 8651
ORBITAL_ECCENTRICITY = 0.578
ORBITAL_INCLINATION = 86.84
ORBITAL_SEMIMAJOR_AXIS = 8765.91
PERIAPSIS_ALTITUDE = 319.57
PERIAPSIS_ARGUMENT_ANGLE = 283.79
PERIAPSIS_TIME = 2010-10-07T09:48:39.000Z
SPACECRAFT_ORIENTATION = (0.0,1.0,0.0)
^MEX_ORIENTATION_DESC = "MEX_ORIENTATION_DESC.TXT"
SPACECRAFT_POINTING_MODE = NADIR
^MEX_POINTING_DESC = "MEX_POINTING_DESC.TXT"
RIGHT_ASCENSION = -1e+32
DECLINATION = -1e+32
OFFSET_ANGLE = -1e+32
SPACECRAFT_SOLAR_DISTANCE = 2.26298e+08
TARGET_NAME = MARS
/* CAMERA DATA ELEMENTS */
DETECTOR_TEMPERATURE = 18.5744
FOCAL_PLANE_TEMPERATURE = 8.7872
INST_CMPRS_NAME = "DISCRETE COSINE TRANSFORMATION (DCT)"
INST_CMPRS_RATIO = 8.96475
INST_CMPRS_QUALITY = 0
INST_CMPRS_QUANTZ_TBL_ID = 0
INSTRUMENT_TEMPERATURE = 11.234
LENS_TEMPERATURE = 7.9716
MACROPIXEL_SIZE = 2
MISSING_FRAMES = 0
PIXEL_SUBSAMPLING_FLAG = N
SIGNAL_CHAIN_ID = 1
/* RADIOMETRIC DATA ELEMENTS */
BANDWIDTH = 178.0
CENTER_FILTER_WAVELENGTH = 679.0
RADIANCE_OFFSET = 4.72574
RADIANCE_SCALING_FACTOR = 0.0145513
REFLECTANCE_SCALING_FACTOR = 0.000394632
MEX:REFLECTANCE_OFFSET = 0.128162
/* IMAGE OBJECT DEFINITIONS */
OBJECT = IMAGE
  INTERCHANGE_FORMAT = BINARY
  LINES = 27603
  LINE_SAMPLES = 5181
  SAMPLE_TYPE = UNSIGNED_INTEGER
  SAMPLE_BITS = 8
  BANDS = 1
  BAND_STORAGE_TYPE = BAND_SEQUENTIAL
  MAXIMUM = 255
  MEAN = 135.051
  MINIMUM = 1
  STANDARD_DEVIATION = 48.0512
END_OBJECT = IMAGE
/* MAP OBJECT DEFINITIONS */
OBJECT = IMAGE_MAP_PROJECTION
  ^DATA_SET_MAP_PROJECTION_CATALOG= "DSMAP.CAT"
  A_AXIS_RADIUS = 3396.0
  B_AXIS_RADIUS = 3396.0
  C_AXIS_RADIUS = 3396.0
  CENTER_LATITUDE = 0.0
  CENTER_LONGITUDE = 74.0
  COORDINATE_SYSTEM_NAME = PLANETOGRAPHIC
  COORDINATE_SYSTEM_TYPE = "BODY-FIXED ROTATING"
  EASTERNMOST_LONGITUDE = 75.9299
  FIRST_STANDARD_PARALLEL = "N/A"
  LINE_FIRST_PIXEL = 1
  LINE_LAST_PIXEL = 27603
  LINE_PROJECTION_OFFSET = -109541.75
  MAP_PROJECTION_ROTATION = 0.0
  MAP_PROJECTION_TYPE = SINUSOIDAL
  MAP_RESOLUTION = 2370.85521546667
  MAP_SCALE = 0.025
  MAXIMUM_LATITUDE = -46.1626
  MINIMUM_LATITUDE = -57.9474
  POSITIVE_LONGITUDE_DIRECTION = EAST
  REFERENCE_LATITUDE = "N/A"
  REFERENCE_LONGITUDE = "N/A"
  SAMPLE_FIRST_PIXEL = 1
  SAMPLE_LAST_PIXEL = 5181
  SAMPLE_PROJECTION_OFFSET = 1909.25
  SECOND_STANDARD_PARALLEL = "N/A"
  WESTERNMOST_LONGITUDE = 72.53830000000001
END_OBJECT = IMAGE_MAP_PROJECTION
END
