PDS_VERSION_ID = PDS3
/* FILE DATA ELEMENTS */
RECORD_TYPE = UNDEFINED
/* POINTERS TO DATA OBJECTS */
^IMAGE = ("H8651_0000_RE4.TIF")
/* IDENTIFICATION DATA ELEMENTS */
DATA_SET_ID = "MEX-M-HRSC-4-REFDR-MAPPROJECT-EXT3-V4.0"
DATA_SET_NAME = "MARS EXPRESS HRSC MAP PROJECTED REFDR EXTENSION3 V4.0"
DETECTOR_ID = MEX_HRSC_RED
EVENT_TYPE = "MARS-REGIONAL-MAPPING-Vo-Fl-Gl"
INSTRUMENT_HOST_ID = MEX
INSTRUMENT_HOST_NAME = "MARS EXPRESS"
INSTRUMENT_ID = HRSC
INSTRUMENT_NAME = "HIGH RESOLUTION STEREO CAMERA"
MISSION_NAME = "MARS EXPRESS"
MISSION_PHASE_NAME = ME_Phase_21
PROCESSING_LEVEL_ID = 4
PRODUCT_CREATION_TIME = 2023-02-03T21:13:30.000Z
PRODUCT_ID = "H8651_0000_RE4.TIF"
RELEASE_ID = 0005
REVISION_ID = 0000
/* QUALITY DATA ELEMENTS */
DATA_QUALITY_ID = 1
DATA_QUALITY_DESC = "Data calculated based on original SPICE kernels"
/* TIME DATA ELEMENTS */
SPACECRAFT_CLOCK_START_COUNT = "1/0234525161.07305"
SPACECRAFT_CLOCK_STOP_COUNT = "1/0234525437.62582"
START_TIME = 2010-10-07T09:52:49.355Z
STOP_TIME = 2010-10-07T09:55:46.773Z
/* ORBITAL DATA ELEMENTS */
ASCENDING_NODE_LONGITUDE = 52.06
MAXIMUM_RESOLUTION = 0.1243
FOOTPRINT_POINT_LATITUDE = (-57.9319,-57.9137,-57.8834,-57.8426, -57.8415,-57.7628,-57.5412,-57.209, -56.8777,-56.6566,-56.3247,-55.9937, -55.7718,-55.5507,-55.3301,-54.8902, -54.5573,-54.3359,-54.0044,-53.7833, -53.4524,-53.1221,-52.9012,-52.6806, -52.4549,-52.2296,-51.8914,-51.6663, -51.324,-50.9796,-50.7495,-50.5192, -50.1684,-49.9337,-49.6987,-49.4639, -49.2249,-48.9851,-48.6251,-48.3848, -48.1401,-47.8956,-47.529,-47.2802, -47.0302,-46.7794,-46.3945,-46.2665, -46.1657,-46.1851,-46.2113,-46.224, -46.234,-46.2342,-46.2368,-46.4919, -46.8704,-47.1199,-47.3707,-47.6195, -47.8648,-48.1105,-48.4798,-48.7206, -49.0812,-49.3221,-49.5611,-49.7967, -50.1505,-50.3865,-50.6197,-50.8498, -51.1962,-51.4273,-51.6572,-51.8824, -52.1079,-52.3345,-52.5605,-52.7867, -53.1179,-53.3388,-53.56,-53.7816, -54.1133,-54.3347,-54.556,-54.8881, -55.2211,-55.4429,-55.6633,-55.8862, -56.2191,-56.551,-56.7726,-56.995, -57.3282,-57.6612,-57.7719,-57.9319)
FOOTPRINT_POINT_LONGITUDE = (74.9195,74.3272,73.5172,72.621,72.5991 ,72.5524,72.5833,72.6284,72.6725, 72.7009,72.7423,72.7827,72.8083,72.8337 ,72.8588,72.9078,72.9417,72.9638, 72.9963,73.0173,73.0481,73.0781,73.0971 ,73.1161,73.1351,73.1539,73.181,73.1986 ,73.2249,73.251,73.2675,73.2834,73.3076 ,73.3234,73.3386,73.3534,73.3682, 73.3828,73.4035,73.4171,73.4307,73.4439 ,73.4629,73.4753,73.4872,73.4983, 73.5122,73.5175,73.5218,74.0402,74.7193 ,75.3989,75.8965,75.9192,75.9342, 75.9209,75.9003,75.887,75.8727,75.8585, 75.8442,75.8295,75.8068,75.7916,75.7688 ,75.7531,75.7375,75.7215,75.697,75.6805 ,75.664,75.6474,75.6215,75.6039,75.5863 ,75.5687,75.5508,75.5319,75.5132,75.494 ,75.4652,75.4457,75.4258,75.4053, 75.3746,75.3536,75.3325,75.3002,75.2666 ,75.2439,75.222,75.198,75.1625,75.1269, 75.1025,75.0772,75.0388,74.9998,74.9868 ,74.9195)
ORBIT_NUMBER = 8651
ORBITAL_ECCENTRICITY = 0.578
ORBITAL_INCLINATION = 86.84
ORBITAL_SEMIMAJOR_AXIS = 8765.91
PERIAPSIS_ALTITUDE = 319.57
PERIAPSIS_ARGUMENT_ANGLE = 283.79
PERIAPSIS_TIME = 2010-10-07T09:48:39.000Z
SPACECRAFT_ORIENTATION = (0.0,1.0,0.0)
^MEX_ORIENTATION_DESC = "MEX_ORIENTATION_DESC.TXT"
SPACECRAFT_POINTING_MODE = NADIR
^MEX_POINTING_DESC = "MEX_POINTING_DESC.TXT"
RIGHT_ASCENSION = -1e+32
DECLINATION = -1e+32
OFFSET_ANGLE = -1e+32
SPACECRAFT_SOLAR_DISTANCE = 2.26298e+08
TARGET_NAME = MARS
/* CAMERA DATA ELEMENTS */
DETECTOR_TEMPERATURE = 18.5744
FOCAL_PLANE_TEMPERATURE = 8.7872
INST_CMPRS_NAME = "DISCRETE COSINE TRANSFORMATION (DCT)"
INST_CMPRS_RATIO = 26.0134
INST_CMPRS_QUALITY = 0
INST_CMPRS_QUANTZ_TBL_ID = 0
INSTRUMENT_TEMPERATURE = 11.234
LENS_TEMPERATURE = 7.9716
MACROPIXEL_SIZE = 8
MISSING_FRAMES = 0
PIXEL_SUBSAMPLING_FLAG = N
SIGNAL_CHAIN_ID = 2
/* RADIOMETRIC DATA ELEMENTS */
BANDWIDTH = 48.0
CENTER_FILTER_WAVELENGTH = 748.0
RADIANCE_OFFSET = 1.23098
RADIANCE_SCALING_FACTOR = 0.00357302
REFLECTANCE_SCALING_FACTOR = 0.000417563
MEX:REFLECTANCE_OFFSET = 0.143859
/* IMAGE OBJECT DEFINITIONS */
OBJECT = IMAGE
  INTERCHANGE_FORMAT = BINARY
  LINES = 6901
  LINE_SAMPLES = 1296
  SAMPLE_TYPE = UNSIGNED_INTEGER
  SAMPLE_BITS = 8
  BANDS = 1
  BAND_STORAGE_TYPE = BAND_SEQUENTIAL
  MAXIMUM = 255
  MEAN = 136.577
  MINIMUM = 1
  STANDARD_DEVIATION = 51.1381
END_OBJECT = IMAGE
/* MAP OBJECT DEFINITIONS */
OBJECT = IMAGE_MAP_PROJECTION
  ^DATA_SET_MAP_PROJECTION_CATALOG= "DSMAP.CAT"
  A_AXIS_RADIUS = 3396.0
  B_AXIS_RADIUS = 3396.0
  C_AXIS_RADIUS = 3396.0
  CENTER_LATITUDE = 0.0
  CENTER_LONGITUDE = 74.0
  COORDINATE_SYSTEM_NAME = PLANETOGRAPHIC
  COORDINATE_SYSTEM_TYPE = "BODY-FIXED ROTATING"
  EASTERNMOST_LONGITUDE = 75.9342
  FIRST_STANDARD_PARALLEL = "N/A"
  LINE_FIRST_PIXEL = 1
  LINE_LAST_PIXEL = 6901
  LINE_PROJECTION_OFFSET = -27385.8125
  MAP_PROJECTION_ROTATION = 0.0
  MAP_PROJECTION_TYPE = SINUSOIDAL
  MAP_RESOLUTION = 592.713803866667
  MAP_SCALE = 0.1
  MAXIMUM_LATITUDE = -46.1657
  MINIMUM_LATITUDE = -57.9319
  POSITIVE_LONGITUDE_DIRECTION = EAST
  REFERENCE_LATITUDE = "N/A"
  REFERENCE_LONGITUDE = "N/A"
  SAMPLE_FIRST_PIXEL = 1
  SAMPLE_LAST_PIXEL = 1296
  SAMPLE_PROJECTION_OFFSET = 476.9375
  SECOND_STANDARD_PARALLEL = "N/A"
  WESTERNMOST_LONGITUDE = 72.55240000000001
END_OBJECT = IMAGE_MAP_PROJECTION
END
