PDS_VERSION_ID = PDS3
/* FILE DATA ELEMENTS */
RECORD_TYPE = UNDEFINED
/* POINTERS TO DATA OBJECTS */
^IMAGE = ("H8650_0001_BL4.TIF")
/* IDENTIFICATION DATA ELEMENTS */
DATA_SET_ID = "MEX-M-HRSC-4-REFDR-MAPPROJECT-EXT3-V4.0"
DATA_SET_NAME = "MARS EXPRESS HRSC MAP PROJECTED REFDR EXTENSION3 V4.0"
DETECTOR_ID = MEX_HRSC_BLUE
EVENT_TYPE = "MARS-LOCAL-COLOR-Im-Fl-Eo"
INSTRUMENT_HOST_ID = MEX
INSTRUMENT_HOST_NAME = "MARS EXPRESS"
INSTRUMENT_ID = HRSC
INSTRUMENT_NAME = "HIGH RESOLUTION STEREO CAMERA"
MISSION_NAME = "MARS EXPRESS"
MISSION_PHASE_NAME = ME_Phase_21
PROCESSING_LEVEL_ID = 4
PRODUCT_CREATION_TIME = 2023-02-03T21:13:30.000Z
PRODUCT_ID = "H8650_0001_BL4.TIF"
RELEASE_ID = 0005
REVISION_ID = 0000
/* QUALITY DATA ELEMENTS */
DATA_QUALITY_ID = 1
DATA_QUALITY_DESC = "Data calculated based on original SPICE kernels"
/* TIME DATA ELEMENTS */
SPACECRAFT_CLOCK_START_COUNT = "1/0234500650.09049"
SPACECRAFT_CLOCK_STOP_COUNT = "1/0234501048.25782"
START_TIME = 2010-10-07T03:05:31.302Z
STOP_TIME = 2010-10-07T03:07:14.393Z
/* ORBITAL DATA ELEMENTS */
ASCENDING_NODE_LONGITUDE = 52.08
MAXIMUM_RESOLUTION = 0.0427
FOOTPRINT_POINT_LATITUDE = (-17.2131,-17.2226,-17.2278,-17.2328, -17.2378,-17.2425,-17.2471,-17.2516, -17.256,-17.2622,-17.2662,-17.2701, -17.2737,-17.2772,-17.2806,-17.2839, -17.287,-17.2899,-17.2927,-17.2954, -17.2998,-17.3021,-17.3042,-17.3062, -17.3067,-17.3036,-17.0174,-16.8271, -16.6375,-16.4481,-16.2589,-16.0702, -15.882,-15.6409,-15.453,-15.2664, -15.0802,-14.8945,-14.7093,-14.4323, -14.1562,-13.9728,-13.7898,-13.6074, -13.3798,-13.1983,-13.0174,-12.8819, -12.701,-12.6558,-12.6288,-12.6228, -12.6187,-12.6123,-12.6086,-12.6029, -12.5981,-12.5906,-12.5856,-12.576, -12.5703,-12.5647,-12.5589,-12.5529, -12.5466,-12.539,-12.5293,-12.5228, -12.516,-12.5071,-12.498,-12.487, -12.4852,-12.4846,-12.7127,-12.8957, -13.0796,-13.2634,-13.4477,-13.6322, -13.8173,-14.003,-14.2364,-14.3768, -14.6576,-14.8448,-15.0327,-15.2215, -15.4574,-15.6463,-15.8897,-16.1274, -16.2705,-16.4617,-16.6052,-16.749, -16.9891,-17.1338,-17.1821,-17.2131)
FOOTPRINT_POINT_LONGITUDE = (178.912,178.643,178.489,178.336, 178.182,178.029,177.875,177.722,177.569 ,177.338,177.185,177.031,176.878, 176.725,176.571,176.418,176.264,176.11, 175.957,175.803,175.533,175.379,175.224 ,175.07,175.031,175.008,174.987,174.973 ,174.96,174.946,174.931,174.917,174.902 ,174.883,174.867,174.852,174.838, 174.823,174.808,174.786,174.764,174.749 ,174.734,174.719,174.7,174.685,174.67, 174.659,174.643,174.639,174.636,174.893 ,175.064,175.322,175.494,175.664, 175.835,176.091,176.262,176.56,176.73, 176.901,177.071,177.242,177.413,177.626 ,177.881,178.052,178.222,178.436, 178.649,178.906,178.948,178.969,178.967 ,178.965,178.963,178.961,178.959, 178.957,178.955,178.953,178.95,178.947, 178.944,178.942,178.94,178.937,178.935, 178.933,178.93,178.928,178.926,178.924, 178.922,178.921,178.918,178.916,178.915 ,178.912)
ORBIT_NUMBER = 8650
ORBITAL_ECCENTRICITY = 0.578
ORBITAL_INCLINATION = 86.84
ORBITAL_SEMIMAJOR_AXIS = 8765.84
PERIAPSIS_ALTITUDE = 320.81
PERIAPSIS_ARGUMENT_ANGLE = 283.96
PERIAPSIS_TIME = 2010-10-07T02:49:00.000Z
SPACECRAFT_ORIENTATION = (0.0,1.0,0.0)
^MEX_ORIENTATION_DESC = "MEX_ORIENTATION_DESC.TXT"
SPACECRAFT_POINTING_MODE = ACROSSTRACK
^MEX_POINTING_DESC = "MEX_POINTING_DESC.TXT"
RIGHT_ASCENSION = -1e+32
DECLINATION = -1e+32
OFFSET_ANGLE = 0.1
SPACECRAFT_SOLAR_DISTANCE = 2.26355e+08
TARGET_NAME = MARS
/* CAMERA DATA ELEMENTS */
DETECTOR_TEMPERATURE = 19.5939
FOCAL_PLANE_TEMPERATURE = 8.3794
INST_CMPRS_NAME = "DISCRETE COSINE TRANSFORMATION (DCT)"
INST_CMPRS_RATIO = 4.58722
INST_CMPRS_QUALITY = 0
INST_CMPRS_QUANTZ_TBL_ID = 0
INSTRUMENT_TEMPERATURE = 13.273
LENS_TEMPERATURE = 8.7872
MACROPIXEL_SIZE = 1
MISSING_FRAMES = 2
PIXEL_SUBSAMPLING_FLAG = N
SIGNAL_CHAIN_ID = 1
/* RADIOMETRIC DATA ELEMENTS */
BANDWIDTH = 76.0
CENTER_FILTER_WAVELENGTH = 444.0
RADIANCE_OFFSET = 0.714615
RADIANCE_SCALING_FACTOR = 0.0020077
REFLECTANCE_SCALING_FACTOR = 0.000105689
MEX:REFLECTANCE_OFFSET = 0.0376186
/* IMAGE OBJECT DEFINITIONS */
OBJECT = IMAGE
  INTERCHANGE_FORMAT = BINARY
  LINES = 5714
  LINE_SAMPLES = 5015
  SAMPLE_TYPE = UNSIGNED_INTEGER
  SAMPLE_BITS = 8
  BANDS = 1
  BAND_STORAGE_TYPE = BAND_SEQUENTIAL
  MAXIMUM = 254
  MEAN = 139.013
  MINIMUM = 4
  STANDARD_DEVIATION = 20.6979
END_OBJECT = IMAGE
/* MAP OBJECT DEFINITIONS */
OBJECT = IMAGE_MAP_PROJECTION
  ^DATA_SET_MAP_PROJECTION_CATALOG= "DSMAP.CAT"
  A_AXIS_RADIUS = 3396.0
  B_AXIS_RADIUS = 3396.0
  C_AXIS_RADIUS = 3396.0
  CENTER_LATITUDE = 0.0
  CENTER_LONGITUDE = 177.0
  COORDINATE_SYSTEM_NAME = PLANETOGRAPHIC
  COORDINATE_SYSTEM_TYPE = "BODY-FIXED ROTATING"
  EASTERNMOST_LONGITUDE = 178.969
  FIRST_STANDARD_PARALLEL = "N/A"
  LINE_FIRST_PIXEL = 1
  LINE_LAST_PIXEL = 5714
  LINE_PROJECTION_OFFSET = -14800.0
  MAP_PROJECTION_ROTATION = 0.0
  MAP_PROJECTION_TYPE = SINUSOIDAL
  MAP_RESOLUTION = 1185.42760773333
  MAP_SCALE = 0.05
  MAXIMUM_LATITUDE = -12.4846
  MINIMUM_LATITUDE = -17.3067
  POSITIVE_LONGITUDE_DIRECTION = EAST
  REFERENCE_LATITUDE = "N/A"
  REFERENCE_LONGITUDE = "N/A"
  SAMPLE_FIRST_PIXEL = 1
  SAMPLE_LAST_PIXEL = 5015
  SAMPLE_PROJECTION_OFFSET = 2734.0
  SECOND_STANDARD_PARALLEL = "N/A"
  WESTERNMOST_LONGITUDE = 174.636
END_OBJECT = IMAGE_MAP_PROJECTION
END
