PDS_VERSION_ID = PDS3
/* FILE DATA ELEMENTS */
RECORD_TYPE = UNDEFINED
/* POINTERS TO DATA OBJECTS */
^IMAGE = ("H8631_0000_RE4.TIF")
/* IDENTIFICATION DATA ELEMENTS */
DATA_SET_ID = "MEX-M-HRSC-4-REFDR-MAPPROJECT-EXT3-V4.0"
DATA_SET_NAME = "MARS EXPRESS HRSC MAP PROJECTED REFDR EXTENSION3 V4.0"
DETECTOR_ID = MEX_HRSC_RED
EVENT_TYPE = "MARS-REGIONAL-MAPPING-Fl-Gl-Pf"
INSTRUMENT_HOST_ID = MEX
INSTRUMENT_HOST_NAME = "MARS EXPRESS"
INSTRUMENT_ID = HRSC
INSTRUMENT_NAME = "HIGH RESOLUTION STEREO CAMERA"
MISSION_NAME = "MARS EXPRESS"
MISSION_PHASE_NAME = ME_Phase_21
PROCESSING_LEVEL_ID = 4
PRODUCT_CREATION_TIME = 2023-02-03T21:13:30.000Z
PRODUCT_ID = "H8631_0000_RE4.TIF"
RELEASE_ID = 0005
REVISION_ID = 0000
/* QUALITY DATA ELEMENTS */
DATA_QUALITY_ID = 1
DATA_QUALITY_DESC = "Data calculated based on original SPICE kernels"
/* TIME DATA ELEMENTS */
SPACECRAFT_CLOCK_START_COUNT = "1/0234021574.09064"
SPACECRAFT_CLOCK_STOP_COUNT = "1/0234021760.09742"
START_TIME = 2010-10-01T13:59:42.283Z
STOP_TIME = 2010-10-01T14:01:24.714Z
/* ORBITAL DATA ELEMENTS */
ASCENDING_NODE_LONGITUDE = 52.45
MAXIMUM_RESOLUTION = 0.0614
FOOTPRINT_POINT_LATITUDE = (-55.6565,-55.6408,-55.6272,-55.6144, -55.6037,-55.5897,-55.5775,-55.5766, -55.4912,-55.321,-55.0982,-54.7927, -54.6572,-54.454,-54.3184,-54.1828, -53.9796,-53.8445,-53.7091,-53.574, -53.4384,-53.303,-53.168,-53.0324, -52.8977,-52.6955,-52.5609,-52.358, -52.2225,-52.0202,-51.8854,-51.7506, -51.6155,-51.4809,-51.3457,-51.1443, -51.0096,-50.8079,-50.6732,-50.4711, -50.3364,-50.1346,-49.9996,-49.7308, -49.5292,-49.258,-49.0507,-48.8437, -48.775,-48.757,-48.7668,-48.7815, -48.7924,-48.8041,-48.8137,-48.8227, -48.823,-48.8242,-48.9622,-49.0996, -49.2375,-49.3755,-49.5116,-49.78, -50.05,-50.1853,-50.32,-50.4552, -50.6576,-50.8615,-50.9976,-51.2658, -51.4015,-51.6038,-51.739,-51.8745, -52.0094,-52.2121,-52.3474,-52.4831, -52.6187,-52.754,-52.8897,-53.0929, -53.2284,-53.3642,-53.4997,-53.6354, -53.771,-53.9748,-54.1106,-54.2464, -54.45,-54.6539,-54.7898,-54.9914, -55.2761,-55.504,-55.561,-55.6565)
FOOTPRINT_POINT_LONGITUDE = (320.828,320.28,319.874,319.529,319.266 ,318.942,318.678,318.658,318.613, 318.633,318.662,318.694,318.709,318.731 ,318.745,318.76,318.781,318.795,318.808 ,318.822,318.835,318.848,318.861, 318.874,318.887,318.906,318.918,318.936 ,318.948,318.965,318.977,318.988, 318.999,319.01,319.021,319.037,319.048, 319.063,319.073,319.088,319.098,319.112 ,319.121,319.139,319.153,319.17,319.183 ,319.196,319.2,319.201,319.448,319.842, 320.172,320.566,320.959,321.395,321.415 ,321.422,321.414,321.405,321.397, 321.388,321.379,321.361,321.343,321.333 ,321.324,321.315,321.3,321.285,321.274, 321.256,321.246,321.231,321.22,321.21, 321.2,321.184,321.173,321.163,321.151, 321.141,321.129,321.113,321.101,321.09, 321.078,321.067,321.055,321.037,321.025 ,321.013,320.994,320.975,320.963, 320.944,320.916,320.894,320.889, 320.828)
ORBIT_NUMBER = 8631
ORBITAL_ECCENTRICITY = 0.578
ORBITAL_INCLINATION = 86.84
ORBITAL_SEMIMAJOR_AXIS = 8766.72
PERIAPSIS_ALTITUDE = 320.52
PERIAPSIS_ARGUMENT_ANGLE = 287.19
PERIAPSIS_TIME = 2010-10-01T13:55:49.000Z
SPACECRAFT_ORIENTATION = (0.0,1.0,0.0)
^MEX_ORIENTATION_DESC = "MEX_ORIENTATION_DESC.TXT"
SPACECRAFT_POINTING_MODE = NADIR
^MEX_POINTING_DESC = "MEX_POINTING_DESC.TXT"
RIGHT_ASCENSION = -1e+32
DECLINATION = -1e+32
OFFSET_ANGLE = -1e+32
SPACECRAFT_SOLAR_DISTANCE = 2.27436e+08
TARGET_NAME = MARS
/* CAMERA DATA ELEMENTS */
DETECTOR_TEMPERATURE = 18.3705
FOCAL_PLANE_TEMPERATURE = 7.9716
INST_CMPRS_NAME = "DISCRETE COSINE TRANSFORMATION (DCT)"
INST_CMPRS_RATIO = 11.4508
INST_CMPRS_QUALITY = 0
INST_CMPRS_QUANTZ_TBL_ID = 0
INSTRUMENT_TEMPERATURE = 11.0301
LENS_TEMPERATURE = 7.156
MACROPIXEL_SIZE = 4
MISSING_FRAMES = 0
PIXEL_SUBSAMPLING_FLAG = N
SIGNAL_CHAIN_ID = 2
/* RADIOMETRIC DATA ELEMENTS */
BANDWIDTH = 48.0
CENTER_FILTER_WAVELENGTH = 748.0
RADIANCE_OFFSET = 0.894335
RADIANCE_SCALING_FACTOR = 0.00347588
REFLECTANCE_SCALING_FACTOR = 0.000410306
MEX:REFLECTANCE_OFFSET = 0.105571
/* IMAGE OBJECT DEFINITIONS */
OBJECT = IMAGE
  INTERCHANGE_FORMAT = BINARY
  LINES = 8071
  LINE_SAMPLES = 2104
  SAMPLE_TYPE = UNSIGNED_INTEGER
  SAMPLE_BITS = 8
  BANDS = 1
  BAND_STORAGE_TYPE = BAND_SEQUENTIAL
  MAXIMUM = 255
  MEAN = 178.763
  MINIMUM = 1
  STANDARD_DEVIATION = 23.3548
END_OBJECT = IMAGE
/* MAP OBJECT DEFINITIONS */
OBJECT = IMAGE_MAP_PROJECTION
  ^DATA_SET_MAP_PROJECTION_CATALOG= "DSMAP.CAT"
  A_AXIS_RADIUS = 3396.0
  B_AXIS_RADIUS = 3396.0
  C_AXIS_RADIUS = 3396.0
  CENTER_LATITUDE = 0.0
  CENTER_LONGITUDE = 320.0
  COORDINATE_SYSTEM_NAME = PLANETOGRAPHIC
  COORDINATE_SYSTEM_TYPE = "BODY-FIXED ROTATING"
  EASTERNMOST_LONGITUDE = 321.422
  FIRST_STANDARD_PARALLEL = "N/A"
  LINE_FIRST_PIXEL = 1
  LINE_LAST_PIXEL = 8071
  LINE_PROJECTION_OFFSET = -57821.375
  MAP_PROJECTION_ROTATION = 0.0
  MAP_PROJECTION_TYPE = SINUSOIDAL
  MAP_RESOLUTION = 1185.42760773333
  MAP_SCALE = 0.05
  MAXIMUM_LATITUDE = -48.757
  MINIMUM_LATITUDE = -55.6565
  POSITIVE_LONGITUDE_DIRECTION = EAST
  REFERENCE_LATITUDE = "N/A"
  REFERENCE_LONGITUDE = "N/A"
  SAMPLE_FIRST_PIXEL = 1
  SAMPLE_LAST_PIXEL = 2104
  SAMPLE_PROJECTION_OFFSET = 959.375
  SECOND_STANDARD_PARALLEL = "N/A"
  WESTERNMOST_LONGITUDE = 318.613
END_OBJECT = IMAGE_MAP_PROJECTION
END
