PDS_VERSION_ID = PDS3
/* FILE DATA ELEMENTS */
RECORD_TYPE = UNDEFINED
/* POINTERS TO DATA OBJECTS */
^IMAGE = ("H8630_0000_BL4.TIF")
/* IDENTIFICATION DATA ELEMENTS */
DATA_SET_ID = "MEX-M-HRSC-4-REFDR-MAPPROJECT-EXT3-V4.0"
DATA_SET_NAME = "MARS EXPRESS HRSC MAP PROJECTED REFDR EXTENSION3 V4.0"
DETECTOR_ID = MEX_HRSC_BLUE
EVENT_TYPE = "MARS-REGIONAL-MAPPING-Vo-Fl-Gl"
INSTRUMENT_HOST_ID = MEX
INSTRUMENT_HOST_NAME = "MARS EXPRESS"
INSTRUMENT_ID = HRSC
INSTRUMENT_NAME = "HIGH RESOLUTION STEREO CAMERA"
MISSION_NAME = "MARS EXPRESS"
MISSION_PHASE_NAME = ME_Phase_21
PROCESSING_LEVEL_ID = 4
PRODUCT_CREATION_TIME = 2023-02-03T21:13:30.000Z
PRODUCT_ID = "H8630_0000_BL4.TIF"
RELEASE_ID = 0005
REVISION_ID = 0000
/* QUALITY DATA ELEMENTS */
DATA_QUALITY_ID = 1
DATA_QUALITY_DESC = "Data calculated based on original SPICE kernels"
/* TIME DATA ELEMENTS */
SPACECRAFT_CLOCK_START_COUNT = "1/0233996385.07304"
SPACECRAFT_CLOCK_STOP_COUNT = "1/0233996665.30648"
START_TIME = 2010-10-01T07:00:15.012Z
STOP_TIME = 2010-10-01T07:03:26.779Z
/* ORBITAL DATA ELEMENTS */
ASCENDING_NODE_LONGITUDE = 52.46
MAXIMUM_RESOLUTION = 0.1182
FOOTPRINT_POINT_LATITUDE = (-56.1166,-56.0944,-56.0636,-56.0391, -56.0382,-56.0186,-55.6706,-55.321, -55.0893,-54.8591,-54.6274,-54.3962, -54.1653,-53.9345,-53.7039,-53.4736, -53.2433,-52.784,-52.325,-51.7525, -51.2957,-50.8397,-50.6078,-50.3743, -50.024,-49.6741,-49.4357,-49.1972, -48.8401,-48.4798,-48.1152,-47.872, -47.6292,-47.3814,-47.133,-46.8849, -46.5095,-46.2563,-46.0036,-45.7509, -45.4928,-45.2346,-44.9771,-44.5847, -44.1909,-44.0596,-43.9428,-43.9531, -43.9642,-43.9759,-43.9821,-43.9911, -43.9913,-43.9938,-44.3904,-44.6536, -45.0466,-45.3049,-45.5637,-45.8223, -46.0755,-46.3292,-46.7108,-47.0845, -47.4572,-47.7057,-47.9491,-48.1929, -48.4368,-48.6806,-48.919,-49.1581, -49.3972,-49.7555,-49.9892,-50.223, -50.457,-50.6913,-50.9236,-51.2664, -51.7241,-52.1829,-52.4126,-52.6426, -52.8729,-53.1031,-53.3338,-53.5646, -53.7956,-54.0267,-54.2581,-54.4897, -54.7215,-54.9535,-55.1856,-55.4182, -55.6509,-55.8838,-56.0002,-56.1166)
FOOTPRINT_POINT_LONGITUDE = (63.0745,62.3313,61.4864,60.9096,60.889 ,60.8379,60.8791,60.914,60.9396,60.9674 ,60.991,61.0145,61.0381,61.0608,61.083, 61.105,61.1263,61.1685,61.2079,61.255, 61.2911,61.3256,61.3425,61.3593,61.3828 ,61.4049,61.42,61.4351,61.4572,61.4772, 61.4989,61.5118,61.5247,61.5383,61.5503 ,61.5619,61.5781,61.5895,61.6006,61.611 ,61.6215,61.6308,61.6403,61.654,61.6669 ,61.6707,61.6744,62.0002,62.4159,62.963 ,63.3139,63.9721,63.994,64.0085,63.9888 ,63.976,63.9566,63.9432,63.9293,63.9156 ,63.9021,63.8881,63.8657,63.842,63.8218 ,63.8072,63.7927,63.7778,63.7629, 63.7479,63.7328,63.7165,63.7004,63.6759 ,63.6593,63.6429,63.6262,63.6091, 63.5916,63.566,63.5314,63.4948,63.476, 63.4568,63.4369,63.4174,63.3969,63.3762 ,63.3552,63.334,63.312,63.2897,63.267, 63.2439,63.2204,63.1957,63.1705,63.145, 63.1324,63.0745)
ORBIT_NUMBER = 8630
ORBITAL_ECCENTRICITY = 0.578
ORBITAL_INCLINATION = 86.84
ORBITAL_SEMIMAJOR_AXIS = 8769.33
PERIAPSIS_ALTITUDE = 320.03
PERIAPSIS_ARGUMENT_ANGLE = 287.36
PERIAPSIS_TIME = 2010-10-01T06:56:10.000Z
SPACECRAFT_ORIENTATION = (0.0,1.0,0.0)
^MEX_ORIENTATION_DESC = "MEX_ORIENTATION_DESC.TXT"
SPACECRAFT_POINTING_MODE = NADIR
^MEX_POINTING_DESC = "MEX_POINTING_DESC.TXT"
RIGHT_ASCENSION = -1e+32
DECLINATION = -1e+32
OFFSET_ANGLE = -1e+32
SPACECRAFT_SOLAR_DISTANCE = 2.27493e+08
TARGET_NAME = MARS
/* CAMERA DATA ELEMENTS */
DETECTOR_TEMPERATURE = 18.1666
FOCAL_PLANE_TEMPERATURE = 7.3599
INST_CMPRS_NAME = "DISCRETE COSINE TRANSFORMATION (DCT)"
INST_CMPRS_RATIO = 14.1263
INST_CMPRS_QUALITY = 0
INST_CMPRS_QUANTZ_TBL_ID = 0
INSTRUMENT_TEMPERATURE = 11.0301
LENS_TEMPERATURE = 7.7677
MACROPIXEL_SIZE = 8
MISSING_FRAMES = 0
PIXEL_SUBSAMPLING_FLAG = N
SIGNAL_CHAIN_ID = 2
/* RADIOMETRIC DATA ELEMENTS */
BANDWIDTH = 76.0
CENTER_FILTER_WAVELENGTH = 444.0
RADIANCE_OFFSET = 0.807831
RADIANCE_SCALING_FACTOR = 0.00211198
REFLECTANCE_SCALING_FACTOR = 0.0001123
MEX:REFLECTANCE_OFFSET = 0.0429548
/* IMAGE OBJECT DEFINITIONS */
OBJECT = IMAGE
  INTERCHANGE_FORMAT = BINARY
  LINES = 7206
  LINE_SAMPLES = 1261
  SAMPLE_TYPE = UNSIGNED_INTEGER
  SAMPLE_BITS = 8
  BANDS = 1
  BAND_STORAGE_TYPE = BAND_SEQUENTIAL
  MAXIMUM = 255
  MEAN = 140.418
  MINIMUM = 1
  STANDARD_DEVIATION = 40.2451
END_OBJECT = IMAGE
/* MAP OBJECT DEFINITIONS */
OBJECT = IMAGE_MAP_PROJECTION
  ^DATA_SET_MAP_PROJECTION_CATALOG= "DSMAP.CAT"
  A_AXIS_RADIUS = 3396.0
  B_AXIS_RADIUS = 3396.0
  C_AXIS_RADIUS = 3396.0
  CENTER_LATITUDE = 0.0
  CENTER_LONGITUDE = 62.0
  COORDINATE_SYSTEM_NAME = PLANETOGRAPHIC
  COORDINATE_SYSTEM_TYPE = "BODY-FIXED ROTATING"
  EASTERNMOST_LONGITUDE = 64.0085
  FIRST_STANDARD_PARALLEL = "N/A"
  LINE_FIRST_PIXEL = 1
  LINE_LAST_PIXEL = 7206
  LINE_PROJECTION_OFFSET = -26050.6875
  MAP_PROJECTION_ROTATION = 0.0
  MAP_PROJECTION_TYPE = SINUSOIDAL
  MAP_RESOLUTION = 592.713803866667
  MAP_SCALE = 0.1
  MAXIMUM_LATITUDE = -43.9428
  MINIMUM_LATITUDE = -56.1166
  POSITIVE_LONGITUDE_DIRECTION = EAST
  REFERENCE_LATITUDE = "N/A"
  REFERENCE_LONGITUDE = "N/A"
  SAMPLE_FIRST_PIXEL = 1
  SAMPLE_LAST_PIXEL = 1261
  SAMPLE_PROJECTION_OFFSET = 397.0625
  SECOND_STANDARD_PARALLEL = "N/A"
  WESTERNMOST_LONGITUDE = 60.8379
END_OBJECT = IMAGE_MAP_PROJECTION
END
