PDS_VERSION_ID = PDS3
/* FILE DATA ELEMENTS */
RECORD_TYPE = UNDEFINED
/* POINTERS TO DATA OBJECTS */
^IMAGE = ("H8623_0000_P14.TIF")
/* IDENTIFICATION DATA ELEMENTS */
DATA_SET_ID = "MEX-M-HRSC-4-REFDR-MAPPROJECT-EXT3-V4.0"
DATA_SET_NAME = "MARS EXPRESS HRSC MAP PROJECTED REFDR EXTENSION3 V4.0"
DETECTOR_ID = MEX_HRSC_P1
EVENT_TYPE = "MARS-REGIONAL-MAPPING-Vo-Fl-Gl"
INSTRUMENT_HOST_ID = MEX
INSTRUMENT_HOST_NAME = "MARS EXPRESS"
INSTRUMENT_ID = HRSC
INSTRUMENT_NAME = "HIGH RESOLUTION STEREO CAMERA"
MISSION_NAME = "MARS EXPRESS"
MISSION_PHASE_NAME = ME_Phase_21
PROCESSING_LEVEL_ID = 4
PRODUCT_CREATION_TIME = 2023-02-03T21:13:30.000Z
PRODUCT_ID = "H8623_0000_P14.TIF"
RELEASE_ID = 0005
REVISION_ID = 0000
/* QUALITY DATA ELEMENTS */
DATA_QUALITY_ID = 1
DATA_QUALITY_DESC = "Data calculated based on original SPICE kernels"
/* TIME DATA ELEMENTS */
SPACECRAFT_CLOCK_START_COUNT = "1/0233820125.07280"
SPACECRAFT_CLOCK_STOP_COUNT = "1/0233820434.54576"
START_TIME = 2010-09-29T06:03:02.735Z
STOP_TIME = 2010-09-29T06:06:56.070Z
/* ORBITAL DATA ELEMENTS */
ASCENDING_NODE_LONGITUDE = 52.6
MAXIMUM_RESOLUTION = 0.0311
FOOTPRINT_POINT_LATITUDE = (-55.5092,-55.4831,-55.4599,-55.4386, -55.4377,-55.4891,-55.2288,-54.9692, -54.7105,-54.4523,-54.0648,-53.8064, -53.292,-52.7791,-52.2672,-51.7573, -51.2396,-50.9791,-50.7184,-50.4583, -50.1927,-49.9264,-49.662,-49.2602, -48.9895,-48.7194,-48.4488,-48.1734, -47.8986,-47.6234,-47.3436,-47.0642, -46.7819,-46.4961,-46.0692,-45.781, -45.4906,-45.2008,-44.7605,-44.467, -44.0196,-43.7205,-43.2658,-42.9628, -42.6549,-42.3471,-41.88,-41.7237, -41.7226,-41.7324,-41.7408,-41.7456, -41.7496,-41.7537,-41.7538,-41.7544, -42.068,-42.3808,-42.6902,-42.9995, -43.3038,-43.7597,-44.0591,-44.5074, -44.8027,-45.2449,-45.5358,-45.8269, -46.1153,-46.4003,-46.8278,-47.1085, -47.5338,-47.8165,-48.0929,-48.3659, -48.6396,-48.9088,-49.3155,-49.5876, -49.8534,-50.1194,-50.3863,-50.6503, -50.9109,-51.1736,-51.4355,-51.823, -52.3341,-52.9769,-53.3625,-53.6202, -54.0075,-54.2661,-54.5252,-54.784, -55.0438,-55.4356,-55.565,-55.5092)
FOOTPRINT_POINT_LONGITUDE = (58.8002,57.8454,57.1484,56.5793, 56.5574,56.4831,56.515,56.5457,56.5749, 56.6033,56.6455,56.6734,56.7255,56.7752 ,56.8228,56.8676,56.912,56.933,56.9541, 56.9741,56.9935,57.0136,57.0315,57.0587 ,57.0766,57.0937,57.1099,57.126,57.1416 ,57.1575,57.1719,57.1858,57.2027, 57.2175,57.2372,57.2508,57.2637,57.2761 ,57.2929,57.3033,57.3189,57.3291, 57.3434,57.3521,57.3604,57.3683,57.3789 ,57.3825,57.3825,57.894,58.4775,58.8411 ,59.2046,59.8573,59.8814,59.8901,59.874 ,59.8579,59.8418,59.8253,59.8087, 59.7832,59.7661,59.7397,59.7224,59.6956 ,59.6781,59.66,59.6417,59.6229,59.594, 59.5752,59.5479,59.5303,59.5109,59.4893 ,59.4683,59.4474,59.4162,59.396,59.375, 59.3536,59.332,59.3101,59.2881,59.2665, 59.2438,59.2094,59.1623,59.1018,59.0637 ,59.0377,58.9979,58.9707,58.9431, 58.9147,58.886,58.8427,58.8273,58.8002)
ORBIT_NUMBER = 8623
ORBITAL_ECCENTRICITY = 0.578
ORBITAL_INCLINATION = 86.84
ORBITAL_SEMIMAJOR_AXIS = 8770.7
PERIAPSIS_ALTITUDE = 320.23
PERIAPSIS_ARGUMENT_ANGLE = 288.55
PERIAPSIS_TIME = 2010-09-29T05:58:40.000Z
SPACECRAFT_ORIENTATION = (0.0,1.0,0.0)
^MEX_ORIENTATION_DESC = "MEX_ORIENTATION_DESC.TXT"
SPACECRAFT_POINTING_MODE = ACROSSTRACK
^MEX_POINTING_DESC = "MEX_POINTING_DESC.TXT"
RIGHT_ASCENSION = -1e+32
DECLINATION = -1e+32
OFFSET_ANGLE = 0.2
SPACECRAFT_SOLAR_DISTANCE = 2.2789e+08
TARGET_NAME = MARS
/* CAMERA DATA ELEMENTS */
DETECTOR_TEMPERATURE = 17.1471
FOCAL_PLANE_TEMPERATURE = 8.1755
INST_CMPRS_NAME = "DISCRETE COSINE TRANSFORMATION (DCT)"
INST_CMPRS_RATIO = 14.791
INST_CMPRS_QUALITY = 0
INST_CMPRS_QUANTZ_TBL_ID = 0
INSTRUMENT_TEMPERATURE = 10.8262
LENS_TEMPERATURE = 9.6028
MACROPIXEL_SIZE = 2
MISSING_FRAMES = 0
PIXEL_SUBSAMPLING_FLAG = N
SIGNAL_CHAIN_ID = 3
/* RADIOMETRIC DATA ELEMENTS */
BANDWIDTH = 174.0
CENTER_FILTER_WAVELENGTH = 675.0
RADIANCE_OFFSET = 2.73536
RADIANCE_SCALING_FACTOR = 0.0160904
REFLECTANCE_SCALING_FACTOR = 0.000449471
MEX:REFLECTANCE_OFFSET = 0.07641
/* IMAGE OBJECT DEFINITIONS */
OBJECT = IMAGE
  INTERCHANGE_FORMAT = BINARY
  LINES = 32906
  LINE_SAMPLES = 5213
  SAMPLE_TYPE = UNSIGNED_INTEGER
  SAMPLE_BITS = 8
  BANDS = 1
  BAND_STORAGE_TYPE = BAND_SEQUENTIAL
  MAXIMUM = 255
  MEAN = 164.212
  MINIMUM = 1
  STANDARD_DEVIATION = 23.3931
END_OBJECT = IMAGE
/* MAP OBJECT DEFINITIONS */
OBJECT = IMAGE_MAP_PROJECTION
  ^DATA_SET_MAP_PROJECTION_CATALOG= "DSMAP.CAT"
  A_AXIS_RADIUS = 3396.0
  B_AXIS_RADIUS = 3396.0
  C_AXIS_RADIUS = 3396.0
  CENTER_LATITUDE = 0.0
  CENTER_LONGITUDE = 58.0
  COORDINATE_SYSTEM_NAME = PLANETOGRAPHIC
  COORDINATE_SYSTEM_TYPE = "BODY-FIXED ROTATING"
  EASTERNMOST_LONGITUDE = 59.8901
  FIRST_STANDARD_PARALLEL = "N/A"
  LINE_FIRST_PIXEL = 1
  LINE_LAST_PIXEL = 32906
  LINE_PROJECTION_OFFSET = -98842.25
  MAP_PROJECTION_ROTATION = 0.0
  MAP_PROJECTION_TYPE = SINUSOIDAL
  MAP_RESOLUTION = 2370.85521546667
  MAP_SCALE = 0.025
  MAXIMUM_LATITUDE = -41.7226
  MINIMUM_LATITUDE = -55.565
  POSITIVE_LONGITUDE_DIRECTION = EAST
  REFERENCE_LATITUDE = "N/A"
  REFERENCE_LONGITUDE = "N/A"
  SAMPLE_FIRST_PIXEL = 1
  SAMPLE_LAST_PIXEL = 5213
  SAMPLE_PROJECTION_OFFSET = 1997.75
  SECOND_STANDARD_PARALLEL = "N/A"
  WESTERNMOST_LONGITUDE = 56.4831
END_OBJECT = IMAGE_MAP_PROJECTION
END
