PDS_VERSION_ID = PDS3
/* FILE DATA ELEMENTS */
RECORD_TYPE = UNDEFINED
/* POINTERS TO DATA OBJECTS */
^IMAGE = ("H8620_0000_S24.TIF")
/* IDENTIFICATION DATA ELEMENTS */
DATA_SET_ID = "MEX-M-HRSC-4-REFDR-MAPPROJECT-EXT3-V4.0"
DATA_SET_NAME = "MARS EXPRESS HRSC MAP PROJECTED REFDR EXTENSION3 V4.0"
DETECTOR_ID = MEX_HRSC_S2
EVENT_TYPE = "MARS-REGIONAL-MAPPING-Im-Fl"
INSTRUMENT_HOST_ID = MEX
INSTRUMENT_HOST_NAME = "MARS EXPRESS"
INSTRUMENT_ID = HRSC
INSTRUMENT_NAME = "HIGH RESOLUTION STEREO CAMERA"
MISSION_NAME = "MARS EXPRESS"
MISSION_PHASE_NAME = ME_Phase_21
PROCESSING_LEVEL_ID = 4
PRODUCT_CREATION_TIME = 2023-02-03T21:13:30.000Z
PRODUCT_ID = "H8620_0000_S24.TIF"
RELEASE_ID = 0005
REVISION_ID = 0000
/* QUALITY DATA ELEMENTS */
DATA_QUALITY_ID = 1
DATA_QUALITY_DESC = "Data calculated based on original SPICE kernels"
/* TIME DATA ELEMENTS */
SPACECRAFT_CLOCK_START_COUNT = "1/0233744905.07307"
SPACECRAFT_CLOCK_STOP_COUNT = "1/0233745332.15764"
START_TIME = 2010-09-28T09:08:27.743Z
STOP_TIME = 2010-09-28T09:12:02.335Z
/* ORBITAL DATA ELEMENTS */
ASCENDING_NODE_LONGITUDE = 52.66
MAXIMUM_RESOLUTION = 0.0469
FOOTPRINT_POINT_LATITUDE = (-34.2522,-34.255,-34.2541,-34.2515, -34.2475,-34.2372,-34.2367,-34.2041, -33.8666,-33.4084,-32.9443,-32.4732, -32.1227,-31.646,-31.2873,-31.045, -30.8007,-30.5556,-30.3067,-29.934, -29.6821,-29.431,-29.0496,-28.795, -28.5376,-28.2794,-27.8884,-27.6277, -27.3626,-27.0971,-26.8294,-26.4249, -26.1546,-25.7439,-25.469,-25.19, -24.9048,-24.6286,-24.2016,-23.9163, -23.6278,-23.1929,-22.7533,-22.4585, -22.1592,-21.7091,-21.2545,-21.1022, -21.0472,-21.0468,-21.0442,-21.0428, -21.0396,-21.0312,-21.0136,-21.0143, -21.0149,-21.315,-21.6258,-22.0763, -22.3802,-22.6756,-22.9709,-23.2644, -23.5561,-23.8454,-24.1331,-24.4243, -24.7091,-24.9912,-25.2704,-25.6813, -25.962,-26.2349,-26.5079,-26.7786, -27.0499,-27.3087,-27.5745,-27.837, -28.1017,-28.3631,-28.6205,-29.0025, -29.3884,-29.6402,-30.0173,-30.2663, -30.5149,-30.7604,-31.0051,-31.6113, -32.0789,-32.3209,-32.797,-33.2633, -33.7247,-34.0672,-34.1811,-34.2522)
FOOTPRINT_POINT_LONGITUDE = (7.23015,6.57685,6.21698,5.85776, 5.52136,4.93771,4.91525,4.89887,4.89685 ,4.89307,4.88802,4.88139,4.87832, 4.87155,4.86666,4.86272,4.85857,4.85393 ,4.84907,4.84151,4.83631,4.83105, 4.82244,4.81663,4.81056,4.80428,4.79444 ,4.78783,4.78062,4.77316,4.76561, 4.75344,4.74572,4.73279,4.72403,4.71466 ,4.70334,4.69531,4.67972,4.66935,4.6586 ,4.64211,4.62483,4.61303,4.60049, 4.58154,4.56198,4.55531,4.55284,5.05519 ,5.36246,5.8096,6.42449,6.84419,7.40565 ,7.43327,7.44337,7.44265,7.43779, 7.43421,7.43001,7.42748,7.4245,7.42138, 7.41802,7.41511,7.41152,7.40653,7.40266 ,7.39921,7.39601,7.39262,7.38754, 7.38392,7.38017,7.37604,7.3717,7.37042, 7.36673,7.36291,7.35828,7.35376,7.35035 ,7.34523,7.33774,7.33356,7.32714,7.3226 ,7.31819,7.31374,7.30934,7.29768, 7.29241,7.28605,7.27417,7.26434,7.25402 ,7.24592,7.24308,7.23015)
ORBIT_NUMBER = 8620
ORBITAL_ECCENTRICITY = 0.578
ORBITAL_INCLINATION = 86.83
ORBITAL_SEMIMAJOR_AXIS = 8770.21
PERIAPSIS_ALTITUDE = 320.82
PERIAPSIS_ARGUMENT_ANGLE = 289.03
PERIAPSIS_TIME = 2010-09-28T08:59:41.000Z
SPACECRAFT_ORIENTATION = (0.0,1.0,0.0)
^MEX_ORIENTATION_DESC = "MEX_ORIENTATION_DESC.TXT"
SPACECRAFT_POINTING_MODE = ACROSSTRACK
^MEX_POINTING_DESC = "MEX_POINTING_DESC.TXT"
RIGHT_ASCENSION = -1e+32
DECLINATION = -1e+32
OFFSET_ANGLE = -0.1
SPACECRAFT_SOLAR_DISTANCE = 2.2806e+08
TARGET_NAME = MARS
/* CAMERA DATA ELEMENTS */
DETECTOR_TEMPERATURE = 18.1666
FOCAL_PLANE_TEMPERATURE = 7.5638
INST_CMPRS_NAME = "DISCRETE COSINE TRANSFORMATION (DCT)"
INST_CMPRS_RATIO = 10.9042
INST_CMPRS_QUALITY = 0
INST_CMPRS_QUANTZ_TBL_ID = 0
INSTRUMENT_TEMPERATURE = 12.2535
LENS_TEMPERATURE = 7.9716
MACROPIXEL_SIZE = 2
MISSING_FRAMES = 0
PIXEL_SUBSAMPLING_FLAG = N
SIGNAL_CHAIN_ID = 1
/* RADIOMETRIC DATA ELEMENTS */
BANDWIDTH = 178.0
CENTER_FILTER_WAVELENGTH = 679.0
RADIANCE_OFFSET = 2.8737
RADIANCE_SCALING_FACTOR = 0.0204377
REFLECTANCE_SCALING_FACTOR = 0.000562933
MEX:REFLECTANCE_OFFSET = 0.0791526
/* IMAGE OBJECT DEFINITIONS */
OBJECT = IMAGE
  INTERCHANGE_FORMAT = BINARY
  LINES = 15662
  LINE_SAMPLES = 3570
  SAMPLE_TYPE = UNSIGNED_INTEGER
  SAMPLE_BITS = 8
  BANDS = 1
  BAND_STORAGE_TYPE = BAND_SEQUENTIAL
  MAXIMUM = 255
  MEAN = 154.398
  MINIMUM = 1
  STANDARD_DEVIATION = 36.1784
END_OBJECT = IMAGE
/* MAP OBJECT DEFINITIONS */
OBJECT = IMAGE_MAP_PROJECTION
  ^DATA_SET_MAP_PROJECTION_CATALOG= "DSMAP.CAT"
  A_AXIS_RADIUS = 3396.0
  B_AXIS_RADIUS = 3396.0
  C_AXIS_RADIUS = 3396.0
  CENTER_LATITUDE = 0.0
  CENTER_LONGITUDE = 6.0
  COORDINATE_SYSTEM_NAME = PLANETOGRAPHIC
  COORDINATE_SYSTEM_TYPE = "BODY-FIXED ROTATING"
  EASTERNMOST_LONGITUDE = 7.44337
  FIRST_STANDARD_PARALLEL = "N/A"
  LINE_FIRST_PIXEL = 1
  LINE_LAST_PIXEL = 15662
  LINE_PROJECTION_OFFSET = -24907.75
  MAP_PROJECTION_ROTATION = 0.0
  MAP_PROJECTION_TYPE = SINUSOIDAL
  MAP_RESOLUTION = 1185.42760773333
  MAP_SCALE = 0.05
  MAXIMUM_LATITUDE = -21.0136
  MINIMUM_LATITUDE = -34.255
  POSITIVE_LONGITUDE_DIRECTION = EAST
  REFERENCE_LATITUDE = "N/A"
  REFERENCE_LONGITUDE = "N/A"
  SAMPLE_FIRST_PIXEL = 1
  SAMPLE_LAST_PIXEL = 3570
  SAMPLE_PROJECTION_OFFSET = 1808.75
  SECOND_STANDARD_PARALLEL = "N/A"
  WESTERNMOST_LONGITUDE = 4.55284
END_OBJECT = IMAGE_MAP_PROJECTION
END
