PDS_VERSION_ID = PDS3
/* FILE DATA ELEMENTS */
RECORD_TYPE = UNDEFINED
/* POINTERS TO DATA OBJECTS */
^IMAGE = ("H8620_0000_IR4.TIF")
/* IDENTIFICATION DATA ELEMENTS */
DATA_SET_ID = "MEX-M-HRSC-4-REFDR-MAPPROJECT-EXT3-V4.0"
DATA_SET_NAME = "MARS EXPRESS HRSC MAP PROJECTED REFDR EXTENSION3 V4.0"
DETECTOR_ID = MEX_HRSC_IR
EVENT_TYPE = "MARS-REGIONAL-MAPPING-Im-Fl"
INSTRUMENT_HOST_ID = MEX
INSTRUMENT_HOST_NAME = "MARS EXPRESS"
INSTRUMENT_ID = HRSC
INSTRUMENT_NAME = "HIGH RESOLUTION STEREO CAMERA"
MISSION_NAME = "MARS EXPRESS"
MISSION_PHASE_NAME = ME_Phase_21
PROCESSING_LEVEL_ID = 4
PRODUCT_CREATION_TIME = 2023-02-03T21:13:30.000Z
PRODUCT_ID = "H8620_0000_IR4.TIF"
RELEASE_ID = 0005
REVISION_ID = 0000
/* QUALITY DATA ELEMENTS */
DATA_QUALITY_ID = 1
DATA_QUALITY_DESC = "Data calculated based on original SPICE kernels"
/* TIME DATA ELEMENTS */
SPACECRAFT_CLOCK_START_COUNT = "1/0233744905.07307"
SPACECRAFT_CLOCK_STOP_COUNT = "1/0233745332.15764"
START_TIME = 2010-09-28T09:10:19.970Z
STOP_TIME = 2010-09-28T09:15:07.692Z
/* ORBITAL DATA ELEMENTS */
ASCENDING_NODE_LONGITUDE = 52.66
MAXIMUM_RESOLUTION = 0.1095
FOOTPRINT_POINT_LATITUDE = (-34.1903,-34.1911,-34.1908,-34.1897, -34.188,-34.1855,-34.1813,-34.181, -34.2057,-33.733,-33.1403,-32.4214, -31.6804,-31.0606,-30.6845,-30.4302, -30.0485,-29.7926,-29.406,-29.147, -28.8854,-28.6224,-28.3582,-28.0928, -27.8253,-27.5562,-27.2859,-27.0149, -26.6038,-26.1901,-25.7731,-25.493, -25.2115,-24.9322,-24.6463,-24.3664, -23.9475,-23.6704,-23.394,-23.1184, -22.8451,-22.5722,-22.3014,-22.0309, -21.7622,-21.4978,-21.2313,-21.0992, -21.0777,-21.0702,-21.0634,-21.0559, -21.05,-21.0363,-21.0292,-21.0183, -21.0146,-20.9953,-20.9948,-20.9959, -21.2602,-21.5284,-21.7977,-22.0718, -22.4835,-22.8975,-23.1732,-23.4512, -23.7304,-24.0112,-24.2926,-24.5706, -24.855,-25.2819,-25.7121,-26.1288, -26.4067,-26.6816,-26.9607,-27.2357, -27.5084,-27.7794,-28.048,-28.4459, -28.7123,-28.9757,-29.2384,-29.4992, -29.7579,-30.1443,-30.5273,-31.1599, -31.6586,-32.159,-32.52,-33.0067, -33.4863,-34.0783,-34.194,-34.1903)
FOOTPRINT_POINT_LONGITUDE = (7.45023,6.91046,6.4999,6.08962,5.67996 ,5.27054,4.73249,4.70686,4.68939, 4.68196,4.66964,4.6513,4.63528,4.61774, 4.60642,4.59904,4.58679,4.57829,4.56494 ,4.55574,4.54638,4.53667,4.52674, 4.51648,4.50594,4.49512,4.48399,4.47226 ,4.45451,4.43585,4.41625,4.4028,4.38877 ,4.37305,4.35989,4.34482,4.32242, 4.30707,4.29175,4.27647,4.26062,4.24497 ,4.22882,4.21289,4.19661,4.17912, 4.16266,4.15413,4.15275,4.53086,4.84249 ,5.3605,5.67155,6.05161,6.36273,6.9166, 7.2642,7.81684,7.85171,7.86315,7.85386, 7.84576,7.83755,7.83089,7.82,7.80874, 7.80029,7.79223,7.78411,7.77607,7.7676, 7.75687,7.74849,7.73566,7.72595,7.71179 ,7.70336,7.69446,7.68837,7.68105,7.6734 ,7.66549,7.65736,7.64402,7.63688, 7.62884,7.62112,7.61312,7.60509,7.59336 ,7.58139,7.562,7.54609,7.53352,7.5187, 7.50378,7.48776,7.46701,7.46239, 7.45023)
ORBIT_NUMBER = 8620
ORBITAL_ECCENTRICITY = 0.578
ORBITAL_INCLINATION = 86.83
ORBITAL_SEMIMAJOR_AXIS = 8770.21
PERIAPSIS_ALTITUDE = 320.82
PERIAPSIS_ARGUMENT_ANGLE = 289.03
PERIAPSIS_TIME = 2010-09-28T08:59:41.000Z
SPACECRAFT_ORIENTATION = (0.0,1.0,0.0)
^MEX_ORIENTATION_DESC = "MEX_ORIENTATION_DESC.TXT"
SPACECRAFT_POINTING_MODE = ACROSSTRACK
^MEX_POINTING_DESC = "MEX_POINTING_DESC.TXT"
RIGHT_ASCENSION = -1e+32
DECLINATION = -1e+32
OFFSET_ANGLE = -0.1
SPACECRAFT_SOLAR_DISTANCE = 2.2806e+08
TARGET_NAME = MARS
/* CAMERA DATA ELEMENTS */
DETECTOR_TEMPERATURE = 16.9432
FOCAL_PLANE_TEMPERATURE = 7.5638
INST_CMPRS_NAME = "DISCRETE COSINE TRANSFORMATION (DCT)"
INST_CMPRS_RATIO = 11.2296
INST_CMPRS_QUALITY = 0
INST_CMPRS_QUANTZ_TBL_ID = 0
INSTRUMENT_TEMPERATURE = 12.2535
LENS_TEMPERATURE = 7.9716
MACROPIXEL_SIZE = 4
MISSING_FRAMES = 0
PIXEL_SUBSAMPLING_FLAG = N
SIGNAL_CHAIN_ID = 2
/* RADIOMETRIC DATA ELEMENTS */
BANDWIDTH = 81.0
CENTER_FILTER_WAVELENGTH = 955.5
RADIANCE_OFFSET = 0.671457
RADIANCE_SCALING_FACTOR = 0.00581284
REFLECTANCE_SCALING_FACTOR = 0.000652245
MEX:REFLECTANCE_OFFSET = 0.0753427
/* IMAGE OBJECT DEFINITIONS */
OBJECT = IMAGE
  INTERCHANGE_FORMAT = BINARY
  LINES = 7831
  LINE_SAMPLES = 1785
  SAMPLE_TYPE = UNSIGNED_INTEGER
  SAMPLE_BITS = 8
  BANDS = 1
  BAND_STORAGE_TYPE = BAND_SEQUENTIAL
  MAXIMUM = 254
  MEAN = 148.464
  MINIMUM = 1
  STANDARD_DEVIATION = 35.6288
END_OBJECT = IMAGE
/* MAP OBJECT DEFINITIONS */
OBJECT = IMAGE_MAP_PROJECTION
  ^DATA_SET_MAP_PROJECTION_CATALOG= "DSMAP.CAT"
  A_AXIS_RADIUS = 3396.0
  B_AXIS_RADIUS = 3396.0
  C_AXIS_RADIUS = 3396.0
  CENTER_LATITUDE = 0.0
  CENTER_LONGITUDE = 6.0
  COORDINATE_SYSTEM_NAME = PLANETOGRAPHIC
  COORDINATE_SYSTEM_TYPE = "BODY-FIXED ROTATING"
  EASTERNMOST_LONGITUDE = 7.86315
  FIRST_STANDARD_PARALLEL = "N/A"
  LINE_FIRST_PIXEL = 1
  LINE_LAST_PIXEL = 7831
  LINE_PROJECTION_OFFSET = -12454.125
  MAP_PROJECTION_ROTATION = 0.0
  MAP_PROJECTION_TYPE = SINUSOIDAL
  MAP_RESOLUTION = 592.713803866667
  MAP_SCALE = 0.1
  MAXIMUM_LATITUDE = -20.9948
  MINIMUM_LATITUDE = -34.2057
  POSITIVE_LONGITUDE_DIRECTION = EAST
  REFERENCE_LATITUDE = "N/A"
  REFERENCE_LONGITUDE = "N/A"
  SAMPLE_FIRST_PIXEL = 1
  SAMPLE_LAST_PIXEL = 1785
  SAMPLE_PROJECTION_OFFSET = 904.125
  SECOND_STANDARD_PARALLEL = "N/A"
  WESTERNMOST_LONGITUDE = 4.15275
END_OBJECT = IMAGE_MAP_PROJECTION
END
