PDS_VERSION_ID = PDS3
/* FILE DATA ELEMENTS */
RECORD_TYPE = UNDEFINED
/* POINTERS TO DATA OBJECTS */
^IMAGE = ("H8616_0000_GR4.TIF")
/* IDENTIFICATION DATA ELEMENTS */
DATA_SET_ID = "MEX-M-HRSC-4-REFDR-MAPPROJECT-EXT3-V4.0"
DATA_SET_NAME = "MARS EXPRESS HRSC MAP PROJECTED REFDR EXTENSION3 V4.0"
DETECTOR_ID = MEX_HRSC_GREEN
EVENT_TYPE = "MARS-REGIONAL-MAPPING-Vo-Fl-Gl"
INSTRUMENT_HOST_ID = MEX
INSTRUMENT_HOST_NAME = "MARS EXPRESS"
INSTRUMENT_ID = HRSC
INSTRUMENT_NAME = "HIGH RESOLUTION STEREO CAMERA"
MISSION_NAME = "MARS EXPRESS"
MISSION_PHASE_NAME = ME_Phase_21
PROCESSING_LEVEL_ID = 4
PRODUCT_CREATION_TIME = 2023-02-03T21:13:30.000Z
PRODUCT_ID = "H8616_0000_GR4.TIF"
RELEASE_ID = 0005
REVISION_ID = 0000
/* QUALITY DATA ELEMENTS */
DATA_QUALITY_ID = 1
DATA_QUALITY_DESC = "Data calculated based on original SPICE kernels"
/* TIME DATA ELEMENTS */
SPACECRAFT_CLOCK_START_COUNT = "1/0233643873.07311"
SPACECRAFT_CLOCK_STOP_COUNT = "1/0233644167.28703"
START_TIME = 2010-09-27T05:05:13.758Z
STOP_TIME = 2010-09-27T05:08:44.298Z
/* ORBITAL DATA ELEMENTS */
ASCENDING_NODE_LONGITUDE = 52.73
MAXIMUM_RESOLUTION = 0.1188
FOOTPRINT_POINT_LATITUDE = (-54.3613,-54.3366,-54.316,-54.2909, -54.29,-54.299,-54.0504,-53.8021, -53.5544,-53.1822,-52.9343,-52.6871, -52.44,-52.1932,-51.7005,-51.2087, -50.7182,-50.2286,-49.7403,-49.2531, -48.8802,-48.631,-48.382,-48.1335, -47.8797,-47.6252,-47.3713,-47.1175, -46.8591,-46.5996,-46.3404,-45.949, -45.6846,-45.4204,-45.0217,-44.7521, -44.483,-44.0752,-43.8009,-43.5268, -43.2497,-42.9704,-42.6914,-42.4091, -42.125,-41.8416,-41.5532,-41.4089, -41.3392,-41.3491,-41.3604,-41.3664, -41.3728,-41.3791,-41.3792,-41.3817, -41.6712,-41.959,-42.2434,-42.67, -42.9494,-43.2292,-43.5088,-43.7833, -44.0584,-44.3332,-44.6028,-44.873, -45.2774,-45.5423,-45.8075,-46.2045, -46.464,-46.7237,-46.9841,-47.2415, -47.4957,-47.7498,-48.0053,-48.2585, -48.6327,-48.8823,-49.1322,-49.5015, -49.9914,-50.3581,-50.8494,-51.3414, -51.8344,-52.0813,-52.3286,-52.5761, -52.8238,-53.0718,-53.3201,-53.5686, -53.8174,-54.191,-54.3156,-54.3613)
FOOTPRINT_POINT_LONGITUDE = (55.228,54.3743,53.7799,53.1457,53.1259 ,53.0711,53.0968,53.1212,53.1439, 53.1813,53.2054,53.2275,53.2494,53.2708 ,53.3115,53.3504,53.387,53.4221,53.4552 ,53.4866,53.5088,53.5233,53.5378, 53.5517,53.5655,53.5789,53.5915,53.6042 ,53.6163,53.6285,53.6405,53.6573, 53.6678,53.6784,53.6939,53.7037,53.7131 ,53.7282,53.7369,53.7458,53.7537, 53.7615,53.7694,53.7768,53.7837,53.7901 ,53.7963,53.7992,53.8003,54.2089, 54.7276,55.0735,55.4855,56.0711,56.0929 ,56.1073,56.0948,56.0829,56.0704, 56.0509,56.0381,56.0248,56.0124,55.9991 ,55.9858,55.9715,55.9582,55.945,55.9248 ,55.9114,55.8975,55.8762,55.8614, 55.8459,55.8307,55.8153,55.7991,55.7813 ,55.7662,55.7511,55.7273,55.7102, 55.6929,55.6674,55.6357,55.6072,55.5719 ,55.5341,55.4949,55.4748,55.4544, 55.4337,55.4127,55.3911,55.3693,55.3472 ,55.3247,55.29,55.2781,55.228)
ORBIT_NUMBER = 8616
ORBITAL_ECCENTRICITY = 0.578
ORBITAL_INCLINATION = 86.84
ORBITAL_SEMIMAJOR_AXIS = 8772.16
PERIAPSIS_ALTITUDE = 320.42
PERIAPSIS_ARGUMENT_ANGLE = 289.73
PERIAPSIS_TIME = 2010-09-27T05:01:08.000Z
SPACECRAFT_ORIENTATION = (0.0,1.0,0.0)
^MEX_ORIENTATION_DESC = "MEX_ORIENTATION_DESC.TXT"
SPACECRAFT_POINTING_MODE = NADIR
^MEX_POINTING_DESC = "MEX_POINTING_DESC.TXT"
RIGHT_ASCENSION = -1e+32
DECLINATION = -1e+32
OFFSET_ANGLE = -1e+32
SPACECRAFT_SOLAR_DISTANCE = 2.28287e+08
TARGET_NAME = MARS
/* CAMERA DATA ELEMENTS */
DETECTOR_TEMPERATURE = 18.1666
FOCAL_PLANE_TEMPERATURE = 7.5638
INST_CMPRS_NAME = "DISCRETE COSINE TRANSFORMATION (DCT)"
INST_CMPRS_RATIO = 14.1019
INST_CMPRS_QUALITY = 0
INST_CMPRS_QUANTZ_TBL_ID = 0
INSTRUMENT_TEMPERATURE = 11.234
LENS_TEMPERATURE = 8.1755
MACROPIXEL_SIZE = 8
MISSING_FRAMES = 0
PIXEL_SUBSAMPLING_FLAG = N
SIGNAL_CHAIN_ID = 2
/* RADIOMETRIC DATA ELEMENTS */
BANDWIDTH = 88.0
CENTER_FILTER_WAVELENGTH = 538.0
RADIANCE_OFFSET = 1.0785
RADIANCE_SCALING_FACTOR = 0.00563919
REFLECTANCE_SCALING_FACTOR = 0.000253026
MEX:REFLECTANCE_OFFSET = 0.0483912
/* IMAGE OBJECT DEFINITIONS */
OBJECT = IMAGE
  INTERCHANGE_FORMAT = BINARY
  LINES = 7725
  LINE_SAMPLES = 1161
  SAMPLE_TYPE = UNSIGNED_INTEGER
  SAMPLE_BITS = 8
  BANDS = 1
  BAND_STORAGE_TYPE = BAND_SEQUENTIAL
  MAXIMUM = 255
  MEAN = 133.281
  MINIMUM = 1
  STANDARD_DEVIATION = 30.4215
END_OBJECT = IMAGE
/* MAP OBJECT DEFINITIONS */
OBJECT = IMAGE_MAP_PROJECTION
  ^DATA_SET_MAP_PROJECTION_CATALOG= "DSMAP.CAT"
  A_AXIS_RADIUS = 3396.0
  B_AXIS_RADIUS = 3396.0
  C_AXIS_RADIUS = 3396.0
  CENTER_LATITUDE = 0.0
  CENTER_LONGITUDE = 55.0
  COORDINATE_SYSTEM_NAME = PLANETOGRAPHIC
  COORDINATE_SYSTEM_TYPE = "BODY-FIXED ROTATING"
  EASTERNMOST_LONGITUDE = 56.1073
  FIRST_STANDARD_PARALLEL = "N/A"
  LINE_FIRST_PIXEL = 1
  LINE_LAST_PIXEL = 7725
  LINE_PROJECTION_OFFSET = -24502.9375
  MAP_PROJECTION_ROTATION = 0.0
  MAP_PROJECTION_TYPE = SINUSOIDAL
  MAP_RESOLUTION = 592.713803866667
  MAP_SCALE = 0.1
  MAXIMUM_LATITUDE = -41.3392
  MINIMUM_LATITUDE = -54.3613
  POSITIVE_LONGITUDE_DIRECTION = EAST
  REFERENCE_LATITUDE = "N/A"
  REFERENCE_LONGITUDE = "N/A"
  SAMPLE_FIRST_PIXEL = 1
  SAMPLE_LAST_PIXEL = 1161
  SAMPLE_PROJECTION_OFFSET = 673.3125
  SECOND_STANDARD_PARALLEL = "N/A"
  WESTERNMOST_LONGITUDE = 53.0711
END_OBJECT = IMAGE_MAP_PROJECTION
END
