PDS_VERSION_ID = PDS3
/* FILE DATA ELEMENTS */
RECORD_TYPE = UNDEFINED
/* POINTERS TO DATA OBJECTS */
^IMAGE = ("H8610_0000_RE4.TIF")
/* IDENTIFICATION DATA ELEMENTS */
DATA_SET_ID = "MEX-M-HRSC-4-REFDR-MAPPROJECT-EXT3-V4.0"
DATA_SET_NAME = "MARS EXPRESS HRSC MAP PROJECTED REFDR EXTENSION3 V4.0"
DETECTOR_ID = MEX_HRSC_RED
EVENT_TYPE = "MARS-REGIONAL-MAPPING-Te-Im-Fl"
INSTRUMENT_HOST_ID = MEX
INSTRUMENT_HOST_NAME = "MARS EXPRESS"
INSTRUMENT_ID = HRSC
INSTRUMENT_NAME = "HIGH RESOLUTION STEREO CAMERA"
MISSION_NAME = "MARS EXPRESS"
MISSION_PHASE_NAME = ME_Phase_21
PROCESSING_LEVEL_ID = 4
PRODUCT_CREATION_TIME = 2023-02-03T21:13:30.000Z
PRODUCT_ID = "H8610_0000_RE4.TIF"
RELEASE_ID = 0005
REVISION_ID = 0000
/* QUALITY DATA ELEMENTS */
DATA_QUALITY_ID = 1
DATA_QUALITY_DESC = "Data calculated based on original SPICE kernels"
/* TIME DATA ELEMENTS */
SPACECRAFT_CLOCK_START_COUNT = "1/0233493018.09057"
SPACECRAFT_CLOCK_STOP_COUNT = "1/0233493492.35769"
START_TIME = 2010-09-25T11:10:28.326Z
STOP_TIME = 2010-09-25T11:15:12.421Z
/* ORBITAL DATA ELEMENTS */
ASCENDING_NODE_LONGITUDE = 52.85
MAXIMUM_RESOLUTION = 0.0797
FOOTPRINT_POINT_LATITUDE = (-38.9481,-38.9409,-38.9312,-38.9027, -38.902,-38.8654,-38.4336,-37.8527, -37.1143,-36.6636,-36.0543,-35.2851, -34.9741,-34.5017,-34.1856,-33.7042, -33.3824,-33.0553,-32.7289,-32.3967, -32.0645,-31.7294,-31.3908,-31.0483, -30.5312,-30.1846,-29.8336,-29.303, -28.945,-28.5823,-28.2193,-27.8518, -27.4804,-27.1078,-26.7307,-26.3501, -25.9674,-25.5815,-25.191,-24.7976, -24.4007,-24.0001,-23.5948,-23.1861, -22.7738,-22.3579,-21.7257,-21.514, -21.4306,-21.4353,-21.4368,-21.4322, -21.4286,-21.4211,-21.4217,-21.4234, -22.062,-22.483,-22.8987,-23.3103, -23.7182,-24.1228,-24.5224,-25.1205, -25.5129,-25.9013,-26.2863,-26.6685, -27.0472,-27.4223,-27.7953,-28.1649, -28.7118,-29.0726,-29.4333,-29.7874, -30.1403,-30.4884,-30.8355,-31.1799, -31.691,-32.0273,-32.3609,-32.6978, -33.1874,-33.5143,-33.837,-34.1597, -34.4769,-34.9523,-35.2662,-35.5805, -36.1904,-36.4992,-37.094,-37.543, -38.1349,-38.7162,-38.8632,-38.9481)
FOOTPRINT_POINT_LONGITUDE = (309.67,309.099,308.587,307.58,307.56, 307.539,307.546,307.553,307.559,307.563 ,307.564,307.567,307.567,307.567, 307.566,307.565,307.563,307.561,307.559 ,307.556,307.553,307.551,307.546, 307.542,307.534,307.53,307.524,307.515, 307.508,307.501,307.493,307.485,307.476 ,307.467,307.458,307.448,307.438, 307.427,307.416,307.404,307.391,307.378 ,307.365,307.35,307.335,307.32,307.296, 307.287,307.284,308.009,308.682,309.251 ,309.639,310.027,310.053,310.061, 310.054,310.049,310.044,310.039,310.034 ,310.029,310.024,310.015,310.009, 310.003,309.997,309.991,309.985,309.978 ,309.972,309.965,309.955,309.948, 309.941,309.934,309.927,309.92,309.912, 309.904,309.893,309.886,309.878,309.868 ,309.857,309.849,309.841,309.832, 309.824,309.81,309.801,309.791,309.774, 309.763,309.748,309.732,309.711,309.69, 309.685,309.67)
ORBIT_NUMBER = 8610
ORBITAL_ECCENTRICITY = 0.578
ORBITAL_INCLINATION = 86.83
ORBITAL_SEMIMAJOR_AXIS = 8770.78
PERIAPSIS_ALTITUDE = 320.83
PERIAPSIS_ARGUMENT_ANGLE = 290.76
PERIAPSIS_TIME = 2010-09-25T11:03:14.000Z
SPACECRAFT_ORIENTATION = (0.0,1.0,0.0)
^MEX_ORIENTATION_DESC = "MEX_ORIENTATION_DESC.TXT"
SPACECRAFT_POINTING_MODE = ACROSSTRACK
^MEX_POINTING_DESC = "MEX_POINTING_DESC.TXT"
RIGHT_ASCENSION = -1e+32
DECLINATION = -1e+32
OFFSET_ANGLE = 0.1
SPACECRAFT_SOLAR_DISTANCE = 2.28626e+08
TARGET_NAME = MARS
/* CAMERA DATA ELEMENTS */
DETECTOR_TEMPERATURE = 17.9627
FOCAL_PLANE_TEMPERATURE = 7.3599
INST_CMPRS_NAME = "DISCRETE COSINE TRANSFORMATION (DCT)"
INST_CMPRS_RATIO = 22.1529
INST_CMPRS_QUALITY = 0
INST_CMPRS_QUANTZ_TBL_ID = 0
INSTRUMENT_TEMPERATURE = 10.6223
LENS_TEMPERATURE = 7.5638
MACROPIXEL_SIZE = 4
MISSING_FRAMES = 0
PIXEL_SUBSAMPLING_FLAG = N
SIGNAL_CHAIN_ID = 2
/* RADIOMETRIC DATA ELEMENTS */
BANDWIDTH = 48.0
CENTER_FILTER_WAVELENGTH = 748.0
RADIANCE_OFFSET = 0.735683
RADIANCE_SCALING_FACTOR = 0.00395027
REFLECTANCE_SCALING_FACTOR = 0.000471197
MEX:REFLECTANCE_OFFSET = 0.0877539
/* IMAGE OBJECT DEFINITIONS */
OBJECT = IMAGE
  INTERCHANGE_FORMAT = BINARY
  LINES = 10371
  LINE_SAMPLES = 1683
  SAMPLE_TYPE = UNSIGNED_INTEGER
  SAMPLE_BITS = 8
  BANDS = 1
  BAND_STORAGE_TYPE = BAND_SEQUENTIAL
  MAXIMUM = 255
  MEAN = 117.954
  MINIMUM = 1
  STANDARD_DEVIATION = 43.887
END_OBJECT = IMAGE
/* MAP OBJECT DEFINITIONS */
OBJECT = IMAGE_MAP_PROJECTION
  ^DATA_SET_MAP_PROJECTION_CATALOG= "DSMAP.CAT"
  A_AXIS_RADIUS = 3396.0
  B_AXIS_RADIUS = 3396.0
  C_AXIS_RADIUS = 3396.0
  CENTER_LATITUDE = 0.0
  CENTER_LONGITUDE = 309.0
  COORDINATE_SYSTEM_NAME = PLANETOGRAPHIC
  COORDINATE_SYSTEM_TYPE = "BODY-FIXED ROTATING"
  EASTERNMOST_LONGITUDE = 310.061
  FIRST_STANDARD_PARALLEL = "N/A"
  LINE_FIRST_PIXEL = 1
  LINE_LAST_PIXEL = 10371
  LINE_PROJECTION_OFFSET = -12688.625
  MAP_PROJECTION_ROTATION = 0.0
  MAP_PROJECTION_TYPE = SINUSOIDAL
  MAP_RESOLUTION = 592.713803866667
  MAP_SCALE = 0.1
  MAXIMUM_LATITUDE = -21.4211
  MINIMUM_LATITUDE = -38.9481
  POSITIVE_LONGITUDE_DIRECTION = EAST
  REFERENCE_LATITUDE = "N/A"
  REFERENCE_LONGITUDE = "N/A"
  SAMPLE_FIRST_PIXEL = 1
  SAMPLE_LAST_PIXEL = 1683
  SAMPLE_PROJECTION_OFFSET = 1027.875
  SECOND_STANDARD_PARALLEL = "N/A"
  WESTERNMOST_LONGITUDE = 307.284
END_OBJECT = IMAGE_MAP_PROJECTION
END
