PDS_VERSION_ID = PDS3
/* FILE DATA ELEMENTS */
RECORD_TYPE = UNDEFINED
/* POINTERS TO DATA OBJECTS */
^IMAGE = ("H8604_0000_IR4.TIF")
/* IDENTIFICATION DATA ELEMENTS */
DATA_SET_ID = "MEX-M-HRSC-4-REFDR-MAPPROJECT-EXT3-V4.0"
DATA_SET_NAME = "MARS EXPRESS HRSC MAP PROJECTED REFDR EXTENSION3 V4.0"
DETECTOR_ID = MEX_HRSC_IR
EVENT_TYPE = "MARS-REGIONAL-MAPPING-Im-Fl"
INSTRUMENT_HOST_ID = MEX
INSTRUMENT_HOST_NAME = "MARS EXPRESS"
INSTRUMENT_ID = HRSC
INSTRUMENT_NAME = "HIGH RESOLUTION STEREO CAMERA"
MISSION_NAME = "MARS EXPRESS"
MISSION_PHASE_NAME = ME_Phase_21
PROCESSING_LEVEL_ID = 4
PRODUCT_CREATION_TIME = 2023-02-03T21:13:30.000Z
PRODUCT_ID = "H8604_0000_IR4.TIF"
RELEASE_ID = 0005
REVISION_ID = 0000
/* QUALITY DATA ELEMENTS */
DATA_QUALITY_ID = 1
DATA_QUALITY_DESC = "Data calculated based on original SPICE kernels"
/* TIME DATA ELEMENTS */
SPACECRAFT_CLOCK_START_COUNT = "1/0233341790.09058"
SPACECRAFT_CLOCK_STOP_COUNT = "1/0233342103.20176"
START_TIME = 2010-09-23T17:11:01.842Z
STOP_TIME = 2010-09-23T17:14:52.222Z
/* ORBITAL DATA ELEMENTS */
ASCENDING_NODE_LONGITUDE = 52.96
MAXIMUM_RESOLUTION = 0.0701
FOOTPRINT_POINT_LATITUDE = (-47.5373,-47.5065,-47.4805,-47.4524, -47.4515,-47.4891,-47.1523,-46.6886, -46.3405,-45.6355,-45.1631,-44.9227, -44.6784,-44.3165,-44.0732,-43.7069, -43.338,-43.0925,-42.8508,-42.605, -42.3544,-41.9792,-41.598,-41.3437, -41.0878,-40.8287,-40.5701,-40.1772, -39.9139,-39.6478,-39.3793,-39.1115, -38.8374,-38.426,-38.0079,-37.6009, -37.3236,-37.0424,-36.7519,-36.3304, -36.0482,-35.7608,-35.3288,-35.0379, -34.7438,-34.5959,-34.5425,-34.5535, -34.5692,-34.5773,-34.5875,-34.594, -34.5993,-34.5996,-34.601,-35.0429, -35.3343,-35.6259,-35.9107,-36.1991, -36.4846,-36.7686,-37.0489,-37.3278, -37.6059,-37.8873,-38.1601,-38.4361, -38.7085,-38.9827,-39.2551,-39.5218, -39.7905,-40.0537,-40.3193,-40.7141, -41.1052,-41.3658,-41.6196,-41.8645, -42.1203,-42.3719,-42.6244,-43.0002, -43.2495,-43.6213,-43.8657,-44.1104, -44.4762,-44.7157,-44.956,-45.201, -45.4394,-45.9121,-46.1507,-46.6142, -47.0773,-47.4187,-47.5328,-47.5373)
FOOTPRINT_POINT_LONGITUDE = (204.624,203.756,203.111,202.477, 202.458,202.456,202.465,202.475,202.482 ,202.494,202.501,202.504,202.507, 202.511,202.513,202.516,202.519,202.521 ,202.522,202.523,202.524,202.524, 202.524,202.524,202.523,202.523,202.522 ,202.52,202.518,202.516,202.514,202.512 ,202.509,202.505,202.5,202.494,202.49, 202.485,202.481,202.474,202.468,202.463 ,202.453,202.447,202.44,202.437,202.436 ,202.808,203.398,203.779,204.38,204.673 ,204.967,204.991,204.999,204.99,204.984 ,204.978,204.969,204.964,204.958, 204.952,204.945,204.937,204.932,204.928 ,204.921,204.916,204.91,204.907,204.904 ,204.897,204.892,204.885,204.881, 204.874,204.865,204.862,204.853,204.835 ,204.83,204.823,204.816,204.808,204.803 ,204.793,204.786,204.779,204.769, 204.761,204.754,204.751,204.745,204.73, 204.724,204.708,204.689,204.675,204.671 ,204.624)
ORBIT_NUMBER = 8604
ORBITAL_ECCENTRICITY = 0.578
ORBITAL_INCLINATION = 86.84
ORBITAL_SEMIMAJOR_AXIS = 8772.18
PERIAPSIS_ALTITUDE = 320.46
PERIAPSIS_ARGUMENT_ANGLE = 291.76
PERIAPSIS_TIME = 2010-09-23T17:05:13.000Z
SPACECRAFT_ORIENTATION = (0.0,1.0,0.0)
^MEX_ORIENTATION_DESC = "MEX_ORIENTATION_DESC.TXT"
SPACECRAFT_POINTING_MODE = ACROSSTRACK
^MEX_POINTING_DESC = "MEX_POINTING_DESC.TXT"
RIGHT_ASCENSION = -1e+32
DECLINATION = -1e+32
OFFSET_ANGLE = -0.9
SPACECRAFT_SOLAR_DISTANCE = 2.28965e+08
TARGET_NAME = MARS
/* CAMERA DATA ELEMENTS */
DETECTOR_TEMPERATURE = 18.5744
FOCAL_PLANE_TEMPERATURE = 7.5638
INST_CMPRS_NAME = "DISCRETE COSINE TRANSFORMATION (DCT)"
INST_CMPRS_RATIO = 6.9073
INST_CMPRS_QUALITY = 0
INST_CMPRS_QUANTZ_TBL_ID = 0
INSTRUMENT_TEMPERATURE = 11.0301
LENS_TEMPERATURE = 8.1755
MACROPIXEL_SIZE = 4
MISSING_FRAMES = 0
PIXEL_SUBSAMPLING_FLAG = N
SIGNAL_CHAIN_ID = 2
/* RADIOMETRIC DATA ELEMENTS */
BANDWIDTH = 81.0
CENTER_FILTER_WAVELENGTH = 955.5
RADIANCE_OFFSET = 0.448117
RADIANCE_SCALING_FACTOR = 0.00578883
REFLECTANCE_SCALING_FACTOR = 0.000654718
MEX:REFLECTANCE_OFFSET = 0.0506822
/* IMAGE OBJECT DEFINITIONS */
OBJECT = IMAGE
  INTERCHANGE_FORMAT = BINARY
  LINES = 15400
  LINE_SAMPLES = 2309
  SAMPLE_TYPE = UNSIGNED_INTEGER
  SAMPLE_BITS = 8
  BANDS = 1
  BAND_STORAGE_TYPE = BAND_SEQUENTIAL
  MAXIMUM = 255
  MEAN = 80.1751
  MINIMUM = 1
  STANDARD_DEVIATION = 21.3502
END_OBJECT = IMAGE
/* MAP OBJECT DEFINITIONS */
OBJECT = IMAGE_MAP_PROJECTION
  ^DATA_SET_MAP_PROJECTION_CATALOG= "DSMAP.CAT"
  A_AXIS_RADIUS = 3396.0
  B_AXIS_RADIUS = 3396.0
  C_AXIS_RADIUS = 3396.0
  CENTER_LATITUDE = 0.0
  CENTER_LONGITUDE = 204.0
  COORDINATE_SYSTEM_NAME = PLANETOGRAPHIC
  COORDINATE_SYSTEM_TYPE = "BODY-FIXED ROTATING"
  EASTERNMOST_LONGITUDE = 204.999
  FIRST_STANDARD_PARALLEL = "N/A"
  LINE_FIRST_PIXEL = 1
  LINE_LAST_PIXEL = 15400
  LINE_PROJECTION_OFFSET = -40995.125
  MAP_PROJECTION_ROTATION = 0.0
  MAP_PROJECTION_TYPE = SINUSOIDAL
  MAP_RESOLUTION = 1185.42760773333
  MAP_SCALE = 0.05
  MAXIMUM_LATITUDE = -34.5425
  MINIMUM_LATITUDE = -47.5373
  POSITIVE_LONGITUDE_DIRECTION = EAST
  REFERENCE_LATITUDE = "N/A"
  REFERENCE_LONGITUDE = "N/A"
  SAMPLE_FIRST_PIXEL = 1
  SAMPLE_LAST_PIXEL = 2309
  SAMPLE_PROJECTION_OFFSET = 1450.625
  SECOND_STANDARD_PARALLEL = "N/A"
  WESTERNMOST_LONGITUDE = 202.436
END_OBJECT = IMAGE_MAP_PROJECTION
END
