PDS_VERSION_ID = PDS3
/* FILE DATA ELEMENTS */
RECORD_TYPE = UNDEFINED
/* POINTERS TO DATA OBJECTS */
^IMAGE = ("H8602_0001_S24.TIF")
/* IDENTIFICATION DATA ELEMENTS */
DATA_SET_ID = "MEX-M-HRSC-4-REFDR-MAPPROJECT-EXT3-V4.0"
DATA_SET_NAME = "MARS EXPRESS HRSC MAP PROJECTED REFDR EXTENSION3 V4.0"
DETECTOR_ID = MEX_HRSC_S2
EVENT_TYPE = "MARS-REGIONAL-MAPPING-Im-Fl-La"
INSTRUMENT_HOST_ID = MEX
INSTRUMENT_HOST_NAME = "MARS EXPRESS"
INSTRUMENT_ID = HRSC
INSTRUMENT_NAME = "HIGH RESOLUTION STEREO CAMERA"
MISSION_NAME = "MARS EXPRESS"
MISSION_PHASE_NAME = ME_Phase_21
PROCESSING_LEVEL_ID = 4
PRODUCT_CREATION_TIME = 2023-02-03T21:13:30.000Z
PRODUCT_ID = "H8602_0001_S24.TIF"
RELEASE_ID = 0005
REVISION_ID = 0000
/* QUALITY DATA ELEMENTS */
DATA_QUALITY_ID = 1
DATA_QUALITY_DESC = "Data calculated based on original SPICE kernels"
/* TIME DATA ELEMENTS */
SPACECRAFT_CLOCK_START_COUNT = "1/0233291622.09062"
SPACECRAFT_CLOCK_STOP_COUNT = "1/0233292024.07026"
START_TIME = 2010-09-23T03:13:44.768Z
STOP_TIME = 2010-09-23T03:17:20.890Z
/* ORBITAL DATA ELEMENTS */
ASCENDING_NODE_LONGITUDE = 53.0
MAXIMUM_RESOLUTION = 0.043
FOOTPRINT_POINT_LATITUDE = (-34.8282,-34.8244,-34.8193,-34.8126, -34.8045,-34.795,-34.7794,-34.7787, -34.7381,-34.0468,-33.5851,-33.1024, -32.7434,-32.3762,-31.887,-31.3893, -31.011,-30.5049,-30.1234,-29.8671, -29.6073,-29.2168,-28.9529,-28.6898, -28.4223,-28.0209,-27.7491,-27.4782, -27.0674,-26.7932,-26.5146,-26.2359, -25.9545,-25.673,-25.384,-25.0915, -24.802,-24.5198,-24.223,-23.9283, -23.6303,-23.3339,-23.0325,-22.7303, -22.423,-22.1133,-21.8073,-21.4946, -21.3382,-21.2805,-21.2853,-21.2893, -21.2928,-21.2963,-21.2959,-21.2949, -21.2855,-21.2852,-21.2859,-21.5992, -21.9188,-22.2267,-22.5339,-22.8383, -23.1407,-23.4431,-23.7463,-24.0431, -24.3377,-24.7768,-25.0682,-25.4984, -25.7857,-26.0684,-26.4901,-26.7701, -27.0475,-27.3209,-27.5971,-27.8692, -28.1412,-28.4087,-28.6762,-28.9409, -29.2044,-29.6001,-29.8578,-30.1147, -30.4984,-31.1341,-31.6356,-32.1328, -32.4977,-32.8639,-33.34,-33.692, -34.1666,-34.6272,-34.7406,-34.8282)
FOOTPRINT_POINT_LONGITUDE = (47.9716,47.6422,47.3124,46.982,46.6514 ,46.3201,45.8627,45.8418,45.8191,45.823 ,45.826,45.8235,45.8228,45.8203,45.8178 ,45.8128,45.8091,45.8037,45.7999, 45.7971,45.7936,45.7882,45.7841,45.78, 45.7755,45.7683,45.7632,45.758,45.75, 45.7445,45.7385,45.7322,45.726,45.7196, 45.7112,45.7016,45.6939,45.689,45.6796, 45.6708,45.662,45.6535,45.6442,45.6347, 45.6239,45.6128,45.6031,45.5921,45.5864 ,45.5842,45.8937,46.332,46.718,47.1548, 47.437,47.7701,48.2067,48.2324,48.2416, 48.2381,48.2326,48.2295,48.2258,48.2225 ,48.2186,48.2145,48.2094,48.2055, 48.2014,48.195,48.1906,48.1842,48.1793, 48.175,48.168,48.1632,48.1582,48.154, 48.1484,48.1434,48.1381,48.1331,48.1281 ,48.1229,48.1177,48.1089,48.1041, 48.0991,48.0908,48.0759,48.0638,48.0515 ,48.0427,48.0333,48.0217,48.0139, 47.9999,47.9884,47.9857,47.9716)
ORBIT_NUMBER = 8602
ORBITAL_ECCENTRICITY = 0.578
ORBITAL_INCLINATION = 86.83
ORBITAL_SEMIMAJOR_AXIS = 8775.26
PERIAPSIS_ALTITUDE = 320.76
PERIAPSIS_ARGUMENT_ANGLE = 292.11
PERIAPSIS_TIME = 2010-09-23T03:05:55.000Z
SPACECRAFT_ORIENTATION = (0.0,1.0,0.0)
^MEX_ORIENTATION_DESC = "MEX_ORIENTATION_DESC.TXT"
SPACECRAFT_POINTING_MODE = ACROSSTRACK
^MEX_POINTING_DESC = "MEX_POINTING_DESC.TXT"
RIGHT_ASCENSION = -1e+32
DECLINATION = -1e+32
OFFSET_ANGLE = 0.2
SPACECRAFT_SOLAR_DISTANCE = 2.29078e+08
TARGET_NAME = MARS
/* CAMERA DATA ELEMENTS */
DETECTOR_TEMPERATURE = 19.7978
FOCAL_PLANE_TEMPERATURE = 7.9716
INST_CMPRS_NAME = "DISCRETE COSINE TRANSFORMATION (DCT)"
INST_CMPRS_RATIO = 11.5407
INST_CMPRS_QUALITY = 0
INST_CMPRS_QUANTZ_TBL_ID = 0
INSTRUMENT_TEMPERATURE = 50.9945
LENS_TEMPERATURE = 8.3794
MACROPIXEL_SIZE = 2
MISSING_FRAMES = 0
PIXEL_SUBSAMPLING_FLAG = N
SIGNAL_CHAIN_ID = 1
/* RADIOMETRIC DATA ELEMENTS */
BANDWIDTH = 178.0
CENTER_FILTER_WAVELENGTH = 679.0
RADIANCE_OFFSET = 2.37269
RADIANCE_SCALING_FACTOR = 0.0152258
REFLECTANCE_SCALING_FACTOR = 0.000423128
MEX:REFLECTANCE_OFFSET = 0.0659375
/* IMAGE OBJECT DEFINITIONS */
OBJECT = IMAGE
  INTERCHANGE_FORMAT = BINARY
  LINES = 16028
  LINE_SAMPLES = 3249
  SAMPLE_TYPE = UNSIGNED_INTEGER
  SAMPLE_BITS = 8
  BANDS = 1
  BAND_STORAGE_TYPE = BAND_SEQUENTIAL
  MAXIMUM = 255
  MEAN = 132.68
  MINIMUM = 1
  STANDARD_DEVIATION = 23.4031
END_OBJECT = IMAGE
/* MAP OBJECT DEFINITIONS */
OBJECT = IMAGE_MAP_PROJECTION
  ^DATA_SET_MAP_PROJECTION_CATALOG= "DSMAP.CAT"
  A_AXIS_RADIUS = 3396.0
  B_AXIS_RADIUS = 3396.0
  C_AXIS_RADIUS = 3396.0
  CENTER_LATITUDE = 0.0
  CENTER_LONGITUDE = 47.0
  COORDINATE_SYSTEM_NAME = PLANETOGRAPHIC
  COORDINATE_SYSTEM_TYPE = "BODY-FIXED ROTATING"
  EASTERNMOST_LONGITUDE = 48.2416
  FIRST_STANDARD_PARALLEL = "N/A"
  LINE_FIRST_PIXEL = 1
  LINE_LAST_PIXEL = 16028
  LINE_PROJECTION_OFFSET = -25207.25
  MAP_PROJECTION_ROTATION = 0.0
  MAP_PROJECTION_TYPE = SINUSOIDAL
  MAP_RESOLUTION = 1185.42760773333
  MAP_SCALE = 0.05
  MAXIMUM_LATITUDE = -21.2805
  MINIMUM_LATITUDE = -34.8282
  POSITIVE_LONGITUDE_DIRECTION = EAST
  REFERENCE_LATITUDE = "N/A"
  REFERENCE_LONGITUDE = "N/A"
  SAMPLE_FIRST_PIXEL = 1
  SAMPLE_LAST_PIXEL = 3249
  SAMPLE_PROJECTION_OFFSET = 1732.75
  SECOND_STANDARD_PARALLEL = "N/A"
  WESTERNMOST_LONGITUDE = 45.5842
END_OBJECT = IMAGE_MAP_PROJECTION
END
